Workbook

Sheet 2월4째주
A1: ◈ 주 간 식 단 표 ◈ | H1: 2월 4째주
A2: <2022년 2월 21일~ 2월 27일>
A3: 요일 | B3: 월(21일) | C3: 화(22일) | D3: 수(23일) | E3: 목(24일) | F3: 금(25일) | G3: 토(26일) | H3: 일(27일)
A4: 아침 | B4: 잡곡밥/흰죽 | C4: 잡곡밥/흰죽 | D4: 잡곡밥/흰죽 | E4: 잡곡밥/흰죽 | F4: 잡곡밥/흰죽 | G4: 잡곡밥/흰죽 | H4: 잡곡밥/흰죽
B5: 소고기무국 | C5: 우동장국 | D5: 배추국 | E5: 누룽지 | F5: 오징어무국 | G5: 옥수수스프 | H5: 감자수제비국
B6: 메추리알볼어묵조림 | C6: 돈민찌무조림 | D6: 닭살야채볶음 | E6: 돈채새송이볶음 | F6: 사각햄채소볶음 | G6: 두부조림 | H6: 참치양배추볶음
B7: 배추나물 | C7: 느타리버섯볶음 | D7: 쑥갓두부무침 | E7: 근대나물 | F7: 마늘쫑통마늘볶음 | G7: 연근곤약조림 | H7: 무나물
B8: 양념깻잎지 | C8: 낙지젓갈 | D8: 짜사이무침 | E8: 더덕지 | F8: 구이김 | G8: 오복지 | H8: 고들빼기무침
B9: 포기김치/백김치 | C9: 포기김치/백김치 | D9: 포기김치/백김치 | E9: 포기김치/백김치 | F9: 포기김치/백김치 | G9: 포기김치/백김치 | H9: 포기김치/백김치
A10: 점심 | B10: 잡곡밧/계란야채죽 | C10: 잡곡밥/흑임자죽 | D10: 잡곡밥/표고죽 | E10: 잡곡밥/호두죽 | F10: 잡곡밥/닭죽 | G10: 잡곡밥/단호박죽 | H10: 잡곡밥/옥수수죽
B11: 열무된장국 | C11: 김치두부국 | D11: 콩나물국 | E11: 닭개장 | F11: 얼갈이해장국 | G11: 아욱국 | H11: 북어무국
B12: 닭갈비 | C12: 제육볶음 | D12: 대구강정 | E12: 소세지전 | F12: 짜장소스 | G12: 간장불고기 | H12: 닭볶음탕
B13: 가지호박나물 | C13: 우엉채조림 | D13: 미역줄기맛살볶음 | E13: 열무나물 | F13: 단무지무침 | G13: 청경채겉절이 | H13: 시래기된장지짐
B14: 쌈무무침 | C14: 양파적채초절임 | D14: 오이달래무침 | E14: 알감자조림 | F14: 탕수육 | G14: 모듬피클 | H14: 과일샐러드
B15: 포기김치/백김치 | C15: 포기김치/백김치 | D15: 포기김치/백김치 | E15: 포기김치/백김치 | F15: 포기김치/백김치 | G15: 포기김치/백김치 | H15: 포기김치/백김치
A16: 간식 | B16: 천혜향.주스 | C16: 구운고구마.음료 | D16: 감귤유과.음료 | E16: 요플레 | F16: 카스텔라.음료 | G16: 사과.주스 | H16: 그린비아
A17: 저녁 | B17: 잡곡밥/야채죽 | C17: 잡곡밥/야채죽 | D17: 잡곡밥/야채죽 | E17: 잡곡밥/야채죽 | F17: 잡곡밥/야채죽 | G17: 잡곡밥/야채죽 | H17: 잡곡밥/야채죽
B18: 홍합살미역국 | C18: 시금치된장국 | D18: 다시마채국 | E18: 청국장찌개 | F18: 돈육김치찌개 | G18: 계란파국 | H18: 근대된장국
B19: 마파두부 | C19: 동그랑땡전 | D19: 돼지갈비찜 | E19: 계란찜 | F19: 고등어무조림 | G19: 치킨까스/치킨양념소스 | H19: 미트볼라따뚜이
B20: 천사채샐러드 | C20: 미역무침 | D20: 도라지나물 | E20: 고구마순볶음 | F20: 토란대볶음 | G20: 건파래무침 | H20: 계란장조림
B21: 얼갈이겉절이 | C21: 유채나물 | D21: 부추양배추무침 | E21: 오이지무침 | F21: 명엽채볶음 | G21: 숙주나물 | H21: 치커리생채
B22: 포기김치/백김치 | C22: 포기김치/백김치 | D22: 포기김치/백김치 | E22: 포기김치/백김치 | F22: 포기김치/백김치 | G22: 포기김치/백김치 | H22: 포기김치/백김치
A24: * 원산지 | B24: 쌀,죽,누룽지:국내산,미국산/ 김치-배추,고춧가루:중국산 / 소고기: 호주산,미국산 / 돼지고기: 국내산 / 닭고기:국내산,브라질산 / 훈제오리:중국산 꽃게: 중국산/ 고등어:국내산,노르웨이산 / 가자미:러시아산 /코다리,동태:러시아산 / 조기:중국산 or 동남아산/ 삼치: 국내산/ 갈치: 인도네시아산 오징어: 중국산,칠레산,페루산 / 콩,두부,순두부,콩비지: 외국산 / 낙지: 태국산 / 오징어젓- 중국산/ 가다랑어:원양산/ 기타: 미트볼-돈육,계육: 국내산 / 돈까스,동그랑땡 - 돈육:국내산 / 탕수육-돈육:국내산 / 부대햄,베이컨-외국산 / 햄,소시지-계육,돈육:국내산
A27: * 상기식단은 시장사정에 따라 일부 변동될 수 있습니다. (노인 평균영양권장량 열량 : 1800~2000kcal) | G27: (주)참조은 케이터링

Sheet 2월4째주(영양산출)
A1: ◈ 주 간 식 단 표 ◈ | H1: ='2월4째주'!H1 -> 2월 4째주
A2: ='2월4째주'!A2:H2 -> <2022년 2월 21일~ 2월 27일>
A3: 요일 | B3: ='2월4째주'!B3 -> 월(21일) | C3: ='2월4째주'!C3 -> 화(22일) | D3: ='2월4째주'!D3 -> 수(23일) | E3: ='2월4째주'!E3 -> 목(24일) | F3: ='2월4째주'!F3 -> 금(25일) | G3: ='2월4째주'!G3 -> 토(26일) | H3: ='2월4째주'!H3 -> 일(27일)
A4: 아침 | B4: 잡곡밥/ 흰죽 | C4: 잡곡밥/ 흰죽 | D4: 잡곡밥/ 흰죽 | E4: 잡곡밥/ 흰죽 | F4: 잡곡밥/ 흰죽 | G4: 잡곡밥/ 흰죽 | H4: 잡곡밥/흰죽
B5: ='2월4째주'!B5 -> 소고기무국 | C5: ='2월4째주'!C5 -> 우동장국 | D5: ='2월4째주'!D5 -> 배추국 | E5: ='2월4째주'!E5 -> 누룽지 | F5: ='2월4째주'!F5 -> 오징어무국 | G5: ='2월4째주'!G5 -> 옥수수스프 | H5: ='2월4째주'!H5 -> 감자수제비국
B6: ='2월4째주'!B6 -> 메추리알볼어묵조림 | C6: ='2월4째주'!C6 -> 돈민찌무조림 | D6: ='2월4째주'!D6 -> 닭살야채볶음 | E6: ='2월4째주'!E6 -> 돈채새송이볶음 | F6: ='2월4째주'!F6 -> 사각햄채소볶음 | G6: ='2월4째주'!G6 -> 두부조림 | H6: ='2월4째주'!H6 -> 참치양배추볶음
B7: ='2월4째주'!B7 -> 배추나물 | C7: ='2월4째주'!C7 -> 느타리버섯볶음 | D7: ='2월4째주'!D7 -> 쑥갓두부무침 | E7: ='2월4째주'!E7 -> 근대나물 | F7: ='2월4째주'!F7 -> 마늘쫑통마늘볶음 | G7: ='2월4째주'!G7 -> 연근곤약조림 | H7: ='2월4째주'!H7 -> 무나물
B8: ='2월4째주'!B8 -> 양념깻잎지 | C8: ='2월4째주'!C8 -> 낙지젓갈 | D8: ='2월4째주'!D8 -> 짜사이무침 | E8: ='2월4째주'!E8 -> 더덕지 | F8: 된장깻잎지 | G8: ='2월4째주'!G8 -> 오복지 | H8: ='2월4째주'!H8 -> 고들빼기무침
B9: 포기김치/백김치 | C9: 포기김치/백김치 | D9: 포기김치/백김치 | E9: 포기김치/백김치 | F9: 포기김치/백김치 | G9: 포기김치/백김치 | H9: 포기김치/백김치
B10: 630 | C10: 621 | D10: 640 | E10: 638 | F10: 675 | G10: 620 | H10: 680
A11: 점심 | B11: ='2월4째주'!B10 -> 잡곡밧/계란야채죽 | C11: ='2월4째주'!C10 -> 잡곡밥/흑임자죽 | D11: ='2월4째주'!D10 -> 잡곡밥/표고죽 | E11: ='2월4째주'!E10 -> 잡곡밥/호두죽 | F11: ='2월4째주'!F10 -> 잡곡밥/닭죽 | G11: ='2월4째주'!G10 -> 잡곡밥/단호박죽 | H11: ='2월4째주'!H10 -> 잡곡밥/옥수수죽
B12: ='2월4째주'!B11 -> 열무된장국 | C12: ='2월4째주'!C11 -> 김치두부국 | D12: ='2월4째주'!D11 -> 콩나물국 | E12: ='2월4째주'!E11 -> 닭개장 | F12: ='2월4째주'!F11 -> 얼갈이해장국 | G12: ='2월4째주'!G11 -> 아욱국 | H12: ='2월4째주'!H11 -> 북어무국
B13: ='2월4째주'!B12 -> 닭갈비 | C13: ='2월4째주'!C12 -> 제육볶음 | D13: ='2월4째주'!D12 -> 대구강정 | E13: ='2월4째주'!E12 -> 소세지전 | F13: ='2월4째주'!F12 -> 짜장소스 | G13: ='2월4째주'!G12 -> 간장불고기 | H13: ='2월4째주'!H12 -> 닭볶음탕
B14: ='2월4째주'!B13 -> 가지호박나물 | C14: ='2월4째주'!C13 -> 우엉채조림 | D14: ='2월4째주'!D13 -> 미역줄기맛살볶음 | E14: ='2월4째주'!E13 -> 열무나물 | F14: ='2월4째주'!F13 -> 단무지무침 | G14: ='2월4째주'!G13 -> 청경채겉절이 | H14: ='2월4째주'!H13 -> 시래기된장지짐
B15: ='2월4째주'!B14 -> 쌈무무침 | C15: ='2월4째주'!C14 -> 양파적채초절임 | D15: ='2월4째주'!D14 -> 오이달래무침 | E15: ='2월4째주'!E14 -> 알감자조림 | F15: ='2월4째주'!F14 -> 탕수육 | G15: ='2월4째주'!G14 -> 모듬피클 | H15: ='2월4째주'!H14 -> 과일샐러드
B16: 포기김치/백김치 | C16: 포기김치/백김치 | D16: 포기김치/백김치 | E16: 포기김치/백김치 | F16: 포기김치/백김치 | G16: 포기김치/백김치 | H16: 포기김치/백김치
B17: 638 | C17: 710 | D17: 715 | E17: 650 | F17: 712 | G17: 680 | H17: 650
A18: 저녁 | B18: ='2월4째주'!B17 -> 잡곡밥/야채죽 | C18: ='2월4째주'!C17 -> 잡곡밥/야채죽 | D18: ='2월4째주'!D17 -> 잡곡밥/야채죽 | E18: ='2월4째주'!E17 -> 잡곡밥/야채죽 | F18: ='2월4째주'!F17 -> 잡곡밥/야채죽 | G18: ='2월4째주'!G17 -> 잡곡밥/야채죽 | H18: ='2월4째주'!H17 -> 잡곡밥/야채죽
B19: ='2월4째주'!B18 -> 홍합살미역국 | C19: ='2월4째주'!C18 -> 시금치된장국 | D19: ='2월4째주'!D18 -> 다시마채국 | E19: ='2월4째주'!E18 -> 청국장찌개 | F19: ='2월4째주'!F18 -> 돈육김치찌개 | G19: ='2월4째주'!G18 -> 계란파국 | H19: ='2월4째주'!H18 -> 근대된장국
B20: ='2월4째주'!B19 -> 마파두부 | C20: ='2월4째주'!C19 -> 동그랑땡전 | D20: ='2월4째주'!D19 -> 돼지갈비찜 | E20: ='2월4째주'!E19 -> 계란찜 | F20: ='2월4째주'!F19 -> 고등어무조림 | G20: ='2월4째주'!G19 -> 치킨까스/치킨양념소스 | H20: ='2월4째주'!H19 -> 미트볼라따뚜이
B21: ='2월4째주'!B20 -> 천사채샐러드 | C21: ='2월4째주'!C20 -> 미역무침 | D21: ='2월4째주'!D20 -> 도라지나물 | E21: ='2월4째주'!E20 -> 고구마순볶음 | F21: ='2월4째주'!F20 -> 토란대볶음 | G21: ='2월4째주'!G20 -> 건파래무침 | H21: ='2월4째주'!H20 -> 계란장조림
B22: ='2월4째주'!B21 -> 얼갈이겉절이 | C22: ='2월4째주'!C21 -> 유채나물 | D22: ='2월4째주'!D21 -> 부추양배추무침 | E22: ='2월4째주'!E21 -> 오이지무침 | F22: ='2월4째주'!F21 -> 명엽채볶음 | G22: ='2월4째주'!G21 -> 숙주나물 | H22: ='2월4째주'!H21 -> 치커리생채
B23: ='2월4째주'!B22 -> 포기김치/백김치 | C23: ='2월4째주'!C22 -> 포기김치/백김치 | D23: ='2월4째주'!D22 -> 포기김치/백김치 | E23: ='2월4째주'!E22 -> 포기김치/백김치 | F23: ='2월4째주'!F22 -> 포기김치/백김치 | G23: ='2월4째주'!G22 -> 포기김치/백김치 | H23: ='2월4째주'!H22 -> 포기김치/백김치
B24: 639 | C24: 590 | D24: 630 | E24: 640 | F24: 610 | G24: 603 | H24: 655
A25: 총 계 | B25: =B24+B17+B10 -> 1907 | C25: =C24+C17+C10 -> 1921 | D25: =D24+D17+D10 -> 1985 | E25: =E24+E17+E10 -> 1928 | F25: =F24+F17+F10 -> 1997 | G25: =G24+G17+G10 -> 1903 | H25: =H24+H17+H10 -> 1985
