Workbook

Sheet 총괄
A1: 나이팅게일너싱홈 2021년도 예산총칙
A2: 제1조. 2021년 나이팅게일너싱홈 세입총액은 | B2: =A6 -> 305363200 | C2: 원 이며, | D2: 세출총액은 | E2: =B6 -> 305363200 | F2: 원으로 정한다.
A3: 제2조. 세입과 세출의 세부 내역은 산출내역과 같다.
F4: (단위:원)
A5: 세 입 | B5: 세 출 | F5: 잔 액
A6: ='세입안(산출내역)'!F36 -> 305363200 | B6: ='세출안(산출내역)'!F73 -> 305363200 | F6: =A6-B6 -> 0

Sheet 세입안(산출내역)
B1: 2021년도 세입 예산안
B2: 과 목 | F2: 예산액 | G2: 산출근거
B3: 관 | C3: 항 | D3: 목 | E3: 세목 | Q3: =F4+F19+F22 -> 241024500
B4: 입소자부담금수입 | C4: 입소비용수입 | D4: 본인부담금 수입 | E4: 본인부담금 수입 | F4: =ROUNDDOWN((O4+O5+O6),-1) -> 36766450 | G4: =G19*20% -> 12610 | H4: * | I4: 1 | J4: 명 | K4: * | L4: 365 | M4: 일 | N4: = | O4: =G4*I4*L4 -> 4602650 | P4: 1등급(일반-공단의 본인부담금20% 청구비용)
G5: =G20*20% -> 11702 | H5: * | I5: 2 | J5: 명 | K5: * | L5: 365 | M5: 일 | N5: = | O5: =G5*I5*L5 -> 8542460 | P5: 2등급(일반-공단의 본인부담금20% 청구비용)
G6: =G21*20% -> 10786 | H6: * | I6: 6 | J6: 명 | K6: * | L6: 365 | M6: 일 | N6: = | O6: =G6*I6*L6 -> 23621340 | P6: 3등급(일반-공단의 본인부담금20% 청구비용)
D7: 비급여비용수입 | E7: 식재료비수입 | F7: =O7 -> 34492500 | G7: 10500 | H7: * | I7: 9 | J7: 명 | K7: * | L7: =L4 -> 365 | M7: 일 | N7: = | O7: =G7*I7*L7 -> 34492500 | P7: 비급여비용 일반1, 2, 3등급(식비+간식비)
D8: 상급침실이용료 | E8: 상급침실이용료 | F8: =O8 -> 4320000 | G8: 120000 | H8: * | I8: 3 | J8: 명 | K8: * | L8: 12 | M8: 월 | N8: = | O8: =G8*I8*L8 -> 4320000 | P8: 상급침실료
D9: 기타비급여수입 | E9: 기타비급여수입 | F9: =O9 -> 3000000 | G9: 0 | H9: * | J9: 명 | K9: * | L9: 12 | M9: 월 | N9: = | O9: 3000000 | P9: 이미용비 등
B10: 과년도수입 | C10: 과년도수입 | D10: 과년도수입 | E10: 과년도수입 | F10: =O10 -> 0 | O10: =G10*I10*L10 -> 0
B11: 보조금수입 | C11: 보조금수입 | D11: 시군구보조금수입 | E11: 시군구보조금수입 | F11: =ROUNDDOWN((SUM(O11:O13)),-1) -> 0 | G11: 268052 | H11: * | I11: 0 | J11: 명 | K11: * | L11: 12 | M11: 월 | N11: = | O11: =G11*I11*L11 -> 0 | P11: 기초생활수급자 생계비
G12: 36434 | H12: * | I12: =I11 -> 0 | J12: 명 | K12: * | L12: 1 | M12: 회 | N12: = | O12: =G12*I12*L12 -> 0 | P12: 월동대책비
G13: 37300 | H13: * | I13: =I11 -> 0 | J13: 명 | K13: * | L13: 2 | M13: 회 | N13: = | O13: =G13*I13*L13 -> 0 | P13: 특별위로금(설·추석)
I14: =I4+I5+I6 -> 9
D15: 자본보조금수입 | E15: 자본보조금수입 | O15: =G15*I15*L15 -> 0
D16: 기타보조금 수입 | E16: 기타보조금수입
B17: 후원금수입 | C17: 후원금수입 | D17: 지정후원금 | E17: 지정후원금 | O17: =G17*I17*L17 -> 0
D18: 비지정후원금 | E18: 비지정후원금 | F18: =O18 -> 0 | G18: 0 | H18: * | L18: 12 | M18: 월 | N18: = | O18: =G18*L18 -> 0 | P18: 후원금수입
B19: 요양급여 | C19: 요양급여 | D19: 장기요양급여수입 | E19: 장기요양급여수입 | F19: =ROUNDDOWN((SUM(O19:O21)),-1) -> 147065800 | G19: 63050 | H19: * | I19: =I4 -> 1 | J19: 명 | K19: * | L19: =L4 -> 365 | M19: 일 | N19: = | O19: =(G19*I19*L19)*80% -> 18410600 | P19: 1등급(일반80%-공단수가비용)
G20: 58510 | H20: * | I20: =I5 -> 2 | J20: 명 | K20: * | L20: =L19 -> 365 | M20: 일 | N20: = | O20: =(G20*I20*L20)*80% -> 34169840 | P20: 2등급(일반80%-공단수가비용)
G21: 53930 | H21: * | I21: =I6 -> 6 | J21: 명 | K21: * | L21: 365 | M21: 일 | N21: = | O21: =(G21*I21*L21)*80% -> 94485360 | P21: 3,4,5등급(일반80%-공단수가비용)
E22: 가산금 수입 | F22: =ROUNDDOWN((SUM(O22:O22)),-1) -> 57192250 | G22: =(((O19+O20+O21)/365)*(I22/I14)) -> 156691.11 | H22: * | I22: 3.5 | J22: 점 | K22: * | L22: =L21 -> 365 | M22: 일 | N22: = | O22: =(G22*L22) -> 57192256 | P22: 가산인력
B23: 차입금 | C23: 차입금 | D23: 금융기관차입금 | F23: =O23 -> 0 | O23: =G23*I23*L23 -> 0
D24: 기타차입금 | E24: 기타차입금 | F24: =O24 -> 17376200 | O24: 17376200 | P24: 운영비부족 차입금
B25: 전입금 | C25: 전입금 | D25: OO전입금 | E25: OO전입금 | F25: =O25 -> 0 | O25: =G25*I25*L25 -> 0
B26: 이월금 | C26: 이월금 | D26: 전년도이월금 | E26: 전년도이월금 | F26: =O26 -> 100000 | O26: 100000
D27: 이월사업비 | E27: 이월사업비 | F27: =O27 -> 0 | O27: =G27*I27*L27 -> 0
B28: 잡수입 | C28: 잡수입 | D28: 불용품매각대 | E28: 불용품매각대 | F28: =O28 -> 0
D29: 기타잡수입 | E29: 기타예금이자수입 | F29: =G29 -> 50000 | G29: 50000
E30: 직원식재료비수입 | F30: =O30 -> 0 | H30: * | I30: 5 | J30: 명 | K30: * | L30: 12 | M30: 월 | N30: = | O30: =G30*I30*L30 -> 0
E31: 기타잡수입 | F31: =O31 -> 5000000 | O31: 5000000
B32: 계 | F32: =SUM(F4:F31) -> 305363200
B33: 적립금 및 준비금 (특별회계) | C33: 운영충당적립금 | D33: 운영충당적립금 | E33: 운영충당적립금 | F33: =O33 -> 0 | G33: ='세출안(산출내역)'!G67 -> 0 | H33: * | K33: * | L33: 12 | M33: 월 | N33: = | O33: =G33*L33 -> 0
C34: 환경개선준비금 | D34: 시설환경개선준비금 | E34: 시설환경개선준비금 | F34: =O34 -> 0 | G34: ='세출안(산출내역)'!G68 -> 0 | H34: * | K34: * | L34: 12 | M34: 월 | N34: = | O34: =G34*L34 -> 0
B35: 계 | F35: =SUM(F33:F34) -> 0
B36: 세 입 계 | F36: =F35+F32 -> 305363200

Sheet 세출안(산출내역)
B1: 2021년도 세출 예산안 | Q1: ='세입안(산출내역)'!Q3 -> 241024500
B3: 과 목 | F3: 예산액 | G3: 산출근거 | Q3: =F5+F17+F19 -> 159332230
B4: 관 | C4: 항 | D4: 목 | E4: 세목 | P4: =Q3/Q1 -> 0.66106238
B5: 사무비 | C5: 인건비 | D5: 급여 | E5: 급여(직접비) | F5: =SUM(O5:O8) -> 134700000 | G5: 2850000 | H5: * | I5: 1 | J5: 명 | K5: * | L5: 12 | M5: 월 | N5: = | O5: =G5*I5*L5 -> 34200000 | P5: 사회복지사
G6: 1925000 | H6: * | I6: 1 | J6: 명 | K6: * | L6: 12 | M6: 월 | N6: = | O6: =G6*I6*L6 -> 23100000 | P6: 간 호 사 (간호조무사)
G7: 2150000 | H7: * | I7: 3 | J7: 명 | K7: * | L7: 12 | M7: 월 | N7: = | O7: =G7*I7*L7 -> 77400000 | P7: 요양보호사
G8: 0 | H8: * | J8: 명 | K8: * | L8: 12 | M8: 월 | N8: = | O8: =G8*I8*L8 -> 0 | P8: 물리치료사
E9: 급여(간접비) | F9: =SUM(O9:O14) -> 50688000 | G9: 2349000 | H9: * | I9: 1 | J9: 명 | K9: * | L9: 12 | M9: 월 | N9: = | O9: =G9*I9*L9 -> 28188000 | P9: 원 장
H10: * | J10: 명 | K10: * | L10: 12 | M10: 월 | N10: = | O10: =G10*I10*L10 -> 0 | P10: 시 설 장
G11: 0 | H11: * | J11: 명 | K11: * | L11: 12 | M11: 월 | N11: = | O11: =G11*I11*L11 -> 0 | P11: 영 양 사
G12: 1875000 | H12: * | I12: 1 | J12: 명 | K12: * | L12: 12 | M12: 월 | N12: = | O12: =G12*I12*L12 -> 22500000 | P12: 조 리 원
G13: 0 | H13: * | J13: 명 | K13: * | L13: 12 | M13: 월 | N13: = | O13: =G13*I13*L13 -> 0 | P13: 사 무 원
G14: 0 | H14: * | J14: 명 | K14: * | L14: 12 | M14: 월 | N14: = | O14: =G14*I14*L14 -> 0 | P14: 위 생 원
D15: 일용잡금 | E15: 일용잡급 | F15: =SUM(O15) -> 0 | G15: 0 | H15: * | J15: 명 | K15: * | L15: 12 | M15: 월 | N15: = | O15: =G15*I15*L15 -> 0
D16: 제수당 | E16: 제수당 | F16: =G16 -> 0 | H16: * | I16: 2 | J16: 명 | K16: * | L16: 12 | M16: 월 | N16: = | O16: =G16*I16*L16 -> 0
D17: 퇴직금 및 퇴직적립금 | E17: 퇴직금 및 퇴직적립금 (직접비) | F17: =O17 -> 11025000 | G17: =F5-2400000 -> 132300000 | H17: * | I17: 12 | N17: = | O17: =G17/I17 -> 11025000 | P17: 총 급여의 1/12
E18: 퇴직금 및 퇴직적립금 (간접비) | F18: =O18 -> 4024000 | G18: =F9-2400000 -> 48288000 | H18: * | I18: 12 | N18: = | O18: =G18/I18 -> 4024000 | P18: 총 급여의 1/12
D19: 사회보험부담비용 (직접비) | E19: 국민건강보험 | F19: 13607230 | G19: =F5 -> 134700000 | H19: * | I19: 3.43 | J19: % | N19: = | O19: =ROUNDDOWN(G19*I19/100,-1) -> 4620210 | P19: 급여의 3.43%
E20: 장기요양보험 | G20: =O19 -> 4620210 | H20: * | I20: 11.52 | J20: % | N20: = | O20: =ROUNDDOWN(G20*I20/100,-1) -> 532240 | P20: 건강보험의 11.52%
E21: 국민연금 | G21: =F5 -> 134700000 | H21: * | I21: 4.5 | J21: % | N21: = | O21: =ROUNDDOWN(G21*I21/100,-1) -> 6061500 | P21: 급여의 4.5%
E22: 고용보험 | G22: =F5 -> 134700000 | H22: * | I22: 1.05 | J22: % | N22: = | O22: =ROUNDDOWN(G22*I22/100,-1) -> 1414350 | P22: 급여의 1.05%
E23: 산재보험 | G23: =F5 -> 134700000 | H23: * | I23: 0.91 | J23: % | N23: = | O23: =ROUNDDOWN(G23*I23/100,-1) -> 1225770 | P23: 급여의 0.91%
D24: 사회보험부담비용 (간접비) | E24: 국민건강보험 | F24: 4966470 | G24: =F9 -> 50688000 | H24: * | I24: 3.43 | J24: % | N24: = | O24: =ROUNDDOWN(G24*I24/100,-1) -> 1738590 | P24: 급여의 3.43%
E25: 장기요양보험 | G25: =O24 -> 1738590 | H25: * | I25: 11.52 | J25: % | N25: = | O25: =ROUNDDOWN(G25*I25/100,-1) -> 200280 | P25: 건강보험의 11.52%
E26: 국민연금 | G26: =F9 -> 50688000 | H26: * | I26: 4.5 | J26: % | N26: = | O26: =ROUNDDOWN(G26*I26/100,-1) -> 2280960 | P26: 급여의 4.5%
E27: 고용보험 | G27: =F9 -> 50688000 | H27: * | I27: 1.05 | J27: % | N27: = | O27: =ROUNDDOWN(G27*I27/100,-1) -> 532220 | P27: 급여의 1.05%
E28: 산재보험 | G28: =F9 -> 50688000 | H28: * | I28: 0.91 | J28: % | N28: = | O28: =ROUNDDOWN(G28*I28/100,-1) -> 461260 | P28: 급여의 0.91%
C29: 업무추진비 | D29: 기관운영비 | E29: 기관운영비 | F29: =SUM(O29:O30) -> 1560000 | G29: 30000 | H29: * | L29: 12 | M29: 월 | N29: = | O29: =G29*L29 -> 360000 | P29: (기관운영및유관기업의업무협의) ㅡ홍보비 등 기타
G30: 100000 | H30: * | L30: 12 | M30: 월 | N30: = | O30: =G30*L30 -> 1200000
D31: 직책보조비 | E31: 직책보조비 | F31: =O31 -> 18000000 | G31: 1500000 | H31: * | L31: 12 | M31: 월 | N31: = | O31: =G31*L31 -> 18000000
D32: 회의비 | E32: 회의비 | F32: =O32 -> 120000 | G32: 10000 | H32: * | L32: 12 | M32: 월 | N32: = | O32: =G32*L32 -> 120000 | P32: (후원회및 각종회의다과비)
C33: 운영비 | D33: 여비 | E33: 여비 | F33: =O33 -> 120000 | G33: 10000 | H33: * | L33: 12 | M33: 월 | N33: = | O33: =G33*L33 -> 120000 | P33: 출장비 및 교육비
D34: 수용비및수수료 | E34: 수용비및수수료 | F34: =SUM(O34:O36) -> 5800000 | G34: 100000 | H34: * | L34: 12 | M34: 월 | N34: = | O34: =G34*L34 -> 1200000 | P34: ㅡ사무용품비 각종 물품 등
G35: 300000 | H35: * | L35: 12 | M35: 월 | N35: = | O35: =G35*L35 -> 3600000 | P35: ㅡ각종 안전관리비, 렌탈료 등
H36: * | N36: = | O36: 1000000 | P36: ㅡ기타
C37: 운영비 | D37: 공공요금 및 각종 세금공과금 | E37: 공공요금 및 각종 세금공과금 | F37: =SUM(O37:O41) -> 13600000 | G37: 500000 | H37: * | L37: 12 | M37: 월 | N37: = | O37: =G37*L37 -> 6000000 | P37: ㅡ각종 공과금 등
N38: = | O38: 1000000 | P38: ㅡ재산세, 자동차세 등 각종세금
G39: 0 | H39: * | N39: = | O39: 2000000 | P39: ㅡ각종 보험료(화재보험, 배상책임보험 등)
G40: 300000 | H40: * | L40: 12 | M40: 월 | N40: = | O40: =G40*L40 -> 3600000 | P40: ㅡ시설관리비 등.
H41: * | N41: = | O41: 1000000 | P41: ㅡ기타
D42: 차량비 | E42: 차량비 | F42: =SUM(O42:O43) -> 0 | G42: 0 | H42: * | L42: 12 | M42: 월 | N42: = | O42: =G42*L42 -> 0 | P42: ㅡ차량 유류대
G43: 0 | H43: * | L43: 12 | M43: 월 | N43: = | O43: =G43*L43 -> 0 | P43: ㅡ차량정비유지비(관리비)
D44: 임차료 | E44: 임차료 | F44: =O44 -> 0 | G44: 0 | H44: * | L44: 12 | M44: 월 | N44: = | O44: =G44*L44 -> 0 | P44: ㅡ임대료 등.(공생,재가만 지출 가능)
D45: 기타운영비 | E45: 기타운영비 | F45: =O45 -> 4200000 | G45: 350000 | H45: * | L45: 12 | M45: 월 | N45: = | O45: =G45*L45 -> 4200000 | P45: 복리후생에 드는 비용 등.
B46: 계 | F46: =SUM(F5:F45) -> 262410700
B47: 재산조정비 | C47: 시설비 | D47: 시설비 | E47: 시설비 | F47: =O47 -> 600000 | G47: 100000 | H47: * | L47: 6 | M47: 회 | N47: = | O47: =G47*L47 -> 600000 | P47: ㅡ시설 증축비
D48: 자산취득비 | E48: 자산취득비 | F48: =O48 -> 600000 | G48: 100000 | H48: * | L48: 6 | M48: 회 | N48: = | O48: =G48*L48 -> 600000 | P48: ㅡ비품구입비, 그 외 자산취득비
D49: 시설장비유지비 | E49: 시설장비유지비 | F49: =O49 -> 360000 | G49: 30000 | H49: * | L49: 12 | M49: 월 | N49: = | O49: =G49*L49 -> 360000 | P49: ㅡ시설장비유지비 등
B50: 계 | F50: =SUM(F47:F49) -> 1560000
B51: 사업비 | C51: 운영비 | D51: 생계비 | E51: 생계비 | F51: =SUM(O51:O51) -> 34492500 | G51: ='세입안(산출내역)'!G7 -> 10500 | H51: * | I51: ='세입안(산출내역)'!I7 -> 9 | J51: 명 | K51: * | L51: ='세입안(산출내역)'!L6 -> 365 | M51: 일 | N51: = | O51: =G51*I51*L51 -> 34492500 | P51: ㅡ주식비, 부식비, 간식비(자부담)
E52: 수급자생계비 | F52: =O52 -> 0 | K52: * | L52: ='세입안(산출내역)'!L11 -> 12 | M52: 월 | N52: = | O52: =SUM('세입안(산출내역)'!F11:F13) -> 0 | P52: ㅡ주식비, 부식비, 간식비(보조금), 특별위로금
E53: 직원식재료비 | F53: =O53 -> 0 | G53: ='세입안(산출내역)'!G30 -> 0 | H53: * | I53: ='세입안(산출내역)'!I30 -> 5 | J53: 명 | K53: * | L53: 12 | M53: 월 | N53: = | O53: =G53*I53*L53 -> 0 | P53: ㅡ직원 식재료 구입
D54: 수용기관경비 | E54: 수용기관경비 | F54: =O54 -> 4200000 | G54: 350000 | H54: * | L54: 12 | M54: 월 | N54: = | O54: =G54*L54 -> 4200000 | P54: ㅡ기저귀, 로션, 수건, 가그린 등 어르신을 위한 생활용품
D56: 의료비 | E56: 의료비 | F56: =O56 -> 1800000 | G56: 150000 | H56: * | L56: 12 | M56: 월 | N56: = | O56: =G56*L56 -> 1800000 | P56: ㅡ입소자의 보건 위생 및 시약대
C57: 사업비 | D57: 프로그램사업비 | E57: 프로그램사업비 | F57: =O57 -> 600000 | G57: 50000 | H57: * | L57: 12 | M57: 월 | N57: = | O57: =G57*L57 -> 600000 | P57: ㅡ생신잔치, 각종행사, 음악, 원예, 미술, 건강체조, 영화감상, 의료재활 등
D59: 기타사업비 | E59: 기타사업비 | F59: =O59 -> 0 | H59: * | L59: 12 | M59: 월 | N59: = | O59: =G59*L59 -> 0
B60: 계 | F60: =SUM(F51:F59) -> 41092500
B61: 전출금 | C61: 전출금 | D61: OO전출금 | E61: OO전출금 | F61: =O61 -> 0
B62: 과년도지출 | C62: 과년도지출 | D62: 과년도지출 | E62: 과년도지출 | F62: =O62 -> 0
B63: 부채상환금 | C63: 부채상환금 | D63: 원금상환금 | E63: 원금상환금 | F63: =O63 -> 0 | G63: 0 | H63: * | L63: 12 | M63: 월 | N63: = | O63: =G63*L63 -> 0
D64: 이자지불금 | E64: 이자지불금 | F64: =O64 -> 0 | G64: 0 | H64: * | L64: 12 | M64: 월 | N64: = | O64: =G64*L64 -> 0
B65: 잡지출 | C65: 잡지출 | D65: 잡지출 | E65: 잡지출 | F65: =O65 -> 300000 | O65: 300000 | P65: ㅡ보상금, 사례금, 소송경비, 기타잡지출 등
B66: 예비비 | C66: 예비비 | D66: 예비비 | E66: 예비비 | F66: =O66 -> 0 | O66: =G66*L66 -> 0
B67: 적립금 및 준비금 | C67: 운영충당적립금 | D67: 운영충당적립금 | E67: 운영충당적립금 | F67: =O67 -> 0 | G67: 0 | H67: * | L67: 12 | M67: 월 | N67: = | O67: =G67*L67 -> 0
C68: 환경개선준비금 | D68: 시설환경 개선준비금 | E68: 시설환경개선준비금 | F68: =O68 -> 0 | G68: 0 | H68: * | L68: 12 | M68: 월 | N68: = | O68: =G68*L68 -> 0
B69: 계 | F69: =SUM(F61:F68) -> 300000
B70: 적립금 및 준비금 지출 (특별회계) | C70: 운영충당적립금 지출 | D70: 운영충당적립금 | E70: 운영충당적립금 | F70: =O70 -> 0 | G70: ='세입안(산출내역)'!G33 -> 0 | H70: * | L70: 12 | M70: 월 | N70: = | O70: =G70*L70 -> 0
C71: 환경개선준비금 지출 | D71: 시설환경 개선준비금 | E71: 시설환경개선준비금 | F71: =O71 -> 0 | G71: ='세입안(산출내역)'!G34 -> 0 | H71: * | L71: 12 | M71: 월 | N71: = | O71: =G71*L71 -> 0
B72: 계 | F72: =SUM(F70:F71) -> 0
B73: 합계 | F73: =F46+F50+F60+F69+F72 -> 305363200
