Workbook
Name bizforms: "bizforms.co.kr"
Name 가족수: '[1]갑근세2015 '!$C$6:$M$6
Name 갑근세: '[1]갑근세2015 '!$A$8:$M$655
Name 비즈폼: "bizforms.co.kr"
Name 성명: OFFSET(#REF!,0,0,COUNTA(#REF!),1)
Name 성명: OFFSET(#REF!,0,0,COUNTA(#REF!),1)
Name 순번: #REF!
Name 순번: #REF!

Sheet 예산총칙
B1: 예산총칙
B3: 제1조 (예산의 규모)
B4: =총괄표!A1 -> 가족사랑요양원1 | C4: 의 2020년도 본예산 총세입액은 | F4: =세입!V6 -> 292135000 | H4: 이며, 총세출액은 | J4: =세출!V6 -> 292135000 | K4: 이다.
B6: 제2조(예산의 내역)
B7: 1) 세입의 주요재원은 아래와 같다. (관 또는 항 단위)
D9: ㄱ.입소(이용)자부담금수입 | F9: =세입!W7 -> 77729496
D10: ㄴ.보조금수입 | F10: =세입!W31 -> 0
D11: ㄷ.후원금수입 | F11: =세입!W39 -> 0
D12: ㄹ.요양급여수입 | F12: =세입!W43 -> 171730512
D13: ㅁ.기타(차입금등) | F13: =세입!W49+세입!W53+세입!W59+세입!W65+세입!W72 -> 42674992
B15: 2) 세출의 주요재원은 아래와 같다. (관 또는 항 단위)
D17: ㄱ.사무비 | F17: =세출!W7 -> 244941000
D18: ㄴ.재산조성비 | F18: =세출!W56 -> 1600000
D19: ㄷ.사업비 | F19: =세출!W64 -> 45594000
D20: ㄹ.기타(부채상환금등) | F20: =세출!W78+세출!W82+세출!W85+세출!W89+세출!W92+세출!W96+세출!W100 -> 0
B22: 제3조(추가경정예산)
B23: 추경예산은 예산성립 후에 생긴 사유로 인하여 이미 성립된 예산에 변경을 가할 필요가 있을 때에는 사회복지법인 재무회계규칙 제10조 및 제11조의 규정에 의한 절차에 준하여 추가경정예산을 편성·확정할 수 있다.
B25: 제4조(예산의 전용)
B26: 세출경비의 조정이 필요한 경우에는 사회복지법인 재무회계규칙 제16조에 의거하여 예산을 전용할 수 있다.
B28: 제5조(예산의 집행)
B29: 예산은 사회복지법인 및 사회복지시설 재무·회계규칙의 관련규정을 준수하여 집행한다.

Sheet 총괄표
A1: 가족사랑요양원1
A2: 2020년 세입세출예산서 총괄표
M3: (단위 : 천원)
A4: 세 입 부 | H4: 세 출 부
A5: 관 | B5: 항 | C5: 목 | D5: 19년도 추경예산액 (A) | E5: 20년도 예산액 (B) | F5: 증감(B-A) | H5: 관 | I5: 항 | J5: 목 | K5: =D5 -> 19년도 추경예산액 (A) | L5: =E5 -> 20년도 예산액 (B) | M5: 증감(B-A)
F6: 액수 | G6: 비율(%) | M6: 액수 | N6: 비율(%)
A7: 총 계 | D7: =SUM(D8:D38) -> 275040000 | E7: =SUM(E8:E38) -> 292135000 | F7: =E7-D7 -> 17095000 | G7: =IF(D7+E7=0,0,IF(D7=0,100,F7/D7%)) -> 6.2154596 | H7: 총 계 | K7: =SUM(K8:K41) -> 275040000 | L7: =SUM(L8:L41) -> 292135000 | M7: =L7-K7 -> 17095000 | N7: =IF(K7+L7=0,0,IF(K7=0,100,M7/K7%)) -> 6.2154596
A8: 입소(이용)자부담금수입 | B8: 입소(이용)비용수입 | C8: 입소(이용)비용수입 | D8: =세입!D9 -> 0 | E8: =세입!E9 -> 0 | F8: =E8-D8 -> 0 | G8: =IF(D8+E8=0,0,IF(D8=0,100,F8/D8%)) -> 0 | H8: 사무비 | I8: 인건비 | J8: 급여 | K8: =세출!D9 -> 136500000 | L8: =세출!E9 -> 153942320 | M8: =L8-K8 -> 17442320 | N8: =IF(K8+L8=0,0,IF(K8=0,100,M8/K8%)) -> 12.778256
C9: 본인부담금수입 | D9: =세입!D10 -> 31226480 | E9: =세입!E10 -> 32075496 | F9: =E9-D9 -> 849016 | G9: =IF(D9+E9=0,0,IF(D9=0,100,F9/D9%)) -> 2.7188976 | J9: 제수당 | K9: =세출!D12 -> 3937040 | L9: =세출!E12 -> 2481600 | M9: =L9-K9 -> -1455440 | N9: =IF(K9+L9=0,0,IF(K9=0,100,M9/K9%)) -> -36.967874
C10: 식재료비수입 | D10: =세입!D19 -> 34492500 | E10: =세입!E19 -> 37449000 | F10: =E10-D10 -> 2956500 | G10: =IF(D10+E10=0,0,IF(D10=0,100,F10/D10%)) -> 8.5714286 | J10: 일용잡급 | K10: =세출!D15 -> 500000 | L10: =세출!E15 -> 0 | M10: =L10-K10 -> -500000 | N10: =IF(K10+L10=0,0,IF(K10=0,100,M10/K10%)) -> -100
C11: 상급침실이용료 | D11: =세입!D20 -> 1680000 | E11: =세입!E20 -> 1680000 | F11: =E11-D11 -> 0 | G11: =IF(D11+E11=0,0,IF(D11=0,100,F11/D11%)) -> 0 | J11: 퇴직금및퇴직적립금 | K11: =세출!D18 -> 11278640 | L11: =세출!E18 -> 13035326 | M11: =L11-K11 -> 1756686 | N11: =IF(K11+L11=0,0,IF(K11=0,100,M11/K11%)) -> 15.575335
C12: 이미용비 | D12: =세입!D22 -> 0 | E12: =세입!E22 -> 0 | F12: =E12-D12 -> 0 | G12: =IF(D12+E12=0,0,IF(D12=0,100,F12/D12%)) -> 0 | J12: 사회보험부담금 | K12: =세출!D21 -> 17439194 | L12: =세출!E21 -> 15856424 | M12: =L12-K12 -> -1582770 | N12: =IF(K12+L12=0,0,IF(K12=0,100,M12/K12%)) -> -9.0759355
C13: 기타비급여수입 | D13: =세입!D23 -> 6525000 | E13: =세입!E23 -> 6525000 | F13: =E13-D13 -> 0 | G13: =IF(D13+E13=0,0,IF(D13=0,100,F13/D13%)) -> 0 | I13: 업무추진비 | J13: 기관운영비 | K13: =세출!D25 -> 850000 | L13: =세출!E25 -> 800000 | M13: =L13-K13 -> -50000 | N13: =IF(K13+L13=0,0,IF(K13=0,100,M13/K13%)) -> -5.8823529
A14: 사업수입 | B14: 사업수입 | C14: 사업수입 | D14: =세입!D27 -> 0 | E14: =세입!E27 -> 0 | F14: =E14-D14 -> 0 | G14: =IF(D14+E14=0,0,IF(D14=0,100,F14/D14%)) -> 0 | J14: 직책보조비 | K14: =세출!D28 -> 3500000 | L14: =세출!E28 -> 3600000 | M14: =L14-K14 -> 100000 | N14: =IF(K14+L14=0,0,IF(K14=0,100,M14/K14%)) -> 2.8571429
A15: 과년도수입 | B15: 과년도수입 | C15: 과년도수입 | D15: =세입!D30 -> 0 | E15: =세입!E30 -> 0 | F15: =E15-D15 -> 0 | G15: =IF(D15+E15=0,0,IF(D15=0,100,F15/D15%)) -> 0 | J15: 회의비 | K15: =세출!D30 -> 612000 | L15: =세출!E30 -> 600000 | M15: =L15-K15 -> -12000 | N15: =IF(K15+L15=0,0,IF(K15=0,100,M15/K15%)) -> -1.9607843
A16: 보조금수입 | B16: 보조금수입 | C16: 국고보조금 | D16: =세입!D33 -> 0 | E16: =세입!E33 -> 0 | F16: =E16-D16 -> 0 | G16: =IF(D16+E16=0,0,IF(D16=0,100,F16/D16%)) -> 0 | I16: 운영비 | J16: 여비 | K16: =세출!D33 -> 0 | L16: =세출!E33 -> 0 | M16: =L16-K16 -> 0 | N16: =IF(K16+L16=0,0,IF(K16=0,100,M16/K16%)) -> 0
C17: 시도보조금 | D17: =세입!D34 -> 0 | E17: =세입!E34 -> 0 | F17: =E17-D17 -> 0 | G17: =IF(D17+E17=0,0,IF(D17=0,100,F17/D17%)) -> 0 | J17: 수용비및수수료 | K17: =세출!D35 -> 6900066 | L17: =세출!E35 -> 5783530 | M17: =L17-K17 -> -1116536 | N17: =IF(K17+L17=0,0,IF(K17=0,100,M17/K17%)) -> -16.181526
C18: 시군구보조금 | D18: =세입!D35 -> 0 | E18: =세입!E35 -> 0 | F18: =E18-D18 -> 0 | G18: =IF(D18+E18=0,0,IF(D18=0,100,F18/D18%)) -> 0 | J18: 공공요금및제세공과금 | K18: =세출!D42 -> 6944000 | L18: =세출!E42 -> 6595800 | M18: =L18-K18 -> -348200 | N18: =IF(K18+L18=0,0,IF(K18=0,100,M18/K18%)) -> -5.0144009
C19: 기타보조금 | D19: =세입!D38 -> 1542000 | E19: =세입!E38 -> 0 | F19: =E19-D19 -> -1542000 | G19: =IF(D19+E19=0,0,IF(D19=0,100,F19/D19%)) -> -100 | J19: 차량비 | K19: =세출!D49 -> 300000 | L19: =세출!E49 -> 300000 | M19: =L19-K19 -> 0 | N19: =IF(K19+L19=0,0,IF(K19=0,100,M19/K19%)) -> 0
A20: 후원금 | B20: 후원금 | C20: 지정후원금 | D20: =세입!D41 -> 0 | E20: =세입!E41 -> 0 | F20: =E20-D20 -> 0 | G20: =IF(D20+E20=0,0,IF(D20=0,100,F20/D20%)) -> 0 | J20: 임차료 | K20: =세출!D51 -> 34759000 | L20: =세출!E51 -> 37386000 | M20: =L20-K20 -> 2627000 | N20: =IF(K20+L20=0,0,IF(K20=0,100,M20/K20%)) -> 7.5577548
C21: 비지정후원금 | D21: =세입!D42 -> 0 | E21: =세입!E42 -> 0 | F21: =E21-D21 -> 0 | G21: =IF(D21+E21=0,0,IF(D21=0,100,F21/D21%)) -> 0 | J21: 기타운영비 | K21: =세출!D53 -> 4810560 | L21: =세출!E53 -> 4560000 | M21: =L21-K21 -> -250560 | N21: =IF(K21+L21=0,0,IF(K21=0,100,M21/K21%)) -> -5.2085412
A22: 요양급여수입 | B22: 요양급여수입 | C22: 장기요양급여수입 | D22: =세입!D45 -> 149920416 | E22: =세입!E45 -> 171730512 | F22: =E22-D22 -> 21810096 | G22: =IF(D22+E22=0,0,IF(D22=0,100,F22/D22%)) -> 14.547782 | H22: 재산조성비 | I22: 시설비 | J22: 시설비 | K22: =세출!D58 -> 0 | L22: =세출!E58 -> 0 | M22: =L22-K22 -> 0 | N22: =IF(K22+L22=0,0,IF(K22=0,100,M22/K22%)) -> 0
C23: 가산금수입 | D23: =세입!D48 -> 0 | E23: =세입!E48 -> 0 | F23: =E23-D23 -> 0 | G23: =IF(D23+E23=0,0,IF(D23=0,100,F23/D23%)) -> 0 | J23: 자산취득비 | K23: =세출!D60 -> 2422000 | L23: =세출!E60 -> 800000 | M23: =L23-K23 -> -1622000 | N23: =IF(K23+L23=0,0,IF(K23=0,100,M23/K23%)) -> -66.969447
A24: 차입금 | B24: 차입금 | C24: 금융기관차입금 | D24: =세입!D51 -> 0 | E24: =세입!E51 -> 0 | F24: =E24-D24 -> 0 | G24: =IF(D24+E24=0,0,IF(D24=0,100,F24/D24%)) -> 0 | J24: 시설장비유지비 | K24: =세출!D62 -> 600000 | L24: =세출!E62 -> 800000 | M24: =L24-K24 -> 200000 | N24: =IF(K24+L24=0,0,IF(K24=0,100,M24/K24%)) -> 33.333333
C25: 기타차입금 | D25: =세입!D52 -> 40000000 | E25: =세입!E52 -> 33000000 | F25: =E25-D25 -> -7000000 | G25: =IF(D25+E25=0,0,IF(D25=0,100,F25/D25%)) -> -17.5 | H25: 사업비 | I25: 운영비 | J25: 생계비 | K25: =세출!D66+세출!D68 -> 37777500 | L25: =세출!E66+세출!E68 -> 40734000 | M25: =L25-K25 -> 2956500 | N25: =IF(K25+L25=0,0,IF(K25=0,100,M25/K25%)) -> 7.826087
A26: 전입금 | B26: 전입금 | C26: 법인전입금 | D26: =세입!D55 -> 0 | E26: =세입!E55 -> 0 | F26: =E26-D26 -> 0 | G26: =IF(D26+E26=0,0,IF(D26=0,100,F26/D26%)) -> 0 | J26: 수용기관경비 | K26: =세출!D71 -> 1320000 | L26: =세출!E71 -> 1320000 | M26: =L26-K26 -> 0 | N26: =IF(K26+L26=0,0,IF(K26=0,100,M26/K26%)) -> 0
C27: 법인전입금(후원금) | D27: =세입!D56 -> 0 | E27: =세입!E56 -> 0 | F27: =E27-D27 -> 0 | G27: =IF(D27+E27=0,0,IF(D27=0,100,F27/D27%)) -> 0 | J27: 의료비 | K27: =세출!D73 -> 3240000 | L27: =세출!E73 -> 3240000 | M27: =L27-K27 -> 0 | N27: =IF(K27+L27=0,0,IF(K27=0,100,M27/K27%)) -> 0
C28: 기타전입금 | D28: =세입!D57 -> 0 | E28: =세입!E57 -> 0 | F28: =E28-D28 -> 0 | G28: =IF(D28+E28=0,0,IF(D28=0,100,F28/D28%)) -> 0 | J28: 장의비 | K28: =세출!D75 -> 100000 | L28: =세출!E75 -> 100000 | M28: =L28-K28 -> 0 | N28: =IF(K28+L28=0,0,IF(K28=0,100,M28/K28%)) -> 0
C29: 기타전입금(후원금) | D29: =세입!D58 -> 0 | E29: =세입!E58 -> 0 | F29: =E29-D29 -> 0 | G29: =IF(D29+E29=0,0,IF(D29=0,100,F29/D29%)) -> 0 | I29: 사업비 | J29: 프로그램사업비 | K29: =세출!D77 -> 150000 | L29: =세출!E77 -> 200000 | M29: =L29-K29 -> 50000 | N29: =IF(K29+L29=0,0,IF(K29=0,100,M29/K29%)) -> 33.333333
A30: 이월금 | B30: 이월금 | C30: 전년도이월금 | D30: =세입!D61 -> 41600 | E30: =세입!E61 -> 300000 | F30: =E30-D30 -> 258400 | G30: =IF(D30+E30=0,0,IF(D30=0,100,F30/D30%)) -> 621.15385 | H30: 전출금 | I30: 전출금 | J30: 법인회계전출금 | K30: =세출!D80 -> 0 | L30: =세출!E80 -> 0 | M30: =L30-K30 -> 0 | N30: =IF(K30+L30=0,0,IF(K30=0,100,M30/K30%)) -> 0
C31: 전년도이월금(후원금) | D31: =세입!D63 -> 0 | E31: =세입!E63 -> 0 | F31: =E31-D31 -> 0 | G31: =IF(D31+E31=0,0,IF(D31=0,100,F31/D31%)) -> 0 | J31: 기타전출금 | K31: =세출!D81 -> 500000 | L31: =세출!E81 -> 0 | M31: =L31-K31 -> -500000 | N31: =IF(K31+L31=0,0,IF(K31=0,100,M31/K31%)) -> -100
C32: 전년도이월금(식재료비) | D32: =세입!D64 -> 0 | E32: =세입!E64 -> 0 | F32: =E32-D32 -> 0 | G32: =IF(D32+E32=0,0,IF(D32=0,100,F32/D32%)) -> 0 | H32: 과년도지출 | I32: 과년도지출 | J32: 과년도지출 | K32: =세출!D84 -> 0 | L32: =세출!E84 -> 0 | M32: =L32-K32 -> 0 | N32: =IF(K32+L32=0,0,IF(K32=0,100,M32/K32%)) -> 0
A33: 잡수입 | B33: 잡수입 | C33: 불용품매각대 | D33: =세입!D67 -> 0 | E33: =세입!E67 -> 0 | F33: =E33-D33 -> 0 | G33: =IF(D33+E33=0,0,IF(D33=0,100,F33/D33%)) -> 0 | H33: 부채상환금 | I33: 부채상환금 | J33: 원금상환금 | K33: =세출!D87 -> 0 | L33: =세출!E87 -> 0 | M33: =L33-K33 -> 0 | N33: =IF(K33+L33=0,0,IF(K33=0,100,M33/K33%)) -> 0
C34: 기타예금이자수입 | D34: =세입!D68 -> 12004 | E34: =세입!E68 -> 14992 | F34: =E34-D34 -> 2988 | G34: =IF(D34+E34=0,0,IF(D34=0,100,F34/D34%)) -> 24.891703 | J34: 이자지불금 | K34: =세출!D88 -> 0 | L34: =세출!E88 -> 0 | M34: =L34-K34 -> 0 | N34: =IF(K34+L34=0,0,IF(K34=0,100,M34/K34%)) -> 0
C35: 직원식재료비수입 | D35: =세입!D70 -> 0 | E35: =세입!E70 -> 0 | F35: =E35-D35 -> 0 | G35: =IF(D35+E35=0,0,IF(D35=0,100,F35/D35%)) -> 0 | H35: 잡지출 | I35: 잡지출 | J35: 잡지출 | K35: =세출!D91 -> 600000 | L35: =세출!E91 -> 0 | M35: =L35-K35 -> -600000 | N35: =IF(K35+L35=0,0,IF(K35=0,100,M35/K35%)) -> -100
C36: 기타잡수입 | D36: =세입!D71 -> 9600000 | E36: =세입!E71 -> 9360000 | F36: =E36-D36 -> -240000 | G36: =IF(D36+E36=0,0,IF(D36=0,100,F36/D36%)) -> -2.5 | H36: 예비비및기타 | I36: 예비비및기타 | J36: 예비비 | K36: =세출!D94 -> 0 | L36: =세출!E94 -> 0 | M36: =L36-K36 -> 0 | N36: =IF(K36+L36=0,0,IF(K36=0,100,M36/K36%)) -> 0
A37: 적립금 및 준비금 | B37: 적립금 및 준비금 | C37: 운영충당적립금 | D37: =세입!D74 -> 0 | E37: =세입!E74 -> 0 | F37: =E37-D37 -> 0 | G37: =IF(D37+E37=0,0,IF(D37=0,100,F37/D37%)) -> 0 | J37: 반환금 | K37: =세출!D95 -> 0 | L37: =세출!E95 -> 0 | M37: =L37-K37 -> 0 | N37: =IF(K37+L37=0,0,IF(K37=0,100,M37/K37%)) -> 0
C38: 시설환경개선준비금 | D38: =세입!D75 -> 0 | E38: =세입!E75 -> 0 | F38: =E38-D38 -> 0 | G38: =IF(D38+E38=0,0,IF(D38=0,100,F38/D38%)) -> 0 | H38: 적립금 및 준비금 | I38: 적립금 | J38: 운영충당적립금 | K38: =세출!D98 -> 0 | L38: =세출!E98 -> 0 | M38: =L38-K38 -> 0 | N38: =IF(K38+L38=0,0,IF(K38=0,100,M38/K38%)) -> 0
I39: 준비금 | J39: 시설환경개선준비금 | K39: =세출!D99 -> 0 | L39: =세출!E99 -> 0 | M39: =L39-K39 -> 0 | N39: =IF(K39+L39=0,0,IF(K39=0,100,M39/K39%)) -> 0
H40: 적립금 및 준비금 지출 | I40: 적립금지출 | J40: 운영충당적립금 지출 | K40: =세출!D102 -> 0 | L40: =세출!E102 -> 0 | M40: =L40-K40 -> 0 | N40: =IF(K40+L40=0,0,IF(K40=0,100,M40/K40%)) -> 0
I41: 준비금지출 | J41: 시설환경개선준비금지출 | K41: =세출!D103 -> 0 | L41: =세출!E103 -> 0 | M41: =L41-K41 -> 0 | N41: =IF(K41+L41=0,0,IF(K41=0,100,M41/K41%)) -> 0

Sheet 세입
A1: =총괄표!A1 -> 가족사랑요양원1
A2: 세입예산서
T3: (예산단위 : 천원, 산출기초 : 원)
A4: 과목 | D4: =총괄표!D5 -> 19년도 추경예산액 (A) | E4: =총괄표!E5 -> 20년도 예산액 (B) | F4: 증감(B-A) | H4: 자금원천 구분(단위 : 원) | M4: 산출기초
A5: 관 | B5: 항 | C5: 목 | F5: 액수 | G5: 비율(%) | H5: 보조금 | I5: 자부담 | J5: 후원금 | K5: 수익사업 | L5: 계
A6: 총 계 | D6: =D7+D25+D28+D31+D39+D43+D49+D53+D59+D65+D72 -> 275040000 | E6: =E7+E25+E28+E31+E39+E43+E49+E53+E59+E65+E72 -> 292135000 | F6: =E6-D6 -> 17095000 | G6: =IF(D6+E6=0,0,IF(D6=0,100,F6/D6%)) -> 6.2154596 | H6: =H7+H25+H28+H31+H39+H43+H49+H53+H59+H65+H72 -> 0 | I6: =I7+I25+I28+I31+I39+I43+I49+I53+I59+I65+I72 -> 292135000 | J6: =J7+J25+J28+J31+J39+J43+J49+J53+J59+J65+J72 -> 0 | K6: =K7+K25+K28+K31+K39+K43+K49+K53+K59+K65+K72 -> 0 | L6: =L7+L25+L28+L31+L39+L43+L49+L53+L59+L65+L72 -> 292135000 | M6: 세입 총금액 | V6: =W7+W25+W28+W31+W39+W43+W49+W53+W59+W65+W72 -> 292135000
A7: 01.입소자(이용자)부담금수입 | D7: =D8 -> 73923980 | E7: =E8 -> 77729496 | F7: =E7-D7 -> 3805516 | G7: =IF(D7+E7=0,0,IF(D7=0,100,F7/D7%)) -> 5.1478776 | H7: =H8 -> 0 | I7: =I8 -> 77729496 | J7: =J8 -> 0 | K7: =K8 -> 0 | L7: =L8 -> 77729496 | M7: 입소자(이용자)부담금수입 합계 | W7: =W8 -> 77729496
B8: 11.입소(이용)비용수입 | D8: =SUM(D9:D23) -> 73923980 | E8: =SUM(E9:E23) -> 77729496 | F8: =E8-D8 -> 3805516 | G8: =IF(D8+E8=0,0,IF(D8=0,100,F8/D8%)) -> 5.1478776 | H8: =SUM(H9:H23) -> 0 | I8: =SUM(I9:I23) -> 77729496 | J8: =SUM(J9:J23) -> 0 | K8: =SUM(K9:K23) -> 0 | L8: =SUM(L9:L23) -> 77729496 | M8: 입소(이용)비용수입 합계 | W8: =SUM(W9:W24) -> 77729496
C9: 111.입소(이용)비용수입 | D9: 0 | E9: =W9 -> 0 | F9: =E9-D9 -> 0 | G9: =IF(D9+E9=0,0,IF(D9=0,100,F9/D9%)) -> 0 | H9: 0 | I9: =W9 -> 0 | J9: 0 | K9: 0 | L9: =SUM(H9:K9) -> 0 | M9: 입소(이용)비용수입 | W9: 0
C10: 112.본인부담금수입 | D10: 31226480 | E10: =SUM(W10:W18) -> 32075496 | F10: =E10-D10 -> 849016 | G10: =IF(D10+E10=0,0,IF(D10=0,100,F10/D10%)) -> 2.7188976 | H10: 0 | I10: =SUM(W10:W18) -> 32075496 | J10: 0 | K10: 0 | L10: =SUM(H10:K10) -> 32075496 | M10: 본인부담금수입 | N10: 2672958 | O10: 원 | S10: x | T10: 12 | U10: 월 | V10: = | W10: =N10*T10 -> 32075496
M12: (2등급 일반 3명/ 3등급 일반 4명/ 3등급 경감 2명)
C19: 113.식재료비수입 | D19: 34492500 | E19: =W19 -> 37449000 | F19: =E19-D19 -> 2956500 | G19: =IF(D19+E19=0,0,IF(D19=0,100,F19/D19%)) -> 8.5714286 | H19: 0 | I19: =W19 -> 37449000 | J19: 0 | K19: 0 | L19: =SUM(H19:K19) -> 37449000 | M19: 식재료비 | N19: 11400 | O19: 원 | P19: × | Q19: 9 | R19: 명 | S19: × | T19: 365 | U19: 일 | V19: = | W19: =N19*Q19*T19 -> 37449000
C20: 114.상급침실이용료 | D20: 1680000 | E20: =SUM(W20:W21) -> 1680000 | F20: =E20-D20 -> 0 | G20: =IF(D20+E20=0,0,IF(D20=0,100,F20/D20%)) -> 0 | H20: 0 | I20: =SUM(W20:W21) -> 1680000 | J20: 0 | K20: 0 | L20: =SUM(H20:K20) -> 1680000 | M20: 1인실 | N20: 70000 | O20: 원 | P20: × | Q20: 2 | R20: 명 | S20: × | T20: 12 | U20: 월 | V20: = | W20: =N20*Q20*T20 -> 1680000
C22: 115.이미용비 | D22: 0 | E22: =W22 -> 0 | F22: =E22-D22 -> 0 | G22: =IF(D22+E22=0,0,IF(D22=0,100,F22/D22%)) -> 0 | H22: 0 | I22: =W22 -> 0 | J22: 0 | K22: 0 | L22: =SUM(H22:K22) -> 0 | M22: 이미용비 | W22: 0
C23: 116.기타비급여수입 | D23: 6525000 | E23: =W23+W24 -> 6525000 | F23: =E23-D23 -> 0 | G23: =IF(D23+E23=0,0,IF(D23=0,100,F23/D23%)) -> 0 | H23: 0 | I23: =W23+W24 -> 6525000 | J23: 0 | K23: 0 | L23: =SUM(H23:K23) -> 6525000 | M23: 의료비/촉탁비등 | N23: 30000 | O23: 원 | P23: × | Q23: 9 | R23: 명 | S23: × | T23: 12 | U23: 월 | V23: = | W23: =N23*Q23*T23 -> 3240000
M24: 간식비 | N24: 1000 | O24: 원 | P24: × | Q24: 9 | R24: 명 | S24: × | T24: 365 | U24: 일 | V24: = | W24: =N24*Q24*T24 -> 3285000
A25: 02.사업수입 | D25: =D26 -> 0 | E25: =E26 -> 0 | F25: =E25-D25 -> 0 | G25: =IF(D25+E25=0,0,IF(D25=0,100,F25/D25%)) -> 0 | H25: =H26 -> 0 | I25: =I26 -> 0 | J25: =J26 -> 0 | K25: =K26 -> 0 | L25: =L26 -> 0 | M25: 사업수입 합계 | W25: =W26 -> 0
B26: 21.사업수입 | D26: =SUM(D27:D27) -> 0 | E26: =SUM(E27:E27) -> 0 | F26: =E26-D26 -> 0 | G26: =IF(D26+E26=0,0,IF(D26=0,100,F26/D26%)) -> 0 | H26: =SUM(H27:H27) -> 0 | I26: =SUM(I27:I27) -> 0 | J26: =SUM(J27:J27) -> 0 | K26: =SUM(K27:K27) -> 0 | L26: =SUM(L27:L27) -> 0 | M26: 사업수입 합계 | W26: =SUM(W27:W27) -> 0
C27: 211.사업수입 | D27: 0 | E27: =W27 -> 0 | F27: =E27-D27 -> 0 | G27: =IF(D27+E27=0,0,IF(D27=0,100,F27/D27%)) -> 0 | H27: 0 | I27: =W27 -> 0 | J27: 0 | K27: 0 | L27: =SUM(H27:K27) -> 0 | M27: 사업수입 | W27: 0
A28: 03.과년도수입 | D28: =D29 -> 0 | E28: =E29 -> 0 | F28: =E28-D28 -> 0 | G28: =IF(D28+E28=0,0,IF(D28=0,100,F28/D28%)) -> 0 | H28: =H29 -> 0 | I28: =I29 -> 0 | J28: =J29 -> 0 | K28: =K29 -> 0 | L28: =L29 -> 0 | M28: 과년도수입 합계 | W28: =W29 -> 0
B29: 31.과년도수입 | D29: =D30 -> 0 | E29: =SUM(E30) -> 0 | F29: =E29-D29 -> 0 | G29: =IF(D29+E29=0,0,IF(D29=0,100,F29/D29%)) -> 0 | H29: =H30 -> 0 | I29: =I30 -> 0 | J29: =J30 -> 0 | K29: =K30 -> 0 | L29: =L30 -> 0 | M29: 과년도수입 합계 | W29: =SUM(W30) -> 0
C30: 311.과년도수입 | D30: 0 | E30: =W30 -> 0 | F30: =E30-D30 -> 0 | G30: =IF(D30+E30=0,0,IF(D30=0,100,F30/D30%)) -> 0 | H30: 0 | I30: =W30 -> 0 | J30: 0 | K30: 0 | L30: =SUM(H30:K30) -> 0 | M30: 과년도수입 | W30: 0
A31: 04.보조금수입 | D31: =D32 -> 1542000 | E31: =E32 -> 0 | F31: =E31-D31 -> -1542000 | G31: =IF(D31+E31=0,0,IF(D31=0,100,F31/D31%)) -> -100 | H31: =H32 -> 0 | I31: =I32 -> 0 | J31: =J32 -> 0 | K31: =K32 -> 0 | L31: =L32 -> 0 | M31: 보조금수입 합계 | W31: =W32 -> 0
B32: 41.보조금수입 | D32: =SUM(D33:D38) -> 1542000 | E32: =SUM(E33:E38) -> 0 | F32: =E32-D32 -> -1542000 | G32: =IF(D32+E32=0,0,IF(D32=0,100,F32/D32%)) -> -100 | H32: =SUM(H33:H38) -> 0 | I32: =SUM(I33:I38) -> 0 | J32: =SUM(J33:J38) -> 0 | K32: =SUM(K33:K38) -> 0 | L32: =SUM(L33:L38) -> 0 | M32: 보조금수입 합계 | W32: =SUM(W33:W38) -> 0
C33: 411.국고보조금 | D33: 0 | E33: =SUM(W33:W33) -> 0 | F33: =E33-D33 -> 0 | G33: =IF(D33+E33=0,0,IF(D33=0,100,F33/D33%)) -> 0 | H33: =W33 -> 0 | I33: 0 | J33: 0 | K33: 0 | L33: =SUM(H33:K33) -> 0 | M33: 국고보조금 | W33: 0
C34: 412.시.도보조금 | D34: 0 | E34: =W34 -> 0 | F34: =E34-D34 -> 0 | G34: =IF(D34+E34=0,0,IF(D34=0,100,F34/D34%)) -> 0 | H34: =W34 -> 0 | I34: 0 | J34: 0 | K34: 0 | L34: =SUM(H34:K34) -> 0 | M34: 시도보조금 | W34: 0
C35: 413.시.군.구보조금 | D35: 0 | E35: =SUM(W35:W37) -> 0 | F35: =E35-D35 -> 0 | G35: =IF(D35+E35=0,0,IF(D35=0,100,F35/D35%)) -> 0 | H35: =SUM(W35:W37) -> 0 | I35: 0 | J35: 0 | K35: 0 | L35: =SUM(H35:K35) -> 0 | M35: 기초생활수급자보조금 | N35: 252812 | O35: 원 | P35: × | R35: 명 | S35: × | T35: 12 | U35: 월 | V35: = | W35: =N35*Q35*T35 -> 0
M36: 월동대책비 | N36: 35394 | O36: 원 | P36: × | R36: 명 | S36: × | T36: 1 | U36: 회 | V36: = | W36: =N36*Q36*T36 -> 0
M37: 특별위로금 | N37: 36300 | O37: 원 | P37: × | R37: 명 | S37: × | T37: 2 | U37: 회 | V37: = | W37: =N37*Q37*T37 -> 0
C38: 414.기타보조금 | D38: 1542000 | E38: =W38 -> 0 | F38: =E38-D38 -> -1542000 | G38: =IF(D38+E38=0,0,IF(D38=0,100,F38/D38%)) -> -100 | H38: =W38 -> 0 | I38: 0 | J38: 0 | K38: 0 | L38: =SUM(H38:K38) -> 0 | M38: 기타보조금
A39: 05.후원금 | D39: =D40 -> 0 | E39: =E40 -> 0 | F39: =E39-D39 -> 0 | G39: =IF(D39+E39=0,0,IF(D39=0,100,F39/D39%)) -> 0 | H39: =H40 -> 0 | I39: =I40 -> 0 | J39: =J40 -> 0 | K39: =K40 -> 0 | L39: =L40 -> 0 | M39: 후원금 합계 | W39: =W40 -> 0
B40: 51.후원금 | D40: =SUM(D41:D42) -> 0 | E40: =SUM(E41:E42) -> 0 | F40: =E40-D40 -> 0 | G40: =IF(D40+E40=0,0,IF(D40=0,100,F40/D40%)) -> 0 | H40: =SUM(H41:H42) -> 0 | I40: =SUM(I41:I42) -> 0 | J40: =SUM(J41:J42) -> 0 | K40: =SUM(K41:K42) -> 0 | L40: =SUM(L41:L42) -> 0 | M40: 후원금 합계 | W40: =SUM(W41:W42) -> 0
C41: 511.지정후원금 | D41: 0 | E41: =W41 -> 0 | F41: =E41-D41 -> 0 | G41: =IF(D41+E41=0,0,IF(D41=0,100,F41/D41%)) -> 0 | H41: 0 | I41: 0 | J41: =W41 -> 0 | K41: 0 | L41: =SUM(H41:K41) -> 0 | M41: 지정후원금 | W41: =N41*T41 -> 0
C42: 512.비지정후원금 | D42: 0 | E42: =W42 -> 0 | F42: =E42-D42 -> 0 | G42: =IF(D42+E42=0,0,IF(D42=0,100,F42/D42%)) -> 0 | H42: 0 | I42: 0 | J42: =W42 -> 0 | K42: 0 | L42: =SUM(H42:K42) -> 0 | M42: 비지정후원금 | W42: 0
A43: 06.요양급여수입 | D43: =D44 -> 149920416 | E43: =E44 -> 171730512 | F43: =E43-D43 -> 21810096 | G43: =IF(D43+E43=0,0,IF(D43=0,100,F43/D43%)) -> 14.547782 | H43: =H44 -> 0 | I43: =I44 -> 171730512 | J43: =J44 -> 0 | K43: =K44 -> 0 | L43: =L44 -> 171730512 | M43: 요양급여수입 합계 | W43: =W44 -> 171730512
B44: 61.요양급여수입 | D44: =SUM(D45:D48) -> 149920416 | E44: =SUM(E45:E48) -> 171730512 | F44: =E44-D44 -> 21810096 | G44: =IF(D44+E44=0,0,IF(D44=0,100,F44/D44%)) -> 14.547782 | H44: =SUM(H45:H48) -> 0 | I44: =SUM(I45:I48) -> 171730512 | J44: =SUM(J45:J48) -> 0 | K44: =SUM(K45:K48) -> 0 | L44: =SUM(L45:L48) -> 171730512 | M44: 요양급여수입 합계 | W44: =SUM(W45:W48) -> 171730512
C45: 611.장기요양급여 수입 | D45: 149920416 | E45: =SUM(W45:W47) -> 171730512 | F45: =E45-D45 -> 21810096 | G45: =IF(D45+E45=0,0,IF(D45=0,100,F45/D45%)) -> 14.547782 | H45: 0 | I45: =SUM(W45:W47) -> 171730512 | J45: 0 | K45: 0 | L45: =SUM(H45:K45) -> 171730512 | M45: 장기요양급여수입 | N45: 14310876 | O45: 원 | S45: × | T45: 12 | U45: 월 | V45: = | W45: =N45*T45 -> 171730512
C48: 612.가산금수입 | D48: 0 | E48: =W48 -> 0 | F48: =E48-D48 -> 0 | G48: =IF(D48+E48=0,0,IF(D48=0,100,F48/D48%)) -> 0 | H48: 0 | I48: =W48 -> 0 | J48: 0 | K48: 0 | L48: =SUM(H48:K48) -> 0 | M48: 가산금수입
A49: 07.차입금 | D49: =D50 -> 40000000 | E49: =E50 -> 33000000 | F49: =E49-D49 -> -7000000 | G49: =IF(D49+E49=0,0,IF(D49=0,100,F49/D49%)) -> -17.5 | H49: =H50 -> 0 | I49: =I50 -> 33000000 | J49: =J50 -> 0 | K49: =K50 -> 0 | L49: =L50 -> 33000000 | M49: 차입금 합계 | W49: =W50 -> 33000000
B50: 71.차입금 | D50: =SUM(D51:D52) -> 40000000 | E50: =SUM(E51:E52) -> 33000000 | F50: =E50-D50 -> -7000000 | G50: =IF(D50+E50=0,0,IF(D50=0,100,F50/D50%)) -> -17.5 | H50: =SUM(H51:H52) -> 0 | I50: =SUM(I51:I52) -> 33000000 | J50: =SUM(J51:J52) -> 0 | K50: =SUM(K51:K52) -> 0 | L50: =SUM(L51:L52) -> 33000000 | M50: 차입금 합계 | W50: =SUM(W51:W52) -> 33000000
C51: 711.금융기관차입금 | D51: 0 | E51: =SUM(W51:W51) -> 0 | F51: =E51-D51 -> 0 | G51: =IF(D51+E51=0,0,IF(D51=0,100,F51/D51%)) -> 0 | H51: 0 | I51: =W51 -> 0 | J51: 0 | K51: 0 | L51: =SUM(H51:K51) -> 0 | M51: 금융기관차입금 | O51: 원 | S51: × | U51: 회 | V51: = | W51: =N51*T51 -> 0
C52: 712.기타차입금 | D52: 40000000 | E52: =W52 -> 33000000 | F52: =E52-D52 -> -7000000 | G52: =IF(D52+E52=0,0,IF(D52=0,100,F52/D52%)) -> -17.5 | H52: 0 | I52: =W52 -> 33000000 | J52: 0 | K52: 0 | L52: =SUM(H52:K52) -> 33000000 | M52: 기타차입금 | O52: 원 | S52: × | U52: 회 | V52: = | W52: 33000000
A53: 08.전입금 | D53: =D54 -> 0 | E53: =E54 -> 0 | F53: =E53-D53 -> 0 | G53: =IF(D53+E53=0,0,IF(D53=0,100,F53/D53%)) -> 0 | H53: =H54 -> 0 | I53: =I54 -> 0 | J53: =J54 -> 0 | K53: =K54 -> 0 | L53: =L54 -> 0 | M53: 전입금 합계 | W53: =W54 -> 0
B54: 81.전입금 | D54: =SUM(D55:D58) -> 0 | E54: =SUM(E55:E58) -> 0 | F54: =E54-D54 -> 0 | G54: =IF(D54+E54=0,0,IF(D54=0,100,F54/D54%)) -> 0 | H54: =SUM(H55:H58) -> 0 | I54: =SUM(I55:I58) -> 0 | J54: =SUM(J55:J58) -> 0 | K54: =SUM(K55:K58) -> 0 | L54: =SUM(L55:L58) -> 0 | M54: 전입금 합계 | W54: =SUM(W55:W58) -> 0
C55: 811.법인전입금 | D55: 0 | E55: =W55 -> 0 | F55: =E55-D55 -> 0 | G55: =IF(D55+E55=0,0,IF(D55=0,100,F55/D55%)) -> 0 | H55: 0 | I55: =W55 -> 0 | J55: 0 | K55: 0 | L55: =SUM(H55:K55) -> 0 | M55: 법인전입금 | W55: 0
C56: 812.법인전입금 (후원금) | D56: 0 | E56: =W56 -> 0 | F56: =E56-D56 -> 0 | G56: =IF(D56+E56=0,0,IF(D56=0,100,F56/D56%)) -> 0 | H56: 0 | I56: =W56 -> 0 | J56: 0 | K56: 0 | L56: =SUM(H56:K56) -> 0 | M56: 법인전입금(후원금) | W56: 0
C57: 813.기타전입금 | D57: 0 | E57: =W57 -> 0 | F57: =E57-D57 -> 0 | G57: =IF(D57+E57=0,0,IF(D57=0,100,F57/D57%)) -> 0 | H57: 0 | I57: =W57 -> 0 | J57: 0 | K57: 0 | L57: =SUM(H57:K57) -> 0 | M57: 기타전입금 | W57: 0
C58: 814.기타전입금 (후원금) | D58: 0 | E58: =W58 -> 0 | F58: =E58-D58 -> 0 | G58: =IF(D58+E58=0,0,IF(D58=0,100,F58/D58%)) -> 0 | H58: 0 | I58: =W58 -> 0 | J58: 0 | K58: 0 | L58: =SUM(H58:K58) -> 0 | M58: 기타전입금(후원금) | W58: 0
A59: 09.이월금 | D59: =D60 -> 41600 | E59: =E60 -> 300000 | F59: =E59-D59 -> 258400 | G59: =IF(D59+E59=0,0,IF(D59=0,100,F59/D59%)) -> 621.15385 | H59: =H60 -> 0 | I59: =I60 -> 300000 | J59: =J60 -> 0 | K59: =K60 -> 0 | L59: =L60 -> 300000 | M59: 이월금 합계 | W59: =W60 -> 300000
B60: 91.이월금 | D60: =SUM(D61:D64) -> 41600 | E60: =SUM(E61:E64) -> 300000 | F60: =E60-D60 -> 258400 | G60: =IF(D60+E60=0,0,IF(D60=0,100,F60/D60%)) -> 621.15385 | H60: =SUM(H61:H64) -> 0 | I60: =SUM(I61:I64) -> 300000 | J60: =SUM(J61:J64) -> 0 | K60: =SUM(K61:K64) -> 0 | L60: =SUM(L61:L64) -> 300000 | M60: 이월금 합계 | W60: =SUM(W61:W64) -> 300000
C61: 911.전년도이월금 | D61: 41600 | E61: =W61+W62 -> 300000 | F61: =E61-D61 -> 258400 | G61: =IF(D61+E61=0,0,IF(D61=0,100,F61/D61%)) -> 621.15385 | H61: 0 | I61: =W61 -> 300000 | J61: 0 | K61: 0 | L61: =SUM(H61:K61) -> 300000 | M61: 전년도이월금(자부담) | W61: 300000
H62: =W62 -> 0 | I62: 0 | J62: 0 | K62: 0 | L62: =SUM(H62:K62) -> 0 | M62: 전년도이월금(보조금) | W62: 0
C63: 912.전년도이월금 (후원금) | D63: 0 | E63: =W63 -> 0 | F63: =E63-D63 -> 0 | G63: =IF(D63+E63=0,0,IF(D63=0,100,F63/D63%)) -> 0 | H63: 0 | I63: 0 | J63: =W63 -> 0 | K63: 0 | L63: =SUM(H63:K63) -> 0 | M63: 전년도이월금(후원금) | W63: 0
C64: 913.전년도이월금 (식재료비) | D64: 0 | E64: =W64 -> 0 | F64: =E64-D64 -> 0 | G64: =IF(D64+E64=0,0,IF(D64=0,100,F64/D64%)) -> 0 | H64: 0 | I64: =W64 -> 0 | J64: 0 | K64: 0 | L64: =SUM(H64:K64) -> 0 | M64: 전년도이월금(식재료비) | W64: 0
A65: 10.잡수입 | D65: =D66 -> 9612004 | E65: =E66 -> 9374992 | F65: =E65-D65 -> -237012 | G65: =IF(D65+E65=0,0,IF(D65=0,100,F65/D65%)) -> -2.4657917 | H65: =H66 -> 0 | I65: =I66 -> 9374992 | J65: =J66 -> 0 | K65: =K66 -> 0 | L65: =L66 -> 9374992 | M65: 잡수입 합계 | W65: =W66 -> 9374992
B66: 101.잡수입 | D66: =SUM(D67:D71) -> 9612004 | E66: =SUM(E67:E71) -> 9374992 | F66: =E66-D66 -> -237012 | G66: =IF(D66+E66=0,0,IF(D66=0,100,F66/D66%)) -> -2.4657917 | H66: =SUM(H67:H71) -> 0 | I66: =SUM(I67:I71) -> 9374992 | J66: =SUM(J67:J71) -> 0 | K66: =SUM(K67:K71) -> 0 | L66: =SUM(L67:L71) -> 9374992 | M66: 잡수입 합계 | W66: =SUM(W67:W71) -> 9374992
C67: 1011.불용품매각대 | D67: 0 | E67: =W67 -> 0 | F67: =E67-D67 -> 0 | G67: =IF(D67+E67=0,0,IF(D67=0,100,F67/D67%)) -> 0 | H67: 0 | I67: =W67 -> 0 | J67: 0 | K67: 0 | L67: =SUM(H67:K67) -> 0 | M67: 불푱품매각대 | W67: 0
C68: 1012.기타예금이자수입 | D68: 12004 | E68: =W68+W69 -> 14992 | F68: =E68-D68 -> 2988 | G68: =IF(D68+E68=0,0,IF(D68=0,100,F68/D68%)) -> 24.891703 | H68: 0 | I68: =W68 -> 14992 | J68: 0 | K68: 0 | L68: =SUM(H68:K68) -> 14992 | M68: 예금이자(자부담) | N68: 14992 | O68: 원 | P68: × | Q68: 1 | R68: 회 | V68: = | W68: =N68*Q68 -> 14992
H69: =W69 -> 0 | I69: 0 | J69: 0 | K69: 0 | L69: =SUM(H69:K69) -> 0 | M69: 예금이자(보조금) | O69: 원 | P69: × | Q69: 1 | R69: 회 | V69: = | W69: =N69*Q69 -> 0
C70: 1013.직원식재료수입 | D70: 0 | E70: =W70 -> 0 | F70: =E70-D70 -> 0 | G70: =IF(D70+E70=0,0,IF(D70=0,100,F70/D70%)) -> 0 | I70: =W70 -> 0 | K70: 0 | L70: =SUM(H70:K70) -> 0 | M70: 직원식비
C71: 1015.일자리안정자금 | D71: 9600000 | E71: =W71 -> 9360000 | F71: =E71-D71 -> -240000 | G71: =IF(D71+E71=0,0,IF(D71=0,100,F71/D71%)) -> -2.5 | H71: 0 | I71: =W71 -> 9360000 | J71: 0 | K71: 0 | L71: =SUM(H71:K71) -> 9360000 | M71: 일자리안정자금 | N71: 780000 | O71: 원 | S71: × | T71: 12 | U71: 회 | V71: = | W71: =N71*T71 -> 9360000
A72: 11.적립금 및 준비금 | D72: =D73 -> 0 | E72: =E73 -> 0 | F72: =E72-D72 -> 0 | G72: =IF(D72+E72=0,0,IF(D72=0,100,F72/D72%)) -> 0 | H72: =H73 -> 0 | I72: =I73 -> 0 | J72: =J73 -> 0 | K72: =K73 -> 0 | L72: =L73 -> 0 | M72: 적립금 및 준비금 합계 | W72: =W73 -> 0
B73: 111.운영충당적립금및환경개선준비금 | D73: =SUM(D74:D75) -> 0 | E73: =SUM(E74:E75) -> 0 | F73: =E73-D73 -> 0 | G73: =IF(D73+E73=0,0,IF(D73=0,100,F73/D73%)) -> 0 | H73: =SUM(H74:H75) -> 0 | I73: =SUM(I74:I75) -> 0 | J73: =SUM(J74:J75) -> 0 | K73: =SUM(K74:K75) -> 0 | L73: =SUM(L74:L75) -> 0 | M73: 운영충당적립금 및 환경개선준비금 합계 | W73: =SUM(W74:W75) -> 0
C74: 1111.운영충당적립금 | D74: 0 | E74: =W74 -> 0 | F74: =E74-D74 -> 0 | G74: =IF(D74+E74=0,0,IF(D74=0,100,F74/D74%)) -> 0 | H74: 0 | I74: =W74 -> 0 | J74: 0 | K74: 0 | L74: =SUM(H74:K74) -> 0 | M74: 운영충당적립금 | W74: 0
C75: 1112.시설환경개선준비금 | D75: 0 | E75: =W75 -> 0 | F75: =E75-D75 -> 0 | G75: =IF(D75+E75=0,0,IF(D75=0,100,F75/D75%)) -> 0 | H75: 0 | I75: =W75 -> 0 | J75: 0 | K75: 0 | L75: =SUM(H75:K75) -> 0 | M75: 시설환경개선준비금 | W75: =N75*Q75*T75 -> 0

Sheet 세출
A1: =총괄표!A1 -> 가족사랑요양원1
A2: 세출예산서
T3: (예산단위 : 천원, 산출기초 : 원)
A4: 과목 | D4: =세입!D4:D5 -> 19년도 추경예산액 (A) | E4: =세입!E4:E5 -> 20년도 예산액 (B) | F4: 증감(B-A) | H4: 자금원천 구분(단위 : 원) | M4: 산출기초
A5: 관 | B5: 항 | C5: 목 | F5: 액수 | G5: 비율(%) | H5: 보조금 | I5: 자부담 | J5: 후원금 | K5: 수익사업 | L5: 계
A6: 총 계 | D6: =D7+D56+D64+D78+D82+D85+D89+D92+D96+D100 -> 275040000 | E6: =E7+E56+E64+E78+E82+E85+E89+E92+E96+E100 -> 292135000 | F6: =E6-D6 -> 17095000 | G6: =IF(D6+E6=0,0,IF(D6=0,100,F6/D6%)) -> 6.2154596 | H6: =H7+H56+H64+H78+H82+H85+H89+H92+H96+H100 -> #REF! | I6: =I7+I56+I64+I78+I82+I85+I89+I92+I96+I100 -> 292135000 | J6: =J7+J56+J64+J78+J82+J85+J89+J92+J96+J100 -> 0 | K6: =K7+K56+K64+K78+K82+K85+K89+K92+K96+K100 -> 0 | L6: =L7+L56+L64+L78+L82+L85+L89+L92+L96+L100 -> #REF! | M6: 세출 총 금액 | V6: =W7+W56+W64+W78+W82+W85+W89+W92+W96+W100 -> 292135000 | Z6: =세입!V6-세출!V6 -> 0
A7: 01.사무비 | D7: =D8+D24+D32 -> 228330500 | E7: =E32+E24+E8 -> 244941000 | F7: =E7-D7 -> 16610500 | G7: =IF(D7+E7=0,0,IF(D7=0,100,F7/D7%)) -> 7.2747618 | H7: =H8+H24+H32 -> 0 | I7: =I8+I24+I32 -> 244941000 | J7: =J8+J24+J32 -> 0 | K7: =K8+K24+K32 -> 0 | L7: =L8+L24+L32 -> 244941000 | M7: 사무비 합계 | W7: =W8+W24+W32 -> 244941000
B8: 11.인건비 | D8: =D9+D12+D15+D18+D21 -> 169654874 | E8: =E9+E12+E15+E18+E21 -> 185315670 | F8: =E8-D8 -> 15660796 | G8: =IF(D8+E8=0,0,IF(D8=0,100,F8/D8%)) -> 9.2309732 | H8: =H9+H12+H15+H18+H21 -> 0 | I8: =I9+I12+I15+I18+I21 -> 185315670 | J8: =J9+J12+J15+J18+J21 -> 0 | K8: =K9+K12+K15+K18+K21 -> 0 | L8: =L9+L12+L15+L18+L21 -> 185315670 | M8: 인건비 합계 | W8: =W9+W12+W15+W18+W21 -> 185315670
C9: 111.급여 | D9: 136500000 | E9: =W9 -> 153942320 | F9: =E9-D9 -> 17442320 | G9: =IF(D9+E9=0,0,IF(D9=0,100,F9/D9%)) -> 12.778256 | H9: 0 | I9: =W9 -> 153942320 | J9: 0 | K9: 0 | L9: =SUM(H9:K9) -> 153942320 | M9: 급여 소계 | W9: =SUM(W10:W11) -> 153942320
M10: 급여(직접비) | W10: =보수일람표!F4 -> 109598600
M11: 급여(간접비) | W11: =보수일람표!F3 -> 44343720
C12: 112.제수당 | D12: 3937040 | E12: =W12 -> 2481600 | F12: =E12-D12 -> -1455440 | G12: =IF(D12+E12=0,0,IF(D12=0,100,F12/D12%)) -> -36.967874 | H12: 0 | I12: =W12 -> 2481600 | J12: 0 | K12: 0 | L12: =SUM(H12:K12) -> 2481600 | M12: 제수당 소계 | W12: =SUM(W13:W14) -> 2481600
M13: 제수당(직접비) | W13: =보수일람표!G4 -> 2080800
M14: 제수당(간접비) | W14: =보수일람표!G3 -> 400800
C15: 113.일용잡급 | D15: 500000 | E15: =W15 -> 0 | F15: =E15-D15 -> -500000 | G15: =IF(D15+E15=0,0,IF(D15=0,100,F15/D15%)) -> -100 | H15: 0 | I15: =W15 -> 0 | J15: 0 | K15: 0 | L15: =SUM(H15:K15) -> 0 | M15: 일용잡급 소계 | W15: =SUM(W16:W17) -> 0
M16: 일용잡급(직접비) | W16: =보수일람표!H4 -> 0
M17: 일용잡급(간접비) | W17: =보수일람표!H3 -> 0
C18: 115.퇴직금및 | D18: 11278640 | E18: =W18 -> 13035326 | F18: =E18-D18 -> 1756686 | G18: =IF(D18+E18=0,0,IF(D18=0,100,F18/D18%)) -> 15.575335 | H18: 0 | I18: =W18 -> 13035326 | J18: 0 | K18: 0 | L18: =SUM(H18:K18) -> 13035326 | M18: 퇴직금 및 퇴직적립금 소계 | W18: =SUM(W19:W20) -> 13035326
C19: 퇴직적립금 | M19: 퇴직금 및 퇴직적립금(직접비) | W19: =보수일람표!I4 -> 9306616
M20: 퇴직금 및 퇴직적립금(간접비) | W20: =보수일람표!I3 -> 3728710
C21: 116.사회보험 | D21: 17439194 | E21: =W21 -> 15856424 | F21: =E21-D21 -> -1582770 | G21: =IF(D21+E21=0,0,IF(D21=0,100,F21/D21%)) -> -9.0759355 | H21: 0 | I21: =W21 -> 15856424 | J21: 0 | K21: 0 | L21: =SUM(H21:K21) -> 15856424 | M21: 사회보험부담금 소계 | W21: =SUM(W22:W23) -> 15856424
C22: 부담금 | M22: 사회보험부담금(직접비) | W22: =보수일람표!J4 -> 11320749
M23: 사회보험부담금(간접비) | W23: =보수일람표!J3 -> 4535675
B24: 12.업무추진비 | D24: =D25+D30+D28 -> 4962000 | E24: =E30+E28+E25 -> 5000000 | F24: =E24-D24 -> 38000 | G24: =IF(D24+E24=0,0,IF(D24=0,100,F24/D24%)) -> 0.76582023 | H24: =H25+H28+H30 -> 0 | I24: =I25+I28+I30 -> 5000000 | J24: =J25+J28+J30 -> 0 | K24: =K25+K28+K30 -> 0 | L24: =L25+L28+L30 -> 5000000 | M24: 업무추진비 합계 | W24: =W25+W28+W30 -> 5000000
C25: 121.기관운영비 | D25: 850000 | E25: =W25 -> 800000 | F25: =E25-D25 -> -50000 | G25: =IF(D25+E25=0,0,IF(D25=0,100,F25/D25%)) -> -5.8823529 | H25: 0 | I25: =W25 -> 800000 | J25: 0 | K25: 0 | L25: =SUM(H25:K25) -> 800000 | M25: 기관운영비 소계 | W25: =SUM(W26:W27) -> 800000
M26: 유관기관업무회의비 | N26: 50000 | O26: 원 | S26: x | T26: 12 | U26: 회 | V26: = | W26: =N26*T26 -> 600000
M27: 기관경조사비 | N27: 50000 | O27: 원 | S27: x | T27: 4 | U27: 회 | V27: = | W27: =N27*T27 -> 200000
C28: 122.직책보조비 | D28: 3500000 | E28: =W28 -> 3600000 | F28: =E28-D28 -> 100000 | G28: =IF(D28+E28=0,0,IF(D28=0,100,F28/D28%)) -> 2.8571429 | H28: 0 | I28: =W28 -> 3600000 | J28: 0 | K28: 0 | L28: =SUM(H28:K28) -> 3600000 | M28: 직책보조비 소계 | W28: =W29 -> 3600000
M29: 직책보조비 | N29: 300000 | O29: 원 | S29: x | T29: 12 | U29: 월 | V29: = | W29: =N29*T29 -> 3600000
C30: 123.회의비 | D30: 612000 | E30: =W30 -> 600000 | F30: =E30-D30 -> -12000 | G30: =IF(D30+E30=0,0,IF(D30=0,100,F30/D30%)) -> -1.9607843 | H30: 0 | I30: =W30 -> 600000 | J30: 0 | K30: 0 | L30: =SUM(H30:K30) -> 600000 | M30: 회의비 소계 | W30: =SUM(W31:W31) -> 600000
M31: 회의비 | N31: 50000 | O31: 원 | P31: × | Q31: 12 | R31: 회 | V31: = | W31: =N31*Q31 -> 600000
B32: 13.운영비 | D32: =D33+D35+D42+D49+D53+D51 -> 53713626 | E32: =E33+E35+E42+E49+E53+E51 -> 54625330 | F32: =E32-D32 -> 911704 | G32: =IF(D32+E32=0,0,IF(D32=0,100,F32/D32%)) -> 1.6973421 | H32: =H33+H35+H42+H49+H53+H51 -> 0 | I32: =I33+I35+I42+I49+I53+I51 -> 54625330 | J32: =J33+J35+J42+J49+J53+J51 -> 0 | K32: =K33+K35+K42+K49+K53+K51 -> 0 | L32: =L33+L35+L42+L49+L53+L51 -> 54625330 | M32: 운영비 합계 | W32: =W33+W35+W42+W51+W49+W53 -> 54625330
C33: 131.여비 | D33: 0 | E33: =W33 -> 0 | F33: =E33-D33 -> 0 | G33: =IF(D33+E33=0,0,IF(D33=0,100,F33/D33%)) -> 0 | H33: 0 | I33: =W33 -> 0 | J33: 0 | K33: 0 | L33: =SUM(H33:K33) -> 0 | M33: 여비 소계 | W33: =SUM(W34:W34) -> 0
M34: 여비 | N34: 0 | O34: 원 | S34: x | T34: 4 | U34: 회 | V34: = | W34: =N34*T34 -> 0
C35: 132.수용비및 | D35: 6900066 | E35: =W35 -> 5783530 | F35: =E35-D35 -> -1116536 | G35: =IF(D35+E35=0,0,IF(D35=0,100,F35/D35%)) -> -16.181526 | H35: 0 | I35: =W35 -> 5783530 | J35: 0 | K35: 0 | L35: =SUM(H35:K35) -> 5783530 | M35: 수용비 및 수수료 소계 | W35: =SUM(W36:W41) -> 5783530
C36: 수수료 | M36: 사무용품 및 소모품비 | N36: 310000 | O36: 원 | P36: × | Q36: 12 | R36: 월 | V36: = | W36: =N36*Q36 -> 3720000
M37: 정수기렌탈료 | N37: 29900 | O37: 원 | P37: × | Q37: 12 | R37: 월 | V37: = | W37: =N37*Q37 -> 358800
M38: 의료폐기물처리비 | N38: 19000 | O38: 원 | P38: × | Q38: 12 | R38: 월 | V38: = | W38: =N38*Q38 -> 228000
M39: 회계기장료 | N39: 110000 | O39: 원 | P39: × | Q39: 12 | R39: 월 | V39: = | W39: =N39*Q39 -> 1320000
M41: 각종지급수수료 | W41: 156730
C42: 133.공공요금 | D42: 6944000 | E42: =W42 -> 6595800 | F42: =E42-D42 -> -348200 | G42: =IF(D42+E42=0,0,IF(D42=0,100,F42/D42%)) -> -5.0144009 | H42: 0 | I42: =W42 -> 6595800 | J42: 0 | K42: 0 | L42: =SUM(H42:K42) -> 6595800 | M42: 공공요금 및 제세공과금 소계 | W42: =SUM(W43:W48) -> 6595800
C43: 및 제세공과금 | M43: 전기요금 | N43: 150000 | O43: 원 | P43: × | Q43: 12 | R43: 월 | V43: = | W43: =N43*Q43 -> 1800000
M44: 도시가스요금 | N44: 30000 | O44: 원 | P44: × | Q44: 12 | R44: 월 | V44: = | W44: =N44*Q44 -> 360000
M45: 수도요금 | N45: 40000 | O45: 원 | P45: × | Q45: 12 | R45: 월 | V45: = | W45: =N45*Q45 -> 480000
M46: 전화요금/인터넷요금 | N46: 58000 | O46: 원 | P46: × | Q46: 12 | R46: 월 | V46: = | W46: =N46*Q46 -> 696000
M47: 배상책임보험료 | N47: 859800 | O47: 원 | P47: × | Q47: 1 | R47: 회 | V47: = | W47: =N47*Q47 -> 859800
M48: 기타제세공과금 | N48: 200000 | O48: 원 | P48: x | Q48: 12 | R48: 월 | V48: = | W48: =N48*Q48 -> 2400000
C49: 134.차량비 | D49: 300000 | E49: =W49 -> 300000 | F49: =E49-D49 -> 0 | G49: =IF(D49+E49=0,0,IF(D49=0,100,F49/D49%)) -> 0 | H49: 0 | I49: =W49 -> 300000 | J49: 0 | K49: 0 | L49: =SUM(H49:K49) -> 300000 | M49: 차량비 소계 | W49: =SUM(W50) -> 300000
M50: 차량주유및수리비 | N50: 100000 | O50: 원 | P50: × | Q50: 3 | R50: 월 | V50: = | W50: =N50*Q50 -> 300000
C51: 135.임차료 | D51: 34759000 | E51: =W51 -> 37386000 | F51: =E51-D51 -> 2627000 | G51: =IF(D51+E51=0,0,IF(D51=0,100,F51/D51%)) -> 7.5577548 | H51: 0 | I51: =W51 -> 37386000 | J51: 0 | K51: 0 | L51: =SUM(H51:K51) -> 37386000 | M51: 임차료 소계 | W51: =SUM(W52) -> 37386000
M52: 임차료 | N52: 3115500 | O52: 원 | P52: × | Q52: 12 | R52: 월 | V52: = | W52: =N52*Q52 -> 37386000
C53: 136.기타운영비 | D53: 4810560 | E53: =W53 -> 4560000 | F53: =E53-D53 -> -250560 | G53: =IF(D53+E53=0,0,IF(D53=0,100,F53/D53%)) -> -5.2085412 | I53: =W54+W55 -> 4560000 | J53: 0 | K53: 0 | L53: =SUM(H53:K53) -> 4560000 | M53: 기타운영비 소계 | W53: =SUM(W54:W55) -> 4560000
M54: 직원명절선물 | N54: 300000 | O54: 원 | P54: × | Q54: 12 | R54: 회 | V54: = | W54: =N54*Q54 -> 3600000
M55: 직원식사/회식/간식 | N55: 80000 | O55: 원 | P55: × | Q55: 12 | R55: 월 | V55: = | W55: =N55*Q55 -> 960000
A56: 02.재산조성비 | D56: =D57 -> 3022000 | E56: =E57 -> 1600000 | F56: =E56-D56 -> -1422000 | G56: =IF(D56+E56=0,0,IF(D56=0,100,F56/D56%)) -> -47.054931 | H56: =H57 -> #REF! | I56: =I57 -> 1600000 | J56: =J57 -> 0 | K56: =K57 -> 0 | L56: =L57 -> #REF! | M56: 재산조성비 합계 | W56: =W57 -> 1600000
B57: 21.시설비 | D57: =D58+D60+D62 -> 3022000 | E57: =E58+E60+E62 -> 1600000 | F57: =E57-D57 -> -1422000 | G57: =IF(D57+E57=0,0,IF(D57=0,100,F57/D57%)) -> -47.054931 | H57: =H58+H60+H62 -> #REF! | I57: =I58+I60+I62 -> 1600000 | J57: =J58+J60+J62 -> 0 | K57: =K58+K60+K62 -> 0 | L57: =L58+L60+L62 -> #REF! | M57: 시설비 합계 | W57: =W58+W60+W62 -> 1600000
C58: 211.시설비 | D58: 0 | E58: =W58 -> 0 | F58: =E58-D58 -> 0 | G58: =IF(D58+E58=0,0,IF(D58=0,100,F58/D58%)) -> 0 | H58: 0 | I58: =W58 -> 0 | J58: 0 | K58: 0 | L58: =SUM(H58:K58) -> 0 | M58: 시설비 소계 | W58: =W59 -> 0
M59: 시설비(공사비등)
C60: 212.자산취득비 | D60: 2422000 | E60: =W60 -> 800000 | F60: =E60-D60 -> -1622000 | G60: =IF(D60+E60=0,0,IF(D60=0,100,F60/D60%)) -> -66.969447 | H60: =#REF! -> #REF! | I60: =W61 -> 800000 | J60: 0 | K60: 0 | L60: =SUM(H60:K60) -> #REF! | M60: 자산취득비 소계 | W60: =SUM(W61:W61) -> 800000
M61: 비품구입 | N61: 100000 | O61: 원 | P61: × | Q61: 8 | R61: 회 | V61: = | W61: =N61*Q61 -> 800000
C62: 213.시설장비 | D62: 600000 | E62: =SUM(W62) -> 800000 | F62: =E62-D62 -> 200000 | G62: =IF(D62+E62=0,0,IF(D62=0,100,F62/D62%)) -> 33.333333 | H62: 0 | I62: =W62 -> 800000 | J62: 0 | K62: 0 | L62: =SUM(H62:K62) -> 800000 | M62: 시설장비유지비 소계 | W62: =SUM(W63:W63) -> 800000
C63: 유지비 | M63: 시설장비유지비 | N63: 100000 | O63: 원 | P63: × | Q63: 8 | R63: 회 | V63: = | W63: =N63*Q63 -> 800000
A64: 03.사업비 | D64: =D65+D76 -> 42587500 | E64: =E65+E76 -> 45594000 | F64: =E64-D64 -> 3006500 | G64: =IF(D64+E64=0,0,IF(D64=0,100,F64/D64%)) -> 7.0595832 | H64: =H65+H76 -> 0 | I64: =I65+I76 -> 45594000 | J64: =J65+J76 -> 0 | K64: =K65+K76 -> 0 | L64: =L65+L76 -> 45594000 | M64: 사업비 합계 | W64: =W65+W76 -> 45594000
B65: 31운영비 | D65: =SUM(D66:D75) -> 42437500 | E65: =SUM(E66:E75) -> 45394000 | F65: =E65-D65 -> 2956500 | G65: =IF(D65+E65=0,0,IF(D65=0,100,F65/D65%)) -> 6.9667158 | H65: =SUM(H66:H75) -> 0 | I65: =SUM(I66:I75) -> 45394000 | J65: =SUM(J66:J75) -> 0 | K65: =SUM(K66:K75) -> 0 | L65: =SUM(L66:L75) -> 45394000 | M65: 운영비 소계 | W65: =SUM(W66:W75) -> 45394000
C66: 311.생계비 | D66: 37777500 | E66: =SUM(W66:W67) -> 40734000 | F66: =E66-D66 -> 2956500 | G66: =IF(D66+E66=0,0,IF(D66=0,100,F66/D66%)) -> 7.826087 | H66: 0 | I66: =SUM(W66:W67) -> 40734000 | J66: 0 | K66: 0 | L66: =SUM(H66:K66) -> 40734000 | M66: 생계비 | N66: 11400 | O66: 원 | P66: × | Q66: 9 | R66: 명 | S66: × | T66: 365 | U66: 일 | V66: = | W66: =N66*Q66*T66 -> 37449000
M67: 간식비 | N67: 1000 | O67: 원 | P67: × | Q67: 9 | R67: 명 | S67: × | T67: 365 | U67: 일 | V67: = | W67: =N67*Q67*T67 -> 3285000
C68: 기초생활수급자생계비 | D68: 0 | E68: =SUM(W68:W70) -> 0 | F68: =E68-D68 -> 0 | G68: =IF(D68+E68=0,0,IF(D68=0,100,F68/D68%)) -> 0 | H68: =SUM(W68:W70) -> 0 | I68: 0 | J68: 0 | K68: 0 | L68: =SUM(H68:K68) -> 0 | M68: 기초생활수급자보조금 | O68: 원 | P68: × | R68: 명 | S68: × | T68: 12 | U68: 월 | V68: = | W68: =N68*Q68*T68 -> 0
M69: 월동대책비 | O69: 원 | P69: × | R69: 명 | S69: × | T69: 1 | U69: 회 | V69: = | W69: =N69*Q69*T69 -> 0
M70: 특별위로금 | O70: 원 | P70: × | R70: 명 | S70: × | T70: 2 | U70: 회 | V70: = | W70: =N70*Q70*T70 -> 0
C71: 312.수용기관경비 | D71: 1320000 | E71: =SUM(W71:W72) -> 1320000 | F71: =E71-D71 -> 0 | G71: =IF(D71+E71=0,0,IF(D71=0,100,F71/D71%)) -> 0 | H71: 0 | I71: =SUM(W71:W72) -> 1320000 | J71: 0 | K71: 0 | L71: =SUM(H71:K71) -> 1320000 | M71: 생활용품(기저귀포함) | N71: 110000 | O71: 원 | S71: × | T71: 12 | U71: 월 | V71: = | W71: =N71*T71 -> 1320000
O72: 원 | S72: × | U72: 월 | V72: = | W72: =N72*T72 -> 0
C73: 313.의료비 | D73: 3240000 | E73: =W73+W74 -> 3240000 | F73: =E73-D73 -> 0 | G73: =IF(D73+E73=0,0,IF(D73=0,100,F73/D73%)) -> 0 | H73: 0 | I73: =W73+W74 -> 3240000 | J73: 0 | K73: 0 | L73: =SUM(H73:K73) -> 3240000 | M73: 의료비/촉탁비등 | N73: 30000 | O73: 원 | P73: × | Q73: 9 | R73: 명 | S73: × | T73: 12 | U73: 월 | V73: = | W73: =N73*Q73*T73 -> 3240000
M74: 의료용품 | O74: 원 | S74: × | T74: 12 | U74: 회 | V74: = | W74: =N74*T74 -> 0
C75: 314.장의비 | D75: 100000 | E75: =W75 -> 100000 | F75: =E75-D75 -> 0 | G75: =IF(D75+E75=0,0,IF(D75=0,100,F75/D75%)) -> 0 | H75: 0 | I75: =W75 -> 100000 | J75: 0 | K75: 0 | L75: =SUM(H75:K75) -> 100000 | M75: 장의비 | N75: 50000 | O75: 원 | S75: × | T75: 2 | U75: 회 | V75: = | W75: =N75*T75 -> 100000
B76: 32.사업비 | D76: =SUM(D77:D77) -> 150000 | E76: =SUM(E77:E77) -> 200000 | F76: =E76-D76 -> 50000 | G76: =IF(D76+E76=0,0,IF(D76=0,100,F76/D76%)) -> 33.333333 | H76: =SUM(H77:H77) -> 0 | I76: =SUM(I77:I77) -> 200000 | J76: =SUM(J77:J77) -> 0 | K76: =SUM(K77:K77) -> 0 | L76: =SUM(L77:L77) -> 200000 | M76: 사업비 소계 | W76: =SUM(W77:W77) -> 200000
C77: 321.프로그램사업비 | D77: 150000 | E77: =W77 -> 200000 | F77: =E77-D77 -> 50000 | G77: =IF(D77+E77=0,0,IF(D77=0,100,F77/D77%)) -> 33.333333 | H77: 0 | I77: =W77 -> 200000 | J77: 0 | K77: 0 | L77: =SUM(H77:K77) -> 200000 | M77: 프로그램재료비등 | N77: 100000 | O77: 원 | S77: × | T77: 2 | U77: 회 | V77: = | W77: =N77*T77 -> 200000
A78: 04.전출금 | D78: =D79 -> 500000 | E78: =E79 -> 0 | F78: =E78-D78 -> -500000 | G78: =IF(D78+E78=0,0,IF(D78=0,100,F78/D78%)) -> -100 | H78: =H79 -> 0 | I78: =I79 -> 0 | J78: =J79 -> 0 | K78: =K79 -> 0 | L78: =L79 -> 0 | M78: 전출금 합계 | W78: =W79 -> 0
B79: 41.전출금 | D79: =SUM(D80:D81) -> 500000 | E79: =SUM(E80:E81) -> 0 | F79: =E79-D79 -> -500000 | G79: =IF(D79+E79=0,0,IF(D79=0,100,F79/D79%)) -> -100 | H79: =SUM(H80:H81) -> 0 | I79: =SUM(I80:I81) -> 0 | J79: =SUM(J80:J81) -> 0 | K79: =SUM(K80:K81) -> 0 | L79: =SUM(L80:L81) -> 0 | M79: 전출금 합계 | W79: =SUM(W80:W81) -> 0
C80: 411.법인회계전출금 | D80: 0 | E80: =W80 -> 0 | F80: =E80-D80 -> 0 | G80: =IF(D80+E80=0,0,IF(D80=0,100,F80/D80%)) -> 0 | H80: 0 | I80: =W80 -> 0 | J80: 0 | K80: 0 | L80: =SUM(H80:K80) -> 0 | M80: 법인회계전출금 | W80: 0
C81: 412.기타전출금 | D81: 500000 | E81: =W81 -> 0 | F81: =E81-D81 -> -500000 | G81: =IF(D81+E81=0,0,IF(D81=0,100,F81/D81%)) -> -100 | H81: 0 | I81: =W81 -> 0 | J81: 0 | K81: 0 | L81: =SUM(H81:K81) -> 0 | M81: 기타전출금 | W81: 0
A82: 05.과년도지출 | D82: =D83 -> 0 | E82: =E83 -> 0 | F82: =E82-D82 -> 0 | G82: =IF(D82+E82=0,0,IF(D82=0,100,F82/D82%)) -> 0 | H82: =H83 -> 0 | I82: =I83 -> 0 | J82: =J83 -> 0 | K82: =K83 -> 0 | L82: =L83 -> 0 | M82: 과년도지출 합계 | W82: =W83 -> 0
B83: 51.과년도지출 | D83: =SUM(D84:D84) -> 0 | E83: =SUM(E84:E84) -> 0 | F83: =E83-D83 -> 0 | G83: =IF(D83+E83=0,0,IF(D83=0,100,F83/D83%)) -> 0 | H83: =SUM(H84:H84) -> 0 | I83: =SUM(I84:I84) -> 0 | J83: =SUM(J84:J84) -> 0 | K83: =SUM(K84:K84) -> 0 | L83: =SUM(L84:L84) -> 0 | M83: 과년도지출 합계 | W83: =SUM(W84:W84) -> 0
C84: 511.과년도지출 | D84: 0 | E84: =W84 -> 0 | F84: =E84-D84 -> 0 | G84: =IF(D84+E84=0,0,IF(D84=0,100,F84/D84%)) -> 0 | H84: 0 | I84: =W84 -> 0 | J84: 0 | K84: 0 | L84: =SUM(H84:K84) -> 0 | M84: 과년도지출 | W84: 0
A85: 06.부채상환금 | D85: =D86 -> 0 | E85: =E86 -> 0 | F85: =E85-D85 -> 0 | G85: =IF(D85+E85=0,0,IF(D85=0,100,F85/D85%)) -> 0 | H85: =H86 -> 0 | I85: =I86 -> 0 | J85: =J86 -> 0 | K85: =K86 -> 0 | L85: =L86 -> 0 | M85: 부채상환금 합계 | W85: =W86 -> 0
B86: 61.부채상환금 | D86: =SUM(D87:D88) -> 0 | E86: =SUM(E87:E88) -> 0 | F86: =E86-D86 -> 0 | G86: =IF(D86+E86=0,0,IF(D86=0,100,F86/D86%)) -> 0 | H86: =SUM(H87:H88) -> 0 | I86: =SUM(I87:I88) -> 0 | J86: =SUM(J87:J88) -> 0 | K86: =SUM(K87:K88) -> 0 | L86: =SUM(L87:L88) -> 0 | M86: 부채상환금 합계 | W86: =SUM(W87:W88) -> 0
C87: 611.원금상황금 | D87: 0 | E87: =W87 -> 0 | F87: =E87-D87 -> 0 | G87: =IF(D87+E87=0,0,IF(D87=0,100,F87/D87%)) -> 0 | H87: 0 | I87: =W87 -> 0 | J87: 0 | K87: 0 | L87: =SUM(H87:K87) -> 0 | M87: 원금상환금 | O87: 원 | S87: × | U87: 회 | V87: = | W87: =N87*T87 -> 0
C88: 612.이자지불금 | D88: 0 | E88: =W88 -> 0 | F88: =E88-D88 -> 0 | G88: =IF(D88+E88=0,0,IF(D88=0,100,F88/D88%)) -> 0 | H88: 0 | I88: =W88 -> 0 | J88: 0 | K88: 0 | L88: =SUM(H88:K88) -> 0 | M88: 대출이자 | O88: 원 | P88: × | R88: 월 | V88: = | W88: =N88*Q88 -> 0
A89: 07.잡지출 | D89: =D90 -> 600000 | E89: =E90 -> 0 | F89: =E89-D89 -> -600000 | G89: =IF(D89+E89=0,0,IF(D89=0,100,F89/D89%)) -> -100 | H89: =H90 -> 0 | I89: =I90 -> 0 | J89: =J90 -> 0 | K89: =K90 -> 0 | L89: =L90 -> 0 | M89: 잡지출 합계 | W89: =W90 -> 0
B90: 71.잡지출 | D90: =D91 -> 600000 | E90: =E91 -> 0 | F90: =E90-D90 -> -600000 | G90: =IF(D90+E90=0,0,IF(D90=0,100,F90/D90%)) -> -100 | H90: =H91 -> 0 | I90: =I91 -> 0 | J90: =J91 -> 0 | K90: =K91 -> 0 | L90: =L91 -> 0 | M90: 잡지출 소계 | W90: =W91 -> 0
C91: 711.잡지출 | D91: 600000 | E91: =W91 -> 0 | F91: =E91-D91 -> -600000 | G91: =IF(D91+E91=0,0,IF(D91=0,100,F91/D91%)) -> -100 | H91: 0 | I91: =W91 -> 0 | J91: 0 | K91: 0 | L91: =SUM(H91:K91) -> 0 | M91: 잡지출
A92: 08.예비비 및 기타 | D92: =D93 -> 0 | E92: =E93 -> 0 | F92: =E92-D92 -> 0 | G92: =IF(D92+E92=0,0,IF(D92=0,100,F92/D92%)) -> 0 | H92: =H93 -> 0 | I92: =I93 -> 0 | J92: =J93 -> 0 | K92: =K93 -> 0 | L92: =L93 -> 0 | M92: 예비비 및 기타 합계 | W92: =W93 -> 0
B93: 81.예비비 및 기타 | D93: =SUM(D94:D95) -> 0 | E93: =SUM(E94:E95) -> 0 | F93: =E93-D93 -> 0 | G93: =IF(D93+E93=0,0,IF(D93=0,100,F93/D93%)) -> 0 | H93: =SUM(H94:H95) -> 0 | I93: =SUM(I94:I95) -> 0 | J93: =SUM(J94:J95) -> 0 | K93: =SUM(K94:K95) -> 0 | L93: =SUM(L94:L95) -> 0 | M93: 예비비 소계 | W93: =SUM(W94:W95) -> 0
C94: 811.예비비 | D94: 0 | E94: =W94 -> 0 | F94: =E94-D94 -> 0 | G94: =IF(D94+E94=0,0,IF(D94=0,100,F94/D94%)) -> 0 | H94: 0 | I94: =W94 -> 0 | J94: 0 | K94: 0 | L94: =SUM(H94:K94) -> 0 | M94: 예비비 | W94: 0
C95: 812.반환금 | D95: 0 | E95: =W95 -> 0 | F95: =E95-D95 -> 0 | G95: =IF(D95+E95=0,0,IF(D95=0,100,F95/D95%)) -> 0 | H95: =W95 -> 0 | I95: 0 | J95: 0 | K95: 0 | L95: =SUM(H95:K95) -> 0 | M95: 반환금 | W95: 0
A96: 09.적립금 및 준비금 | D96: =D97 -> 0 | E96: =E97 -> 0 | F96: =E96-D96 -> 0 | G96: =IF(D96+E96=0,0,IF(D96=0,100,F96/D96%)) -> 0 | H96: =H97 -> 0 | I96: =I97 -> 0 | J96: =J97 -> 0 | K96: =K97 -> 0 | L96: =L97 -> 0 | M96: 적립금 및 준비금합계 | W96: =W97 -> 0
B97: 91.운영충당적립금 및 환경개선준비금 | D97: =SUM(D98:D99) -> 0 | E97: =SUM(E98:E99) -> 0 | F97: =E97-D97 -> 0 | G97: =IF(D97+E97=0,0,IF(D97=0,100,F97/D97%)) -> 0 | H97: =SUM(H98) -> 0 | I97: =SUM(I98:I99) -> 0 | J97: =SUM(J98:J99) -> 0 | K97: =SUM(K98:K99) -> 0 | L97: =SUM(L98:L99) -> 0 | M97: 운영충당적립금 및 환경개선준비금 소계 | W97: =SUM(W98:W99) -> 0
C98: 911.운영충당적립금 | D98: 0 | E98: =W98 -> 0 | F98: =E98-D98 -> 0 | G98: =IF(D98+E98=0,0,IF(D98=0,100,F98/D98%)) -> 0 | H98: 0 | I98: =W98 -> 0 | J98: 0 | K98: 0 | L98: =SUM(H98:K98) -> 0 | M98: 운영충당적립금 | W98: 0
C99: 912.시설환경 개선준비금 | D99: 0 | E99: =W99 -> 0 | F99: =E99-D99 -> 0 | G99: =IF(D99+E99=0,0,IF(D99=0,100,F99/D99%)) -> 0 | H99: 0 | I99: =W99 -> 0 | J99: 0 | K99: 0 | L99: =SUM(H99:K99) -> 0 | M99: 시설환경 개선준비금 | W99: 0
A100: 10.적립금 및 준비금 지출 | D100: =D101 -> 0 | E100: =E101 -> 0 | F100: =E100-D100 -> 0 | G100: =IF(D100+E100=0,0,IF(D100=0,100,F100/D100%)) -> 0 | H100: =H101 -> 0 | I100: =I101 -> 0 | J100: =J101 -> 0 | K100: =K101 -> 0 | L100: =L101 -> 0 | M100: 적립금 및 준비금 지출 합계 | W100: =W101 -> 0
B101: 101.운영충당적립금 및 환경개선준비금 지출 | D101: =SUM(D102:D103) -> 0 | E101: =SUM(E102:E103) -> 0 | F101: =E101-D101 -> 0 | G101: =IF(D101+E101=0,0,IF(D101=0,100,F101/D101%)) -> 0 | H101: =SUM(H102) -> 0 | I101: =SUM(I102) -> 0 | J101: =SUM(J102:J103) -> 0 | K101: =SUM(K102:K103) -> 0 | L101: =SUM(L102) -> 0 | M101: 운영충당적립금 및 환경개선준비금 지출 소계 | W101: =SUM(W102:W103) -> 0
...

Sheet 보수일람표
A1: 임직원보수일람표
A3: 소계 | C3: 간접 인건비 계 | F3: =SUMIF($E$8:$E$67,"간접비",F8:F67) -> 44343720 | G3: =SUMIF($E$8:$E$67,"간접비",G8:G67) -> 400800 | H3: =SUMIF($E$8:$E$67,"간접비",H8:H67) -> 0 | I3: =SUMIF($E$8:$E$67,"간접비",I8:I67) -> 3728710 | J3: =SUMIF($E$8:$E$67,"간접비",J8:J67) -> 4535675 | K3: =SUMIF($E$8:$E$67,"간접비",K8:K67) -> 2013503 | L3: =SUMIF($E$8:$E$67,"간접비",L8:L67) -> 1492229 | M3: =SUMIF($E$8:$E$67,"간접비",M8:M67) -> 152952 | ... P3: =SUMIF($E$8:$E$67,"간접비",P8:P67) -> 53008905 | R3: 수입금액 | S3: 직접비인건비 | T3: 인건비지출비율
C4: 직접 인건비 계 | F4: =SUMIF($E$8:$E$67,"직접비",F8:F67) -> 109598600 | G4: =SUMIF($E$8:$E$67,"직접비",G8:G67) -> 2080800 | H4: =SUMIF($E$8:$E$67,"직접비",H8:H67) -> 0 | I4: =SUMIF($E$8:$E$67,"직접비",I8:I67) -> 9306616 | J4: =SUMIF($E$8:$E$67,"직접비",J8:J67) -> 11320749 | K4: =SUMIF($E$8:$E$67,"직접비",K8:K67) -> 5025571 | L4: =SUMIF($E$8:$E$67,"직접비",L8:L67) -> 3724507 | M4: =SUMIF($E$8:$E$67,"직접비",M8:M67) -> 381759 | ... P4: =SUMIF($E$8:$E$67,"직접비",P8:P67) -> 132306765 | R4: =세입!L10+세입!L43 -> 203806008 | S4: =P4 -> 132306765 | T4: =(S4/R4)*100 -> 64.917991
C5: 총 인건비 계 | F5: =SUM(F3:F4) -> 153942320 | G5: =SUM(G3:G4) -> 2481600 | H5: =SUM(H3:H4) -> 0 | I5: =SUM(I3:I4) -> 13035326 | J5: =SUM(J3:J4) -> 15856424 | K5: =SUM(K3:K4) -> 7039074 | L5: =SUM(L3:L4) -> 5216736 | M5: =SUM(M3:M4) -> 534711 | ... P5: =SUM(P3:P4) -> 185315670
A6: 번호 | B6: 성명 | C6: 직종 | D6: 급여유형 | E6: 인건비구분 | F6: 급여 | G6: 각종수당 | H6: 일용잡급 | I6: 퇴직금 및 퇴직적립금 | J6: 사회보험부담금 | P6: 합계금액 | R6: 인건비구분 | S6: 급여유형 | U6: 직종
J7: 합계 | K7: 국민연금 | L7: 건강보험 | M7: 장기요양보험 | N7: 고용보험 | O7: 산재보험 | R7: 직접비 | S7: 주야간보호 | U7: 요양보호사1급, 요양보호사2급, 사회복지사, 간호사, 간호조무사, 물리치료사, 직업치료사
A8: 1 | B8: 간호조무사 | C8: 간호조무사 | D8: 노인요양공동생활가정 | E8: 직접비 | F8: 21943720 | G8: 0 | I8: =TRUNC(SUM(F8:G8)/12) -> 1828643 | J8: =SUM(K8:O8) -> 2224397 | K8: =TRUNC(SUM(F8:G8)*4.5%) -> 987467 | L8: =TRUNC(SUM(F8:G8)*3.335%) -> 731823 | M8: =TRUNC(L8*10.25%) -> 75011 | N8: =TRUNC(SUM(F8:H8)*1.05%) -> 230409 | O8: =TRUNC(SUM(F8:H8)*0.91%) -> 199687 | P8: =SUM(F8:J8) -> 25996760 | S8: 방문요양, 방문목욕 | U8: 요양보호사1급, 요양보호사2급, 사회복지사(방문요양만 해당)
A9: 2 | B9: 요양보호사1급 | C9: 요양보호사1급 | D9: 노인요양공동생활가정 | E9: 직접비 | F9: 21943720 | G9: 400800 | I9: =TRUNC(SUM(F9:G9)/12) -> 1862043 | J9: =SUM(K9:O9) -> 2265025 | K9: =TRUNC(SUM(F9:G9)*4.5%) -> 1005503 | L9: =TRUNC(SUM(F9:G9)*3.335%) -> 745189 | M9: =TRUNC(L9*10.25%) -> 76381 | N9: =TRUNC(SUM(F9:H9)*1.05%) -> 234617 | O9: =TRUNC(SUM(F9:H9)*0.91%) -> 203335 | P9: =SUM(F9:J9) -> 26471588 | S9: 단기보호 | U9: 요양보호사1급, 요양보호사2급, 사회복지사, 간호사, 간호조무사
A10: 3 | B10: 박영예 | C10: 시설장 | D10: 노인요양공동생활가정 | E10: 간접비 | F10: =1900000*12 -> 22800000 | G10: 400800 | I10: =TRUNC(SUM(F10:G10)/12) -> 1933400 | J10: =SUM(K10:O10) -> 2351825 | K10: =TRUNC(SUM(F10:G10)*4.5%) -> 1044036 | L10: =TRUNC(SUM(F10:G10)*3.335%) -> 773746 | M10: =TRUNC(L10*10.25%) -> 79308 | N10: =TRUNC(SUM(F10:H10)*1.05%) -> 243608 | O10: =TRUNC(SUM(F10:H10)*0.91%) -> 211127 | P10: =SUM(F10:J10) -> 27486025 | S10: 방문간호 | U10: 간호사, 간호조무사, 치과위생사
A11: 4 | B11: 조리원 | C11: 조리원 | D11: 노인요양공동생활가정 | E11: 간접비 | F11: 21543720 | I11: =TRUNC(SUM(F11:G11)/12) -> 1795310 | J11: =SUM(K11:O11) -> 2183850 | K11: =TRUNC(SUM(F11:G11)*4.5%) -> 969467 | L11: =TRUNC(SUM(F11:G11)*3.335%) -> 718483 | M11: =TRUNC(L11*10.25%) -> 73644 | N11: =TRUNC(SUM(F11:H11)*1.05%) -> 226209 | O11: =TRUNC(SUM(F11:H11)*0.91%) -> 196047 | P11: =SUM(F11:J11) -> 25522880 | R11: 간접비 | S11: 주야간보호, 단기보호, 방문간호 | U11: 시설장(관리책임자), 사무국장, 사무원, 영양사, 조리원, 위생원, 관리인
A12: 5 | B12: 요양보호사1급 | C12: 요양보호사1급 | D12: 노인요양공동생활가정 | E12: 직접비 | F12: 21903720 | G12: 840000 | I12: =TRUNC(SUM(F12:G12)/12) -> 1895310 | J12: =SUM(K12:O12) -> 2305492 | K12: =TRUNC(SUM(F12:G12)*4.5%) -> 1023467 | L12: =TRUNC(SUM(F12:G12)*3.335%) -> 758503 | M12: =TRUNC(L12*10.25%) -> 77746 | N12: =TRUNC(SUM(F12:H12)*1.05%) -> 238809 | O12: =TRUNC(SUM(F12:H12)*0.91%) -> 206967 | P12: =SUM(F12:J12) -> 26944522 | S12: 방문요양, 방문목욕 | U12: 시설장(관리책임자), 사무국장, 사무원, 영양사, 조리원, 위생원, 관리인, 사회복지사(방문목욕만 해당)
A13: 6 | B13: 요양보호사1급 | C13: 요양보호사1급 | D13: 노인요양공동생활가정 | E13: 직접비 | F13: 21903720 | G13: 840000 | I13: =TRUNC(SUM(F13:G13)/12) -> 1895310 | J13: =SUM(K13:O13) -> 2305492 | K13: =TRUNC(SUM(F13:G13)*4.5%) -> 1023467 | L13: =TRUNC(SUM(F13:G13)*3.335%) -> 758503 | M13: =TRUNC(L13*10.25%) -> 77746 | N13: =TRUNC(SUM(F13:H13)*1.05%) -> 238809 | O13: =TRUNC(SUM(F13:H13)*0.91%) -> 206967 | P13: =SUM(F13:J13) -> 26944522 | S13: 복지용구제공사업소 | U13: 사무국장, 사무원
A14: 7 | B14: 신입1 | C14: 요양보호사1급 | D14: 노인요양공동생활가정 | E14: 직접비 | F14: 21903720 | I14: =TRUNC(SUM(F14:G14)/12) -> 1825310 | J14: =SUM(K14:O14) -> 2220343 | K14: =TRUNC(SUM(F14:G14)*4.5%) -> 985667 | L14: =TRUNC(SUM(F14:G14)*3.335%) -> 730489 | M14: =TRUNC(L14*10.25%) -> 74875 | N14: =TRUNC(SUM(F14:H14)*1.05%) -> 229989 | O14: =TRUNC(SUM(F14:H14)*0.91%) -> 199323 | P14: =SUM(F14:J14) -> 25949373
A15: 8 | I15: =TRUNC(SUM(F15:G15)/12) -> 0 | J15: =SUM(K15:O15) -> 0 | K15: =TRUNC(SUM(F15:G15)*4.5%) -> 0 | L15: =TRUNC(SUM(F15:G15)*3.335%) -> 0 | M15: =TRUNC(L15*10.25%) -> 0 | N15: =TRUNC(SUM(F15:H15)*1.05%) -> 0 | O15: =TRUNC(SUM(F15:H15)*0.91%) -> 0 | P15: =SUM(F15:J15) -> 0
A16: 9 | I16: =TRUNC(SUM(F16:G16)/12) -> 0 | J16: =SUM(K16:O16) -> 0 | K16: =TRUNC(SUM(F16:G16)*4.5%) -> 0 | L16: =TRUNC(SUM(F16:G16)*3.335%) -> 0 | M16: =TRUNC(L16*10.25%) -> 0 | N16: =TRUNC(SUM(F16:H16)*1.05%) -> 0 | O16: =TRUNC(SUM(F16:H16)*0.91%) -> 0 | P16: =SUM(F16:J16) -> 0
A17: 10 | I17: =TRUNC(SUM(F17:G17)/12) -> 0 | J17: =SUM(K17:O17) -> 0 | K17: =TRUNC(SUM(F17:G17)*4.5%) -> 0 | L17: =TRUNC(SUM(F17:G17)*3.335%) -> 0 | M17: =TRUNC(L17*10.25%) -> 0 | N17: =TRUNC(SUM(F17:H17)*1.05%) -> 0 | O17: =TRUNC(SUM(F17:H17)*0.91%) -> 0 | P17: =SUM(F17:J17) -> 0
A18: 11 | I18: =TRUNC(SUM(F18:G18)/12) -> 0 | J18: =SUM(K18:O18) -> 0 | K18: =TRUNC(SUM(F18:G18)*4.5%) -> 0 | L18: =TRUNC(SUM(F18:G18)*3.335%) -> 0 | M18: =TRUNC(L18*10.25%) -> 0 | N18: =TRUNC(SUM(F18:H18)*1.05%) -> 0 | O18: =TRUNC(SUM(F18:H18)*0.91%) -> 0 | P18: =SUM(F18:J18) -> 0
A19: 12 | I19: =TRUNC(SUM(F19:G19)/12) -> 0 | J19: =SUM(K19:O19) -> 0 | K19: =TRUNC(SUM(F19:G19)*4.5%) -> 0 | L19: =TRUNC(SUM(F19:G19)*3.335%) -> 0 | M19: =TRUNC(L19*10.25%) -> 0 | N19: =TRUNC(SUM(F19:H19)*1.05%) -> 0 | O19: =TRUNC(SUM(F19:H19)*0.91%) -> 0 | P19: =SUM(F19:J19) -> 0
A20: 13 | I20: =TRUNC(SUM(F20:G20)/12) -> 0 | J20: =SUM(K20:O20) -> 0 | K20: =TRUNC(SUM(F20:G20)*4.5%) -> 0 | L20: =TRUNC(SUM(F20:G20)*3.335%) -> 0 | M20: =TRUNC(L20*10.25%) -> 0 | N20: =TRUNC(SUM(F20:H20)*1.05%) -> 0 | O20: =TRUNC(SUM(F20:H20)*0.91%) -> 0 | P20: =SUM(F20:J20) -> 0
A21: 14 | I21: =TRUNC(SUM(F21:G21)/12) -> 0 | J21: =SUM(K21:O21) -> 0 | K21: =TRUNC(SUM(F21:G21)*4.5%) -> 0 | L21: =TRUNC(SUM(F21:G21)*3.335%) -> 0 | M21: =TRUNC(L21*10.25%) -> 0 | N21: =TRUNC(SUM(F21:H21)*1.05%) -> 0 | O21: =TRUNC(SUM(F21:H21)*0.91%) -> 0 | P21: =SUM(F21:J21) -> 0
A22: 15 | I22: =TRUNC(SUM(F22:G22)/12) -> 0 | J22: =SUM(K22:O22) -> 0 | K22: =TRUNC(SUM(F22:G22)*4.5%) -> 0 | L22: =TRUNC(SUM(F22:G22)*3.335%) -> 0 | M22: =TRUNC(L22*10.25%) -> 0 | N22: =TRUNC(SUM(F22:H22)*1.05%) -> 0 | O22: =TRUNC(SUM(F22:H22)*0.91%) -> 0 | P22: =SUM(F22:J22) -> 0
A23: 16 | I23: =TRUNC(SUM(F23:G23)/12) -> 0 | J23: =SUM(K23:O23) -> 0 | K23: =TRUNC(SUM(F23:G23)*4.5%) -> 0 | L23: =TRUNC(SUM(F23:G23)*3.335%) -> 0 | M23: =TRUNC(L23*10.25%) -> 0 | N23: =TRUNC(SUM(F23:H23)*1.05%) -> 0 | O23: =TRUNC(SUM(F23:H23)*0.91%) -> 0 | P23: =SUM(F23:J23) -> 0
A24: 17 | I24: =TRUNC(SUM(F24:G24)/12) -> 0 | J24: =SUM(K24:O24) -> 0 | K24: =TRUNC(SUM(F24:G24)*4.5%) -> 0 | L24: =TRUNC(SUM(F24:G24)*3.335%) -> 0 | M24: =TRUNC(L24*10.25%) -> 0 | N24: =TRUNC(SUM(F24:H24)*1.05%) -> 0 | O24: =TRUNC(SUM(F24:H24)*0.91%) -> 0 | P24: =SUM(F24:J24) -> 0
A25: 18 | I25: =TRUNC(SUM(F25:G25)/12) -> 0 | J25: =SUM(K25:O25) -> 0 | K25: =TRUNC(SUM(F25:G25)*4.5%) -> 0 | L25: =TRUNC(SUM(F25:G25)*3.335%) -> 0 | M25: =TRUNC(L25*10.25%) -> 0 | N25: =TRUNC(SUM(F25:H25)*1.05%) -> 0 | O25: =TRUNC(SUM(F25:H25)*0.91%) -> 0 | P25: =SUM(F25:J25) -> 0
A26: 19 | I26: =TRUNC(SUM(F26:G26)/12) -> 0 | J26: =SUM(K26:O26) -> 0 | K26: =TRUNC(SUM(F26:G26)*4.5%) -> 0 | L26: =TRUNC(SUM(F26:G26)*3.335%) -> 0 | M26: =TRUNC(L26*10.25%) -> 0 | N26: =TRUNC(SUM(F26:H26)*1.05%) -> 0 | O26: =TRUNC(SUM(F26:H26)*0.91%) -> 0 | P26: =SUM(F26:J26) -> 0
... A67: 60 | I67: =TRUNC(SUM(F67:G67)/12) -> 0 | J67: =SUM(K67:O67) -> 0 | K67: =TRUNC(SUM(F67:G67)*4.5%) -> 0 | L67: =TRUNC(SUM(F67:G67)*3.335%) -> 0 | M67: =TRUNC(L67*10.25%) -> 0 | N67: =TRUNC(SUM(F67:H67)*1.05%) -> 0 | O67: =TRUNC(SUM(F67:H67)*0.91%) -> 0 | P67: =SUM(F67:J67) -> 0

Sheet 업로드
A1: 사업코드 | B1: 사업명 | C1: 계정코드(세목) | D1: 계정명(세목) | E1: 자금원천코드 | F1: 자금원천 | G1: 예산액 | H1: 국비 | I1: 시도비 | J1: 시군구비
A2: 00 | B2: 일반사업 | C2: 401010201 | D2: 본인부담금수입 | E2: 04 | F2: 자부담 | G2: =총괄표!E9 -> 32075496 | L2: 04 | M2: 자부담
A3: 00 | B3: 일반사업 | C3: 401010301 | D3: 식재료비수입 | E3: 04 | F3: 자부담 | G3: =총괄표!E10 -> 37449000 | L3: 05 | M3: 후원금
A4: 00 | B4: 일반사업 | C4: 401010401 | D4: 상급침실이용료 | E4: 04 | F4: 자부담 | G4: =총괄표!E11 -> 1680000 | L4: 06 | M4: 수익사업
A5: 00 | B5: 일반사업 | C5: 401010501 | D5: 이미용비 | E5: 04 | F5: 자부담 | G5: =총괄표!E12 -> 0 | L5: 07 | M5: 보조금
A6: 00 | B6: 일반사업 | C6: 401010601 | D6: 기타비급여수입 | E6: 04 | F6: 자부담 | G6: =총괄표!E13 -> 6525000
A7: 00 | B7: 일반사업 | C7: 402010101 | D7: 사업수입 | E7: 04 | F7: 자부담 | G7: =총괄표!E14 -> 0
A8: 00 | B8: 일반사업 | C8: 403010101 | D8: 과년도수입 | E8: 04 | F8: 자부담 | G8: =총괄표!E15 -> 0
A9: 00 | B9: 일반사업 | C9: 404010101 | D9: 국고보조금 | E9: 07 | F9: 보조금 | G9: =총괄표!E16 -> 0
A10: 00 | B10: 일반사업 | C10: 404010201 | D10: 시도보조금 | E10: 07 | F10: 보조금 | G10: =총괄표!E17 -> 0
A11: 01 | B11: 보조금사업(생계급여) | C11: 404010301 | D11: 시군구보조금 | E11: 07 | F11: 보조금 | G11: =총괄표!E18 -> 0
A12: 00 | B12: 일반사업 | C12: 404010401 | D12: 기타보조금 | E12: 07 | F12: 보조금 | G12: =총괄표!E19 -> 0
A13: 00 | B13: 일반사업 | C13: 405010101 | D13: 지정후원금 | E13: 05 | F13: 후원금 | G13: =총괄표!E20 -> 0
A14: 00 | B14: 일반사업 | C14: 405010201 | D14: 비지정후원금 | E14: 05 | F14: 후원금 | G14: =총괄표!E21 -> 0
A15: 00 | B15: 일반사업 | C15: 406010101 | D15: 장기요양급여수입 | E15: 04 | F15: 자부담 | G15: =총괄표!E22 -> 171730512
A16: 00 | B16: 일반사업 | C16: 406010201 | D16: 가산금 수입 | E16: 04 | F16: 자부담 | G16: =총괄표!E23 -> 0
A17: 00 | B17: 일반사업 | C17: 407010101 | D17: 금융기관차입금 | E17: 04 | F17: 자부담 | G17: =총괄표!E24 -> 0
... A26: 00 | B26: 일반사업 | C26: 410010101 | D26: 불용품매각대 | E26: 04 | F26: 자부담 | G26: =총괄표!E33 -> 0
A27: 00 | B27: 일반사업 | C27: 410010201 | D27: 기타예금이자수입 | E27: 04 | F27: 자부담 | G27: =세입!W68 -> 14992
A28: 01 | B28: 보조금사업(생계급여) | C28: 410010201 | D28: 기타예금이자수입 | E28: 07 | F28: 보조금 | G28: =세입!W69 -> 0
A29: 00 | B29: 일반사업 | C29: 410010301 | D29: 직원식재료수입 | E29: 04 | F29: 자부담 | G29: =총괄표!E35 -> 0
A30: 00 | B30: 일반사업 | C30: 410010401 | D30: 기타잡수입 | E30: 04 | F30: 자부담 | G30: =총괄표!E36 -> 9360000
A31: 00 | B31: 일반사업 | C31: 501010101 | D31: 급여(직접비) | E31: 04 | F31: 자부담 | G31: =세출!W10 -> 109598600
A32: 00 | B32: 일반사업 | C32: 501010102 | D32: 급여(간접비) | E32: 04 | F32: 자부담 | G32: =세출!W11 -> 44343720
A33: 00 | B33: 일반사업 | C33: 501010201 | D33: 각종수당(직접비) | E33: 04 | F33: 자부담 | G33: =세출!W13 -> 2080800
A34: 00 | B34: 일반사업 | C34: 501010202 | D34: 각종수당(간접비) | E34: 04 | F34: 자부담 | G34: =세출!W14 -> 400800
A35: 00 | B35: 일반사업 | C35: 501010301 | D35: 일용잡급(직접비) | E35: 04 | F35: 자부담 | G35: =세출!W16 -> 0
A36: 00 | B36: 일반사업 | C36: 501010302 | D36: 일용잡급(간접비) | E36: 04 | F36: 자부담 | G36: =세출!W17 -> 0
A37: 00 | B37: 일반사업 | C37: 501010501 | D37: 퇴직금 및 퇴직적립금(직접비) | E37: 04 | F37: 자부담 | G37: =세출!W19 -> 9306616
A38: 00 | B38: 일반사업 | C38: 501010502 | D38: 퇴직금 및 퇴직적립금(간접비) | E38: 04 | F38: 자부담 | G38: =세출!W20 -> 3728710
A39: 00 | B39: 일반사업 | C39: 501010601 | D39: 사회보험부담금(직접비) | E39: 04 | F39: 자부담 | G39: =세출!W22 -> 11320749
A40: 00 | B40: 일반사업 | C40: 501010602 | D40: 사회보험부담금(간접비) | E40: 04 | F40: 자부담 | G40: =세출!W23 -> 4535675
A41: 00 | B41: 일반사업 | C41: 501020101 | D41: 기관운영비 | E41: 04 | F41: 자부담 | G41: =총괄표!L13 -> 800000
A42: 00 | B42: 일반사업 | C42: 501020201 | D42: 직책보조비 | E42: 04 | F42: 자부담 | G42: =총괄표!L14 -> 3600000
A43: 00 | B43: 일반사업 | C43: 501020301 | D43: 회의비 | E43: 04 | F43: 자부담 | G43: =총괄표!L15 -> 600000
A44: 00 | B44: 일반사업 | C44: 501030101 | D44: 여비 | E44: 04 | F44: 자부담 | G44: =총괄표!L16 -> 0
A45: 00 | B45: 일반사업 | C45: 501030201 | D45: 수용비 및 수수료 | E45: 04 | F45: 자부담 | G45: =총괄표!L17 -> 5783530
A46: 00 | B46: 일반사업 | C46: 501030301 | D46: 공공요금 및 제세공과금 | E46: 04 | F46: 자부담 | G46: =총괄표!L18 -> 6595800
A47: 00 | B47: 일반사업 | C47: 501030501 | D47: 차량비 | E47: 04 | F47: 자부담 | G47: =총괄표!L19 -> 300000
A48: 00 | B48: 일반사업 | C48: 501030601 | D48: 임차료 | E48: 04 | F48: 자부담 | G48: =총괄표!L20 -> 37386000
A49: 00 | B49: 일반사업 | C49: 501030701 | D49: 기타운영비 | E49: 04 | F49: 자부담 | G49: =총괄표!L21 -> 4560000
A50: 00 | B50: 일반사업 | C50: 502010101 | D50: 시설비 | E50: 04 | F50: 자부담 | G50: =총괄표!L22 -> 0
A51: 00 | B51: 일반사업 | C51: 502010201 | D51: 자산취득비 | E51: 04 | F51: 자부담 | G51: =총괄표!L23 -> 800000
A52: 00 | B52: 일반사업 | C52: 502010301 | D52: 시설장비유지비 | E52: 04 | F52: 자부담 | G52: =총괄표!L24 -> 800000
A53: 00 | B53: 일반사업 | C53: 503010101 | D53: 생계비 | E53: 04 | F53: 자부담 | G53: =세출!L66 -> 40734000
A54: 01 | B54: 보조금사업(생계급여) | C54: 503010102 | D54: 기초생활수급자생계비 | E54: 07 | F54: 보조금 | G54: =세출!L68 -> 0
A55: 00 | B55: 일반사업 | C55: 503010201 | D55: 수용기관경비 | E55: 04 | F55: 자부담 | G55: =총괄표!L26 -> 1320000
A56: 00 | B56: 일반사업 | C56: 503010401 | D56: 의료비 | E56: 04 | F56: 자부담 | G56: =총괄표!L27 -> 3240000
A57: 00 | B57: 일반사업 | C57: 503010501 | D57: 장의비 | E57: 04 | F57: 자부담 | G57: =총괄표!L28 -> 100000
A58: 00 | B58: 일반사업 | C58: 503030101 | D58: 프로그램 사업비 | E58: 04 | F58: 자부담 | G58: =총괄표!L29 -> 200000
A59: 00 | B59: 일반사업 | C59: 504010101 | D59: 법인회계전출금 | E59: 04 | F59: 자부담 | G59: =총괄표!L30 -> 0
A60: 00 | B60: 일반사업 | C60: 504010201 | D60: 기타전출금 | E60: 04 | F60: 자부담 | G60: =총괄표!L31 -> 0
A61: 00 | B61: 일반사업 | C61: 505010101 | D61: 과년도지출 | E61: 04 | F61: 자부담 | G61: =총괄표!L32 -> 0
A62: 00 | B62: 일반사업 | C62: 506010101 | D62: 원금상환금 | E62: 04 | F62: 자부담 | G62: =총괄표!L33 -> 0
A63: 00 | B63: 일반사업 | C63: 506010201 | D63: 이자지불금 | E63: 04 | F63: 자부담 | G63: =총괄표!L34 -> 0
A64: 00 | B64: 일반사업 | C64: 507010101 | D64: 잡지출 | E64: 04 | F64: 자부담 | G64: =총괄표!L35 -> 0
A65: 00 | B65: 일반사업 | C65: 508010101 | D65: 예비비 | E65: 04 | F65: 자부담 | G65: =총괄표!L36 -> 0
A66: 01 | B66: 보조금사업(생계급여) | C66: 508010201 | D66: 반환금 | E66: 07 | F66: 보조금 | G66: =총괄표!L37 -> 0
... A68: 00 | B68: 일반사업 | C68: 509010201 | D68: 시설환경 개선준비금 | E68: 04 | F68: 자부담 | G68: =총괄표!L39 -> 0

Sheet 급여업로드
A1: 인건비구분/급여유형 별 선택 가능 직종 정보( * 개인정보 보호를 위하여 주민번호는 마스킹 처리되어 있습니다. 업로드 전에 올바른 주민번호로 수정하시기 바랍니다. )
A2: 직접비 | B2: 주야간보호 | E2: 요양보호사1급, 요양보호사2급, 사회복지사, 간호사, 간호조무사, 물리치료사, 작업치료사
B3: 방문요양, 방문목욕 | E3: 요양보호사1급, 요양보호사2급, 사회복지사(방문요양만 해당)
B4: 단기보호 | E4: 요양보호사1급, 요양보호사2급, 사회복지사, 간호사, 간호조무사
B5: 방문간호 | E5: 간호사, 간호조무사, 치과위생사
A6: 간접비 | B6: 주야간보호, 단기보호, 방문간호 | E6: 시설장(관리책임자), 사무국장, 사무원, 영양사, 조리원, 위생원, 관리인, 보조원 운전사, 기타
B7: 방문요양, 방문목욕 | E7: 시설장(관리책임자), 사무국장, 사무원, 영양사, 조리원, 위생원, 관리인, 보조원 운전사, 사회복지사(방문목욕만 해당), 기타
B8: 복지용구제공사업소 | E8: 시설장(관리책임자), 사무국장, 사무원, 보조원 운전사, 기타
A9: 사업코드 | B9: 사업명 | C9: 성명 | D9: 직종 | E9: 급여유형 | F9: 인건비구분 | G9: 주민등록번호 | H9: 급여 | I9: 각종수당 | J9: 일용잡급 | K9: 퇴직금 및 퇴직적립금 | L9: 사회보험 부담금 | M9: 합계금액 | N9: 직원번호
A10: 00 | B10: 일반사업(일반) | C10: =보수일람표!B8 -> 간호조무사 | D10: =보수일람표!C8 -> 간호조무사 | E10: =보수일람표!D8 -> 노인요양공동생활가정 | F10: =보수일람표!E8 -> 직접비 | H10: =보수일람표!F8 -> 21943720 | I10: =보수일람표!G8 -> 0 | J10: =보수일람표!H8 -> 0 | K10: =보수일람표!I8 -> 1828643 | L10: =보수일람표!J8 -> 2224397 | M10: 0 | N10: 2016000002
A11: 00 | B11: 일반사업(일반) | C11: =보수일람표!B9 -> 요양보호사1급 | D11: =보수일람표!C9 -> 요양보호사1급 | E11: =보수일람표!D9 -> 노인요양공동생활가정 | F11: =보수일람표!E9 -> 직접비 | H11: =보수일람표!F9 -> 21943720 | I11: =보수일람표!G9 -> 400800 | J11: =보수일람표!H9 -> 0 | K11: =보수일람표!I9 -> 1862043 | L11: =보수일람표!J9 -> 2265025
A12: 00 | B12: 일반사업(일반) | C12: =보수일람표!B10 -> 박영예 | D12: =보수일람표!C10 -> 시설장 | E12: =보수일람표!D10 -> 노인요양공동생활가정 | F12: =보수일람표!E10 -> 간접비 | H12: =보수일람표!F10 -> 22800000 | I12: =보수일람표!G10 -> 400800 | J12: =보수일람표!H10 -> 0 | K12: =보수일람표!I10 -> 1933400 | L12: =보수일람표!J10 -> 2351825
A13: 00 | B13: 일반사업(일반) | C13: =보수일람표!B11 -> 조리원 | D13: =보수일람표!C11 -> 조리원 | E13: =보수일람표!D11 -> 노인요양공동생활가정 | F13: =보수일람표!E11 -> 간접비 | H13: =보수일람표!F11 -> 21543720 | I13: =보수일람표!G11 -> 0 | J13: =보수일람표!H11 -> 0 | K13: =보수일람표!I11 -> 1795310 | L13: =보수일람표!J11 -> 2183850
A14: 00 | B14: 일반사업(일반) | C14: =보수일람표!B12 -> 요양보호사1급 | D14: =보수일람표!C12 -> 요양보호사1급 | E14: =보수일람표!D12 -> 노인요양공동생활가정 | F14: =보수일람표!E12 -> 직접비 | H14: =보수일람표!F12 -> 21903720 | I14: =보수일람표!G12 -> 840000 | J14: =보수일람표!H12 -> 0 | K14: =보수일람표!I12 -> 1895310 | L14: =보수일람표!J12 -> 2305492
A15: 00 | B15: 일반사업(일반) | C15: =보수일람표!B13 -> 요양보호사1급 | D15: =보수일람표!C13 -> 요양보호사1급 | E15: =보수일람표!D13 -> 노인요양공동생활가정 | F15: =보수일람표!E13 -> 직접비 | H15: =보수일람표!F13 -> 21903720 | I15: =보수일람표!G13 -> 840000 | J15: =보수일람표!H13 -> 0 | K15: =보수일람표!I13 -> 1895310 | L15: =보수일람표!J13 -> 2305492
A16: 00 | B16: 일반사업(일반) | C16: =보수일람표!B14 -> 신입1 | D16: =보수일람표!C14 -> 요양보호사1급 | E16: =보수일람표!D14 -> 노인요양공동생활가정 | F16: =보수일람표!E14 -> 직접비 | H16: =보수일람표!F14 -> 21903720 | I16: =보수일람표!G14 -> 0 | J16: =보수일람표!H14 -> 0 | K16: =보수일람표!I14 -> 1825310 | L16: =보수일람표!J14 -> 2220343
A17: 00 | B17: 일반사업(일반) | C17: =보수일람표!B15 -> 0 | D17: =보수일람표!C15 -> 0 | E17: =보수일람표!D15 -> 0 | F17: =보수일람표!E15 -> 0 | H17: =보수일람표!F15 -> 0 | I17: =보수일람표!G15 -> 0 | J17: =보수일람표!H15 -> 0 | K17: =보수일람표!I15 -> 0 | L17: =보수일람표!J15 -> 0
