Workbook
Name pg개수: COUNTA([1]수급자현황!$K$1:$K$65536)-2
Name pg이름: OFFSET([1]수급자현황!$K$4,0,0,pg개수,1)
Name 개수: COUNTA([1]현황총괄표!$E$1:$E$65536)-1
Name 담당자: [2]목록참조!$M$2:$M$8
Name 목록: OFFSET([3]직원대장!$B$4,0,0,개수,6)
Name 목록1: #N/A
Name 목록2: #N/A
Name 목록3: #N/A
Name 물리개수: COUNTA([1]수급자현황!$C$1:$C$65536)-2
Name 물리이름: OFFSET([1]수급자현황!$C$4,0,0,물리개수,1)
Name 물리치료장소: [2]목록참조!$R$2:$R$4
Name 서비스개수: COUNTA([1]수급자현황!$B$1:$B$65536)-1
Name 서비스목록: OFFSET([1]수급자현황!$C$4,0,0,서비스개수,10)
Name 성명: OFFSET([3]직원대장!$E$4,0,0,개수,1)
Name 소요시간1: [2]목록참조!$C$2:$C$14
Name 식비: OFFSET('[4]식재료비가이드(입소시설)'!$B$14,0,0,식비개수,6)
Name 식비목록1: OFFSET('[4]식재료비가이드(입소시설)'!$B$14,0,0,식비개수,6)
Name 식비목록1: OFFSET('[4]식재료비가이드(입소시설)'!$B$14,0,0,식비개수,6)
Name 식비목록1: OFFSET('[4]식재료비가이드(입소시설)'!$B$14,0,0,식비개수,6)
Name 식비목록1: OFFSET('[4]식재료비가이드(입소시설)'!$B$14,0,0,식비개수,6)
Name 식비목록1: OFFSET('[4]식재료비가이드(입소시설)'!$B$14,0,0,식비개수,6)
Name 식비목록1: OFFSET('[4]식재료비가이드(입소시설)'!$B$14,0,0,식비개수,6)
Name 식비목록1: OFFSET('[4]식재료비가이드(입소시설)'!$B$14,0,0,식비개수,6)
Name 식비목록2: OFFSET('[4]식재료비가이드(입소시설)'!$H$14,0,0,식비개수,6)
Name 식비목록2: OFFSET('[4]식재료비가이드(입소시설)'!$H$14,0,0,식비개수,6)
Name 식비목록2: OFFSET('[4]식재료비가이드(입소시설)'!$H$14,0,0,식비개수,6)
Name 식비목록2: OFFSET('[4]식재료비가이드(입소시설)'!$H$14,0,0,식비개수,6)
Name 식비목록2: OFFSET('[4]식재료비가이드(입소시설)'!$H$14,0,0,식비개수,6)
Name 식비목록2: OFFSET('[4]식재료비가이드(입소시설)'!$H$14,0,0,식비개수,6)
Name 식비목록2: OFFSET('[4]식재료비가이드(입소시설)'!$H$14,0,0,식비개수,6)
Name 식비일자: OFFSET('[4]식재료비가이드(입소시설)'!$B$14,0,0,식비개수,1)
Name 식비일자: OFFSET('[4]식재료비가이드(입소시설)'!$B$14,0,0,식비개수,1)
Name 식비일자: OFFSET('[4]식재료비가이드(입소시설)'!$B$14,0,0,식비개수,1)
Name 식비일자: OFFSET('[4]식재료비가이드(입소시설)'!$B$14,0,0,식비개수,1)
Name 식비일자: OFFSET('[4]식재료비가이드(입소시설)'!$B$14,0,0,식비개수,1)
Name 식비일자: OFFSET('[4]식재료비가이드(입소시설)'!$B$14,0,0,식비개수,1)
Name 식비일자: OFFSET('[4]식재료비가이드(입소시설)'!$B$14,0,0,식비개수,1)
Name 여부: [2]목록참조!$Q$2:$Q$4
Name 영양개수: COUNTA([1]수급자현황!$E$1:$E$65536)-2
Name 영양이름: OFFSET([1]수급자현황!$E$4,0,0,영양개수,1)
Name 요양개수: COUNTA([1]수급자현황!$G$1:$G$65536)-2
Name 요양이름: OFFSET([1]수급자현황!$G$4,0,0,요양개수,1)
Name 월횟수: [2]목록참조!$E$2:$E$5
Name 의료개수: COUNTA([1]수급자현황!$I$1:$I$65536)-2
Name 의료이름: OFFSET([1]수급자현황!$I$4,0,0,의료개수,1)
Name 이용일자: #N/A
Name 일횟수: [2]목록참조!$B$2:$B$17
Name 일횟수1: [2]목록참조!$B$2:$B$18
Name 입소일: [5]권영문1!$M$6
Name 작성자: [2]목록참조!#REF!
Name 작성자1: [2]목록참조!#REF!
Name 장소: [2]목록참조!$P$2:$P$5
Name 주횟수: [2]목록참조!$D$2:$D$7
Name 직종: [2]목록참조!$O$2:$O$7
Name 퇴소일: [5]권영문1!$V$6
Name 학력: [2]목록참조!$N$2:$N$7

Sheet 장기요양급여이용표준약관
A2: 장기요양급여 이용 표준약관 (시설급여)
F8: 표준약관 제10068호
A10: 이용자, 제공자 및 대리인(보호자)은 장기요양급여 중 시설급여 이용에 대하여 다음과 같은 조건으로 계약을 체결한다.
A11: =IF(A12=TRUE,F14&"-일반",F14&"-경감") -> -일반
A12: TRUE | E12: =TEXT(LEFT(C16,6),"1900-00-00")
A13: 계약당사자
A14: 이용자 (갑) | B14: 성 명 | D14: (인) | E14: 등 급 | G14: 등급
B15: 성별/나이 | E15: (인정번호)
B16: 생년월일 | E16: 연락처
B17: 주 소
B18: 기 타 | C18: 일반 60%경감대상자 국민기초생활 수급권자
A19: 제공자 (을) | B19: 시설명 | C19: 늘봄실버요양센터 | E19: 시설종류 | F19: 노인요양시설(개정법)
B20: 시설장 성명 | C20: 박복금 | D20: (인) | E20: 연락처 | F20: 515290701
B21: 주 소 | C21: 부산광역시 동래구 시실로 107번가길 23(명장동)
A22: 대리인 또는 보호자 (병) 성 명 생년월일 주 소 | B22: 성 명 | D22: (인) | E22: 관 계 | F22: ‘갑’의
B23: 생년월일 | E23: 연락처 | F23: 자택)
F24: 이동전화)
B25: 주 소
A26: 인증유효기간 | D26: ~
A27: 입소일자 | F27: 입소시간
A29: 제1조 【 목 적 】노인성질환 등으로 혼자서 일상생활을 하기 어려운 노인(장기요양급여수급자)에게 시설급여서비스를 제공하여 노후의 건강증진 및 생활안정을 도모하고 그 가족의 부담을 덜어줌으로써 삶의 질을 향상시키고자 한다.
A30: 제2조 【 계약기간 】
A31: ① 계약기간은 | D31: ~ | G31: 까지로 한다.
A32: ② 1항의 기간은 당사자 간의 협의에 의하여 변경할 수 있다. ③ ‘을’은 계약기간 만료 1개월 전에 ‘갑’(또는 ‘병’)에게 재계약 여부를 확인하여야 하며, ‘갑’(또는 ‘병’)은 이후 15일 이내에 ‘을‘에게 회신 하여야 한다. ④ 3항의 규정에도 불구하고 ‘갑’(또는 ‘병’)으로부터 계약만료 전까지 별도의 회신이 없을 경우 계약은 1년간 자동연장 된다. (단, 시설 정원이나 갑의 장기요양 등급이 변경되었을 경우는 그렇지 아니하다.) ⑤ 계약내용 변경사항(장기요양 인정등급, 장기요양 급여비용, 비급여비용 등) 발생 시 이를 즉시 반영한다. ⑥‘갑’(또는 ‘병’)이 계약기간 만료 또는 그 이전에 계약을 해지하고자 할 경우에는 해당일 또는 계약기간 만료일로부터 15일 전에 신청해야 한다. 다만, 부득이한 경우에는 유선으로 통보할 수 있다.
A33: 제3조 【 입소 ･ 이용료 납부 】
A34: ①‘갑’의 입소당월 이용료는에 | F34: 납부하기로 한다.
A35: 입소당월 이후 매월 이용료는 매월 01일 납부하기로 한다.(01일이 공휴일인 경우 그 익일로 한다) ② ‘갑’ (또는 ‘병’)은 본인일부부담금과 비급여항목에 대한 비용을 전액 지불하여야한다. ③ ‘갑’의 이용료 납부방법은 계좌이체로 한다. ④‘갑’ 또는‘병’의 요구에 의한 개별적인 물품․용역의 구입과 개별적인 희망에 의해 외부 서비스 제공자가 개인을 대상으로 제공하는 프로그램․서비스에 따른 실비는 ‘갑’ 또는 ‘병’이 별도 부담한다.
A36: ◇ 시설급여 (1일)
A37: 구 분 | E37: 1등급 | F37: 2등급 | G37: 3등급
A38: 요 양 급 여 | B38: 노인요양시설(구 노인복지법)
B39: 노인요양시설(단기보호에서 전환)
B40: 노인전문요양시설(구 노인복지법)노인요양시설(개정법) | E40: 71990 | F40: 66710 | G40: 61520
B41: 노인요양공동생활가정
A42: 비 급 여 | B42: 상급침실 이용료
B43: 식재료비(1식) | E43: 2200 | F43: 2200 | G43: 2200
B44: 간식비(1회)
B45: 이/미용료등
A46: ※ 요양급여비용은 매년 장기요양위원회(위원장 : 보건복지부 차관)가 결정, 고시하는 『장기요양급여비용 등에 관한 고시』(보건복지부 고시)에 따름. ※ 4,5등급 시설서비스 대상자는 3등급 비용에 준함
A47: < (안내) 수급자 자격별 본인일부부담 비율 >
A48: 구분 | D48: 시설급여 | F48: 재가급여
...

Sheet 장기요양표준약관부본수령확인증
B2: 장기요양급여 이용 표준약관(시설급여) 수령확인증
B4: 성 명 : | C4: =장기요양급여이용표준약관!C14 -> 0 | E4: (주민등록번호: | G4: =장기요양급여이용표준약관!C16 -> 0 | I4: )
B5: 주 소 : | C5: =장기요양급여이용표준약관!C17 -> 0
B6: 장기요양급여 이용 표준약관을 늘봄실버요양센터와 체결후 표준약관 부본을 수령한을 확인합니다.
D8: =장기요양급여이용표준약관!A87 -> 년 월 일
E9: 이용자 (보호자): | G9: =장기요양급여이용표준약관!C22 -> 0 | I9: (인)

Sheet 개인정보 제공 및 활용 동의서
B1: [별지 제5호서식]
B2: 개인정보 제공 및 활용 동의서
B4: 성 명 : | C4: =장기요양급여이용표준약관!C14 -> 0 | E4: (주민등록번호: | G4: =장기요양급여이용표준약관!C16 -> 0 | I4: )
B5: 주 소 : | C5: =장기요양급여이용표준약관!C17 -> 0
B6: 1. 수집대상정보 ○ 장기요양급여 관련 정보 ○ 이용자의 지역연계 관련 정보 ○ 관련기관 정보제공 요청시 필요한 정보 ○ 기타 목적사업 수행에 필요한 정보 2. 수집정보의 활용범위 ○ 대상자 급여 관련에 필요한 정보의 활용 ○ 제공기관 간의 서비스 연계와 관련사항에 관한 대상자 정보 제공 ○ 관련기관 정보제공 요청시 제공 ○ 장기요양계획, 욕구조사, 장기요양서비스 질 수준 향상 등에 활용 상기 본인은 개인정보를 제공하고 활용하는 것에 동의합니다.
D8: =장기요양급여이용표준약관!A87 -> 년 월 일
E9: 이용자 (보호자): | G9: =장기요양급여이용표준약관!C22 -> 0 | I9: (인)

Sheet 단체복동의서
B2: 개인물품 및 단체복 동의서
B4: 성 명 : | C4: =장기요양급여이용표준약관!C14 -> 0 | E4: (주민등록번호: | G4: =장기요양급여이용표준약관!C16 -> 0 | I4: )
B5: 주 소 : | C5: =장기요양급여이용표준약관!C17 -> 0
B6: 어르신은 개인적인 물품(옷, 사진, 기타 애장품)을 소지하실 수 있습니다. 그러나 다른 어르신들께 피해를 주거나 늘봄실버요양센터에서 소지를 제한하는 위험한 물품(애완동물, 라이터, 칼 등)은 개인물건 소지에서 제외됩니다. 어르신이 가져오신 개인의복을 자유롭게 입으실 수 있으며, 늘봄실버요양센터에서 제공하는 단체복을 입는 것에 동의합니다.( ) 동의하지 않습니다.( )
D8: =장기요양급여이용표준약관!A87 -> 년 월 일
E9: 이용자 (보호자): | G9: =장기요양급여이용표준약관!C22 -> 0 | I9: (인)

Sheet 초기상담기록지
A1: 초기상담 기록지
A4: 요양인정번호 | C4: =장기요양급여이용표준약관!F15 -> 0 | H4: 초기상담자 | N4: 초기상담일 | T4: 입소일 | V4: =장기요양급여이용표준약관!B27 -> 0
A5: 기본 정보 | B5: 어르신성명 | D5: =장기요양급여이용표준약관!C14 -> 0 | J5: 주 소 | N5: =장기요양급여이용표준약관!C17 -> 0
B6: 주민번호 | D6: =장기요양급여이용표준약관!C16 -> 0 | J6: =장기요양급여이용표준약관!C15&"성"&" "&"(만"&" "&YEAR(TODAY())-YEAR(장기요양급여이용표준약관!E12)&")세" -> #VALUE! | N6: 실제 생년월일 | U6: 음력 | W6: 양력
B7: 정보제공자 | D7: =장기요양급여이용표준약관!C22 -> 0 | G7: 관계 | I7: =장기요양급여이용표준약관!G22 -> 0 | J7: 주소 | N7: =장기요양급여이용표준약관!C25 -> 0
B8: 주민번호 | D8: =장기요양급여이용표준약관!C23 -> 0 | J8: 휴대폰 | N8: =장기요양급여이용표준약관!G24 -> 0 | R8: 전화번호 | U8: =장기요양급여이용표준약관!G23 -> 0
B9: 주거형태 | E9: 아파트 | I9: 단독주택 | M9: 다세대/빌라 | P9: 판자집 | S9: 기타
B10: 이용구분 | E10: 기초생활수급 | I10: 의료급여 | M10: 일반(건강보험) | Q10: 장애등급( ) | T10: 보훈대상여부
D11: ● | E11: 요양등급 | G11: =장기요양급여이용표준약관!F14 -> 0 | I11: 등급 | L11: ● 요양인정유효기간 | Q11: =장기요양급여이용표준약관!B26 -> 0 | T11: ~ | U11: =장기요양급여이용표준약관!E26 -> 0
B12: 이용경로 | E12: 본인 | I12: 보호자 | M12: 이웃 | P12: 시설직원 | S12: 관공서
D13: 기타 : 지인소개
B14: 이용전주거지 | E14: 자택 | I14: 자녀 | M14: 친척 | P14: 병원 | S14: 시설 | U14: 기타
B15: 가족형태 | E15: 독거상태 | I15: 부부단독세대 | M15: 가족과 함께 | P15: 기타
B16: 가족사항 | D16: 이름 | F16: 관계 | I16: 동거유무 | J16: 연령 | M16: 주소 | U16: ☎ / 휴대폰
B23: 가계도 | L23: 수급자:
B29: 가족배경 및 가족과의 관계, 기타사항
B30: 성 격 | E30: 내성적 | I30: 외향적 | M30: 자기중심적 | P30: 적극적 | S30: 기타
B31: 결혼상태 | E31: 미혼 | I31: 기혼 | M31: 사별 | P31: 별거 | S31: 이혼
B32: 국문해독 | E32: 가능 | I32: 불가능 | M32: 예전에는 가능했으나 현재는 불가능
B33: 종 교 | I33: 취미 | O33: 특기
B34: 최종학력 | I34: 병전직업 | O34: 특이사항
B35: 음주/흡연 | E35: 유 | I35: 무 | M35: 마지막 음주/흡연일
A36: 신체 건강 상태 | B36: 시력 | E36: 잘보인다 | F36: (신문/잡지의 보통 글씨를 볼 수 있다.) | V36: 보 조 기 | W36: 없음
E37: 신문/잡지의 보통 글씨는 볼 수 없으나 큰 글씨는 볼수 있음) | W37: 안경
B38: 좌안 | E38: 눈 앞에 근접한 글씨는 읽을 수 있으나 더 먼거리는 보이지 않는다 | R38: (사물은 식별할 수 있음) | W38: 콘택트렌즈
B39: 우안 | E39: 사물식별은 불확실 하나 사물의 움직임을 식별할 수 있음. | W39: 기타
B40: 양안 | E40: 시력이 없거나 사물의 빛, 색갈 형태정도만 구분하는 듯함. | S40: 판단 불가능
B41: 청력 | E41: 잘들린다 | V41: 보 조 기 | W41: 없음
E42: 보통의 소리를 듣기도 하고 못듣기도 한다. | N42: (일상대화에 지장이 있음) | W42: 보청기
B43: 좌측 | E43: 큰 소리는 들을 수 있다. | W43: 좌
B44: 우측 | E44: 소리를 듣지 못하거나 듣는 것처럼 보이지만 이해하지 못함. | W44: 우
B45: 양측 | E45: 판단불가능
B46: 보행 | E46: 자력보행 가능 | M46: 보조자의 도움이 필요 | V46: 보 조 기 | W46: 지팡이
E47: 보행도구로 자력보행 | M47: 보조도구를 사용하며 보조자 도움필요 | W47: 워커
E48: 전혀 움직이지 못한다. | W48: 휠체어
B49: 수면 | E49: 이상없음 | M49: 잠들기 힘드나 일단 잠들기 시작하면 잘 잔다.
E50: 낮잠을 많이 잔다 | M50: 수면도중 자주 깬다 | S50: 거의 잠들지 못한다.
E51: 수면제를 사용한다.
B52: 구강 | D52: 보조기 | H52: 없음 | L52: 틀니 | Q52: 보철 | R52: (브릿지) | U52: 임플란트 | W52: 기타
D53: 치아상태 | H53: 없음 | L53: 잔존치 ( | U53: 충치 | W53: 흔들리는 치아
...

Sheet 응상솽
A1: 응급상황 사전의사결정 및 신체구속 동의서
A2: • 응급상황 발생 시
A3: 1. 비상 응급시 병원진료를 받거나 입원을 할 경우 원하는 병원이 있으면 선택해 주세요.
A4: ① 강산병원 ② 기타(보호자 희망병원)-
A5: 2. 응급상활 발생 시 연락할 가족을 기록해 주세요.
A6: 성명: | B6: =장기요양급여이용표준약관!C22 -> 0 | D6: 관계: | E6: =장기요양급여이용표준약관!G22 -> 0
A7: 연락처: | B7: =장기요양급여이용표준약관!G24 -> 0
A8: 성명: | D8: 관계:
A9: 연락처:
A10: 성명: | D10: 관계:
A11: 연락처:
A12: 3. 심폐소생술을 원하십니까?
A13: ① 예( ) ②아니오( )
A14: 4. 임종 징후가 보일 경우 생명연장장치 시술을 원하십니까?
A15: ① 예( ) ② 아니오( )
A16: 5. 병원 진료결과 상급병원(대학병원)의 진료가 필요하다고 판단될 경우 전원을 하시겠습니까?
A17: ① 예( ) ② 아니오( )
A18: ※심폐소생술시 발생되는 2차적인 문제발생시 시설의 책임을 묻지않겠습니다 라는 설명을 들었습니다, 인
A19: ※늘봄실버요양센터는 어르신에게 갑작스런 응급상황이 발생하여 보호자에게 연락할 시간적 여유가 없거나 보호자가 연락이 되지 않을 경우, 119구조대 또는 병원 앰블런스를 이용 응급 수송하고 신속하게 치료를 받을 수 있도록 조치하겠습니다.
A21: • 신체구속 동의서
A22: 저희 늘봄실버요양센터에서는 입소(이용)자에게 어떠한 상황과 이유로도 신체구속을 하지 않습니다. 하지만 다음 각 호와 같은 사유 발생 시에는 어르신들의 안전사고 예방을 위해 입소(이용)자 또는 보호자로부터 동의를 받아 경우 신체구속 할 수 있습니다.
A23: 1. 어르신 본인이나 타인의 신체적 손상을 예방하기 위해서
... A30: 안전지지대 사용
A31: 1. 침대안전난간 사용여부 | D31: ① 예( ) ② 아니오( )
A32: 2. 휠체어 안전띠사용여부 | D32: ① 예( ) ② 아니오( )
A33: 3. 치매대응복(장갑,환자복)사용여부 | D33: ① 예( ) ② 아니오( )
A34: 위 응급상황발생 및 신체구속에 대한 설명을 충분히 듣고 동의합니다.
B36: 보호자: | C36: =장기요양급여이용표준약관!C22 -> 0 | D36: 인 | E36: 설명자: | F36: 박성의 | G36: 인
A38: 늘봄실버요양센터

Sheet 입소자(보호자)의 권리와 책임
B2: 입소자의 권리와 책임
B3: 사회복지법인 늘봄 산하 "늘봄실버요양센터“는 입소자의 일상생활, 재활, 건강, 영양 등의 제반 서비스를 제공하는 어르신 중심의 요양시설임을 천명하며, 권리와 책임을 다음과 같이 명시한다.
B4: 입소자의 권리
B5: 1. 입소자는 존엄한 인간으로서 존중받을 권리가 있다.
B6: 2. 입소자는 입소상담자를 통해 입소이용 시 발생되는 급여･비급여 비용내역 등의 계약내용의 제반사항에 대해 자세한 설명을 들을 권리가 있다.
B7: 3. 입소자는 입소과정에서나 혹은 입소이용 중 밝혀진 자신의 모든 사생활에 대한 비밀을 보장 받을 권리가 있다.
B8: 4. 입소자는 관계 공무원, 장기요양보험공단 운영센터 관계자 등 법적으로 허용된 사람 이외에는 개인정보의 제공을 금지하여 보호 받을 권리가 있다.
B9: 5. 입소자는 제공되는 제반 서비스에 대해 설명을 듣고, 시행여부를 선택 할 권리가 있다.
B10: 6. 입소자는 계획된 서비스를 받거나, 서비스 중에도 이를 중단하거나, 대안적 서비스에 대해 설명 들을 권리가 있다.
B11: 7. 입소자는 신체적･정신적 상태의 경과에 대한 의견을 말할 권리가 있다.
B12: 8. 입소자는 자신과 관련된 모든 기록물을 열람할 수 있는 권리가 있다.
B13: 9. 입소자는 기관이 개선해야할 사항에 대하여 의견을 제시할 권리가 있다.
... B23: 서비스의 이용에 앞서 상기의 권리와 책임에 대해 자세한 안내를 받았습니다.
B24: =장기요양급여이용표준약관!A87 -> 년 월 일
B25: 입소자(또는 대리인) : | E25: =장기요양급여이용표준약관!C22 -> 0 | G25: (인 또는 서명)

Sheet 사고의예시
B2: 을의 통제를 벗어나 발생하는 사고의 예시
B4: 1. 넘어지거나 떨어짐으로 인한 사상사고
B5: 누구나 사고없이 안전한 생활을 바라고 있으나, 이용자의 연령이 높아 노약화 되거나 뇌경색, 뇌출혈,
B6: 관절염 등의 질환을 가지고 있는 경우에는 특히 신체활동이 원활하지 못하여 아래와 같은 상황에서
B7: 미끄러지거나 떨어지는 등의 사고가 발생할 수 있다.
B8: ① 휠체어에서 미끄러져 떨어짐.
B9: ② 보행중 미끄러져 넘어짐.
B10: ③ 휠체어와 침대를 오르내리는 상황에서의 떨어짐.
B11: ④ 변기에서 전후좌우로 넘어짐.
B12: ⑤ 휠체어 발판을 밟고 일어나다가 휠체어에 부딪히거나 혹은 부딪혀 넘어짐.
B13: ⑥ 주•야간 배회 중 넘어지거나 부딪힘(특히 치매가 있는 어르신의 경우).
B14: ⑦ 기타 미끄러져 넘어지거나 그로 인한 사고.
... B35: 외출, 외박 시에 "외출, 외박 신청서"를 작성하게 되는데, 이 때 신청서에 명시되어 있듯이 입소자
B36: 의 신병을 신청자가 인수하고, 모든 책임을 지겠다는 것을 의미하며, 외출, 외박 중 입소자의 특성을 | X36: 2
B37: 정확히 파악하지 못하여 사고가 발생할 수 있으며, 운전 중 사고 등 기타 많은 사고가 있을 수 있다.
B38: 9. 제3자와의 신체적 접촉, 충돌 및 다툼 중 발생하는 사상사고
B39: 입소 중 함께 입소해 있는 입소자 간에 아래와 같은 일상생활에서의 다툼은 일방적인 폭행 뿐만
A40: 될 수 있고 | B40: 아니라 상호간의 몸싸움으로 밀어서 넘어져 골절을 당하거나, 혹은 머리를 부딪혀 상해를 입는 경우
A41: 될 수 있고 | B41: 그리고, 서로간에 주먹 또는 흉기를 휘둘러 상해를 입히는 경우 등이 발생할 수 있다.
B42: ① 식사 중 언쟁으로 인해 다툼.
B43: ② 휠체어 등 보장구가 걸리적거린다는 이유로 다툼.
B44: ③ 발을 밟힌 행위에 대한 다툼.
B45: ④ 수면 중 코골이 및 이갈이 등으로 인한 수면장애로 다툼.
B46: ⑤ 금전의 분실로 다른 입소자를 의심하여 다툼.
B47: ⑥ 기타 제3자와의 제반 신체적 접축.
B48: 10. 휠체어 등에 손가락 등이 끼는 상해사고
B49: 11. 입소자의 신체적•정신적 급변으로 인한 사상사고
B50: ① 경련, 발작, 발열, 천식 및 구토 등
B51: ② 원인불명의 오환과 고열
B52: ③ 심부전, 심근경색 등의 심질환
B53: ④ 상기와 같은 징후를 보이지 않고 발생하는 원인불명의 사망(자연사)
... B63: 13. 기타 을의 통제를 벗어나 발생할 수 있는 제반 사상사고
C65: ※ 낙상사고 및 안전사고에 대한 설명을 충분히 들었습니다 확인
F75: 작성자 (담당자): | K75: 박성의 | P75: (인)
F78: 이용자 (보호자): | K78: =장기요양급여이용표준약관!C22 -> 0 | P78: (인)

Sheet 개인물품확인서
B2: 개인물품 확인서
B4: 성 명 | C4: 김양순 | G4: 연령 | H4: =장기요양급여이용표준약관!D15 -> 0 | J4: 주민등록 번 호 | L4: =초기상담기록지!D6 -> 0 | P4: 기록일 | R4: =장기요양급여이용표준약관!B27 -> 0
B5: 보 관 품 | C5: 품명 | G5: 수량(금액) | J5: 보관장소 | L5: 품명 | P5: 수량(금액) | S5: 보관장소
C6: 18K반지
B23: 확인 | C23: 상기 물품을 확인하였음을 증명합니다.
G24: 작성자(담당자) : | K24: 박성의 | N24: (인 또는 서명)
G25: 확인자(대리인) : | K25: =초기상담기록지!D7 -> 0 | N25: (인 또는 서명)
B26: ※ 본 확인서는 소모품을 제외한 물품에 대해 기록하는 것을 원칙으로 하며, 기록 및 삭제 시에는 반드시 확인자와의 협의 하에 실시토록 한다.
B27: [늘봄실버요양센터]

Sheet 통장관리동의서
B2: 통장관리 동의서
B5: 본 인
B6: 성 명 | C6: : | D6: =초기상담기록지!D5 -> 0
B7: 주민등록번호 | C7: : | D7: =초기상담기록지!D8 -> 0
B8: 대 리 인
B9: 성 명 | C9: : | D9: =초기상담기록지!D7 -> 0
B10: 주민등록번호 | C10: : | D10: =초기상담기록지!D8 -> 0
B11: 관 리 인
B12: 성 명 | C12: : | D12: 늘봄실버요양센터
B13: 주민등록번호 | C13: : | D13: 607-82-13845
B15: 상기 본인(대리인)은 선량한 관리자로서의 의무를 다하여 관리하는 것을 원칙으로, 입소 보호 중 수령
B16: 하는 경로연금 및 장애수당을 상기의 관리인이 관리하는데 동의하며, 아울러 입소자를 위한 필요경비로
B17: 사용한 경우에는 그 책임을 묻지 않는다.
B21: 본 인 | C21: : | E21: =D6 -> 0 | J21: (인)
B22: 대 리 인 | C22: : | E22: =D9 -> 0 | J22: (인)
B23: 관 리 인 | C23: : | E23: 늘봄실버요양센터 | J23: (인)
B26: 늘봄실버요양센터원장귀하
B27: 늘봄실버요양센터

Sheet 생활복지과사정기록
A2: 생활 복지과 사정기록지
A3: 1. 대상자정보
A4: 대상자명 | B4: =장기요양급여이용표준약관!C14 -> 0 | H4: 생년월일 | L4: =장기요양급여이용표준약관!C16 -> 0 | Q4: 성별/ 나이 | T4: 여 /만 91세
A5: 요양등급 | B5: =장기요양급여이용표준약관!F14 -> 0 | H5: 장기요양번호 | L5: =장기요양급여이용표준약관!F15 -> 0 | Q5: 입소일 | T5: =장기요양급여이용표준약관!B27 -> 0
A6: 질환 | D6: 치매 | G6: 고혈압 | K6: 당뇨 | Q6: 작성일
B7: 기타: | Q7: 작성자 | T7: 송수인(생활복지 팀장)
A9: 2.수급자 상태
A10: 신체 | B10: 하지 | C10: 보행유무 | G10: 보행상태 | L10: 보조구 없음 | Q10: 지팡이 | T10: 워커 | W10: 휠체어
D11: 유 | F11: 무 | H11: 유 | J11: 무 | K11: 기타:
B12: 상지 | C12: 제한여부 | H12: 좌 | J12: 우 | K12: 기타:
D13: 유 | F13: 무
B14: 통증 | C14: 통증여부 | G14: 통증부위:
D15: 유 | F15: 무
A16: 배설 | C16: 대소변 인지여부 | G16: 배설상태 | K16: 자립 | N16: 화장실 이용 보조 | T16: 기저귀 | W16: 팬티기저귀
D17: 유 | F17: 무 | K17: 야간 기저귀 착용 | Q17: 변비 | T17: 요실금 | W17: 유치도뇨관
J18: 기타:
A19: 식이 | C19: 틀니사용 | G19: 식사상태 | K19: 밥 | M19: 죽 | O19: 미음 | R19: 위관영양
D20: 유 | F20: 무 | K20: 일반찬 | O20: 다진찬 | S20: 완전다진찬
D21: 상 | F21: 하 | K21: 자립 | O21: 부분보조 | S21: 완전보조 | W21: 반찬보조
D22: 부분 | J22: 기타:
A23: 인지상태 및 일상생활 문제 | C23: (망상, 환청, 배회, 식탐, 불면, 수집, 공격성, 불결행동등을 기술)
A25: 의사소통 | C25: 말하기 | F25: 대화가능 | K25: 청력 | N25: 양호 | R25: 시력 | T25: 장애여부 | X25: 좌 | Z25: 우
F26: 간단한대화 가능 | N26: 경미한 장애 | U26: 양호
F27: 거의 어려움 | N27: 거의 안들림 | U27: 신문의 큰표제는 식별
F28: 불가능 | N28: 보청기 사용 | U28: 얼굴, 몸체, 윤곽 식별
C29: 기타 | U29: 전혀 보이지 않음
U30: 보조구 사용
A31: 수급자(보호자) 욕구
A32: 기타
A33: [늘봄실버요양센터]

Sheet 간호사정기록
B2: 간호 사정 기록지
B4: 장기요양인정 관 리 번 호 | E4: =장기요양급여이용표준약관!F15 -> 0 | L4: 상담일자 | V4: 상담자 | Y4: (서명)
A5: =TEXT(LEFT(Y5,6),"00-00-00") -> 00-00-00 | B5: 성 명 | E5: =장기요양급여이용표준약관!C14 -> 0 | L5: 성별 | N5: 남 | Q5: 연령 | S5: =장기요양급여이용표준약관!D15 -> 0 | V5: 주민등록 번 호 | Y5: =장기요양급여이용표준약관!C16 -> 0
B6: 입 소 시 진 단 명 | E6: 주병명 | L6: 기타 병력
B7: 추가진단 정보내용
B8: 기초정보 | E8: 신장 | L8: 체중 | S8: 혈압 | Z8: 맥박
E9: 호흡 | L9: 체온 | S9: 혈당 (BST) | Z9: 측정불가
B10: 현 증상
B16: 병력 | E16: 병명
F17: 결핵 | L17: 고혈압 | R17: 방광염 | X17: 변형성관절증
F18: 기관지 천식 | L18: 협심증/심근경색 | R18: 뇌경색 | X18: 신경변성질환
F19: 알러지 | L19: 당뇨 | R19: 뇌출혈 | X19: 치매
F20: 폐징환 | L20: 만성신장염 | R20: 우울증 | X20: 안질환
F21: 위/ 식도염 | L21: 네푸로시스증후군 | R21: 이비과질환 | X21: 암
F22: 위 십이지장 염증 | L22: 자궁근종 | R22: 골다공증 | X22: 골절
F23: 간염(만성/급성) | L23: 전립선비대증 | R23: 파킨슨씨 | X23: 결석
F24: 간경변 | L24: 교원병 | R24: 성병 | X24: -
F25: 대장염증성 질환 | L25: 만성관절류머티스 | R25: 갑상선질환 | X25: -
B26: 감염 | F26: 옴 | L26: 무좀 | R26: 녹농균 | X26: 기타
F27: MRSA | L27: - | R27: -
B28: 현복용약
B30: [늘봄실버요양센터]
B31: 세부건강상태
B32: 항목 | E32: 세부항목 | Y32: 보조구/기구
B33: 호흡
B34: 저작
B35: 연하
B36: 배변
B37: 배뇨
B38: 상지자유
B39: 기거동작
B40: 이동자유
B41: 피부상태
A42: 늘봄실버요양센터
B43: 청각
B44: 시각
B45: 쾌,불쾌 통증
B46: 기분
B47: 지적활동 기억 판단력
B48: 상태평가
...

Sheet 물리기초사정
A2: 물리치료 초기 사정도구
A3: 수급번호:
A4: 1. 일반정보
A5: 이 름 | B5: =장기요양급여이용표준약관!C14 -> 0 | D5: 성 별 | E5: =장기요양급여이용표준약관!C15 -> 0 | G5: 생년월일 | H5: =장기요양급여이용표준약관!C16 -> 0
A6: 입소일 | B6: =장기요양급여이용표준약관!B27 -> 0 | D6: 초기사정일 | G6: 진 단 명
A7: 작성일 | D7: 등 급 | E7: =장기요양급여이용표준약관!F14 -> 0 | G7: 작성자/서명 | H7: 김형근
A8: 입소방법 | B8: 독립적 □ 보조장비사용 □ (지팡이 □ 워커 □ 일반휠체어 □ 침상휠체어 □)
A9: 병력 | B9: 고혈압 □ ( 년) 뇌졸중 □ ( 년) 당뇨 □ ( 년) 관절염 □ ( 년) 심혈관질환 □ ( 년) 정신질환 □ ( 년) 골다공증 □ ( 년) 기타 □ ( 년)
A10: 외상여부 | B10: 무 □ 유 □ (낙상 □ 사고 □ 골절 □ 배회 □)
A11: 일상생활 | B11: 독립적 □ 도움필요 □ ( 부분적 도움 □ 항상 대기상태 □ ) 완전보조 □
A12: 의사소통 | B12: 원만함 □ 곤란함 □ 불가능 □
A13: 정서상태 | B13: 안정 □ 무감동 □ 불안정 □ 기타 □ ( )
A14: 기 타
A16: 2. 관절운동범위 및 기본동작평가
A17: 1.운동장애 및 관절제한평가
A19: 항목 | B19: 운동장애정도 | F19: 항목 | G19: 관절제한정도
B20: 운동장애없음 | D20: 불완전 운동장애 | E20: 완전 운동장애 | G20: 제한없음 | H20: 좌/우 관절제한 | J20: 양 관절제한
A21: 우측상지 | F21: 어깨관절
A22: 좌측상지 | F22: 팔꿈치관절
A23: 우측하지 | F23: 손목 및 수지관절
A24: 좌측하지 | F24: 고관절
A25: 신체통증유무 | B25: 없음( ) 있음( ) | F25: 무릎관절
F26: 발목관절
A28: 2. 관절가동범위(ROM)측정 및 근력검사(MMT)
A29: 관절가동범위(ROM) Range of Motion | C29: 상지 | E29: 좌 | F29: □ Full-ROM □ 경도의 ROM제한 □ 중도의 ROM제한
E30: 우 | F30: □ Full-ROM □ 경도의 ROM제한 □ 중도의 ROM제한
C31: 하지 | E31: 좌 | F31: □ Full-ROM □ 경도의 ROM제한 □ 중도의 ROM제한
E32: 우 | F32: □ Full-ROM □ 경도의 ROM제한 □ 중도의 ROM제한
A33: 근력검사(MMT) Manual Muscle Test | C33: 상지 | E33: 좌 | F33: □ Nomal □ Good □ Fair □ Poor □ Trace □ Zero
E34: 우 | F34: □ Nomal □ Good □ Fair □ Poor □ Trace □ Zero
C35: 하지 | E35: 좌 | F35: □ Nomal □ Good □ Fair □ Poor □ Trace □ Zero
E36: 우 | F36: □ Nomal □ Good □ Fair □ Poor □ Trace □ Zero
A38: 3. 기본동작평가
A39: □ 침상이동-측면&침상위 이동 □앉기 □네발기기 □무릎서기 □기립 □보행 □휠체어조작및이동 □ 보장구장착이동
A41: 4. 균형감 & 걸음걸이 사정 -Tinetti의 균형과 걸음걸이 평가법 (Tinetti Balance ＆Gait Evaluation)
A43: ① Gait Evaluation | F43: ② Tinetti Balance
A44: 요소 | B44: 판정 | E44: 점수 | F44: 요소 | G44: 판정 | J44: 점수
A45: 1.걸음시작 | B45: (방법: 걸으라는 지시가 있을때 걸음이 시작되는 상황) 0.여러번시도 또는 머뭇거리며시작 1. 머뭇거림없이 걷기 시작 | F45: 9.앉아있기 | G45: 0.의자에 기대거나 미끄러지듯 앉아있기 1.안정적이고 안전하게 앉아있기
A46: 2.보폭과 높이 | B46: 0.우측발이 지변에 지지하고 있는 좌측 발을 통과하지 못함 1.우측발이 지면에 지지하고 있는 좌측발을 통과 | F46: 10.일어나기 | G46: 0.도움없이 일어나기 불가능 1.팔을 사용하여 일어남 2.팔을 사용 않하고도 일어남
F47: 11.일어나기 시도 | G47: 0.도움없이 불가능 1.두 번 이상 시도로 가능 2.한 번의 시도로 가능
...

Sheet 본인부담금안내
G1: 1-일반 | H1: 11866
A2: 본인부담금 입금안내 | G2: 2-일반 | H2: 11012
G3: 3-일반 | H3: 10154
E4: 단위:원 | G4: 1-경감 | H4: 5933
A5: 구분 | C5: 1등급 | D5: 2등급 | E5: 3등급 | G5: 2-경감 | H5: 5506
A6: 1일당수가 | C6: 59330 | D6: 55060 | E6: 50770 | G6: 3-경감 | H6: 5077
A7: 본인부담(20%) | C7: =C6*0.2 -> 11866 | D7: =D6*0.2 -> 11012 | E7: =E6*0.2 -> 10154
A8: 본인부담(10%) | C8: =C6*0.1 -> 5933 | D8: =D6*0.1 -> 5506 | E8: =E6*0.1 -> 5077
A9: 30일기준 | C9: =C6*30 -> 1779900 | D9: =D6*30 -> 1651800 | E9: =E6*30 -> 1523100
A10: 일반 | B10: 공단부담(80%) | C10: =(C6*30)*0.8 -> 1423920 | D10: =(D6*30)*0.8 -> 1321440 | E10: =(E6*30)*0.8 -> 1218480
B11: 본인부담(20%) | C11: =C6*30*0.2 -> 355980 | D11: =D6*30*0.2 -> 330360 | E11: =E6*30*0.2 -> 304620
A12: 의료수급 기초경감 | B12: 공단부담(90%) | C12: =C6*30*0.9 -> 1601910 | D12: =D6*30*0.9 -> 1486620 | E12: =E6*30*0.9 -> 1370790
B13: 본인부담(10%) | C13: =(C6*30)*0.1 -> 177990 | D13: =(D6*30)*0.1 -> 165180 | E13: =(E6*30)*0.1 -> 152310
A14: 공통 | B14: 식대 | C14: 198000 | D14: 198000 | E14: 198000
A15: 일반 | B15: 본인부담계 | C15: =C14+C11 -> 553980 | D15: =D14+D11 -> 528360 | E15: =E14+E11 -> 502620
A16: 의료수급 기초경감 | B16: 본인부담계 | C16: =C14+C13 -> 375990 | D16: =D13+D14 -> 363180 | E16: =E14+E13 -> 350310
A17: 2013.07.01 고시기준 30일기준
A19: ex) 1-일반: 1등급 일반비용 1-경감: 1등급(의료수급,일부경감대상자) | E19: =MATCH(B20,G:G,0) -> #N/A
A20: 등급 | B20: =장기요양급여이용표준약관!A11 -> -일반 | C20: 식비정산횟수 | D20: 2
A21: 성명(환자) | B21: =장기요양급여이용표준약관!C14 -> 0 | C21: 서비스시작일 | D21: =장기요양급여이용표준약관!B27 -> 0
A22: 보호자 | B22: =장기요양급여이용표준약관!C22 -> 0 | C22: 서비스정산일 | D22: =DATE(YEAR(TODAY()),MONTH(TODAY())+1,0) -> 44530
A24: 요양비용 | B24: =65870*31*0.2-6580-4 -> 401810 | C24: 1일비용 | D24: 10154
A25: 식대 | B25: =6600*31 -> 204600 | C25: 서비스일 | D25: 30.5
A26: 식대정산 | B26: -4400
A27: 합계 | B27: =ROUND(B24+B25+B26,-1) -> 602010
A29: 늘봄실버요양센터 본인부담금 입금 안내
A30: 입금일자: 매달 1일(공휴일일 경우 다음날)
A31: 입금은행: 중소기업은행
A32: 입급계좌: 104-071061-01-062

Sheet 서비스연계기록지
A2: 서비스 연계기록지 (전원/퇴소)
A3: 수급자 | B3: 성 명 | C3: =장기요양급여이용표준약관!C14 -> 0 | F3: 성별/나이 | H3: 생년원일 | I3: =장기요양급여이용표준약관!C16 -> 0
B4: 주질환 | C4: =#REF! -> #REF! | F4: 요양등급 | G4: =장기요양급여이용표준약관!F14 -> 0 | H4: 연락처 | I4: =장기요양급여이용표준약관!F16 -> 0
A5: 보호자 | B5: 성 명 | C5: =장기요양급여이용표준약관!C22 -> 0 | F5: 관 계 | G5: =장기요양급여이용표준약관!G22 -> 0 | H5: 생년월일 | I5: =장기요양급여이용표준약관!C23 -> 0
B6: 주 소 | C6: =장기요양급여이용표준약관!C25 -> 0 | H6: 연락처 | I6: =장기요양급여이용표준약관!G24 -> 0
A7: 제공기관 | B7: 늘봄실버요양센터 | D7: 소재지 | E7: 부산 동래구 명장2동 556-17 | H7: 연락처 | I7: 051-529-0701
A9: 제공급여 | B9: 신체활동지원
B10: 정서지원
B11: 치매관리지원
B12: 생활환경관리
B13: 기능회복훈련
A14: 외래의료기관 / 복용약
A15: 생활상태 | B15: 신체적특징 | C15: 시력
C16: 청력
C17: 언어
C18: 수면
C19: 식사
C20: 배변
C21: 보행
C22: 피부
A23: 현재심신기능상태
A25: 특이사항
A27: 종합소견 및 의뢰사유
A30: =TODAY() -> 44524
A32: 기관명 : 늘봄실버요양센터 (직인)
A34: 작 성 자 | C34: (서명) | G34: 연락처

Sheet 퇴소(신병인수)신청서
A1: 퇴소(신병인수) 신청서
A3: ⊙ 퇴소자 인적사항 및 사유
A4: 성 명 | B4: =장기요양급여이용표준약관!C14 -> 0 | D4: 주민등록 번 호 | E4: =장기요양급여이용표준약관!C16 -> 0 | G4: 퇴 소 사 유
A5: 입소기간 | B5: =장기요양급여이용표준약관!B27 -> 0 | D5: 부터 | E5: 퇴소사유 | G5: 사망 전원 퇴소
D6: 까지
A7: ⊙ 보호자(인수자) 인적사항 및 인수내용
A8: 성 명 | B8: =장기요양급여이용표준약관!C22 -> 0 | E8: 퇴소자와의 관 계 | F8: =장기요양급여이용표준약관!G22 -> 0
A9: 주민등록 번 호 | B9: =장기요양급여이용표준약관!C23 -> 0 | E9: 전화번호 | F9: =장기요양급여이용표준약관!G24 -> 0
A10: 주 소 | B10: =장기요양급여이용표준약관!C25 -> 0
A11: 인 수 내 용 | B11: 품 목 | E11: 수 량 | F11: 비 고
A17: 상기와 같은 내용으로 귀 시설에서 퇴소(신병인수) 하고자 합니다.
B20: =TODAY() -> 44524
C23: 인수자 | D23: =B8 -> 0 | F23: (인 또는 서명)

Sheet 비교표
