Workbook

Sheet 예산총칙
A1: 예 산 총 칙
A2: 제1조 고양사랑방요양원의 2022년도 예산을 다음과 같이 편성한다.
A3: 제2조 고양사랑방요양원의 세입 • 세출 예산 총액은 아래와 같다.
A4: 세입예산총액 | B4: =예산총괄표!E18 -> 9.2879816e+08
A5: 세출예산총액 | B5: =예산총괄표!J18 -> 9.2879816e+08
A6: 제3조 세입의 주요재원은 아래와 같다
A7: 입소자 부담금수입 | B7: =예산총괄표!E5 -> 228378540
A8: 보조금수입 | B8: =예산총괄표!E8 -> 12912000
A9: 요양급여수입 | B9: =예산총괄표!E10 -> 589189572
A10: 제4조 세출의 주요재원은 아래와 같다
A11: 사무비(인건비, 사무운영비) | B11: =예산총괄표!J5+예산총괄표!J6+예산총괄표!J7 -> 5.9791616e+08
A12: 재산조정비(시설비) | B12: =예산총괄표!J8 -> 9600000
A13: 사업비(사업비, 사업 운영비) | B13: =예산총괄표!J9+예산총괄표!J10 -> 141282000
A14: 제5조 운영충당적립금, 환경개선준비금은 시, 군, 구의 사전보고 와 운영위원회의 의결을 득한 후 적립한다.
A15: 제6조 세출경비가 부족 할 경우에는「사회복지법인 및 사회복지시설 재무회계규칙 제16조」에
A16: 따라 전용한다.
A17: 제7조 국가 또는 지방자치단체로부터 교부된 보조금 및 지정후원금，법인전입금 등은 추가경정
A18: 예산의 성립 이전이라도 보조 및 후원목적에 적절한 경우 먼저 사용 할 수 있으며，
A19: 이는 차기 추가경정예산에 반영하여야 한다.
A20: 제8조 그외 예산총칙에 명시되지 않은 사항은 「사회복지법인 및 사회복지시설 재무회계규칙」에
A21: 따라 집행한다.

Sheet 예산총괄표
A1: 예 산 총 괄 표
B2: 고양사랑방요양원 | I2: 회계연도: 2022년 | K2: (단위 : 원)
A3: 순번 | B3: 세 입 | G3: 세 출
B4: 관 | C4: 항 | D4: 전년도 | E4: 당해년도 | F4: 증감액 | G4: 관 | H4: 항 | I4: 전년도 | J4: 당해년도 | K4: 증감액
A5: 1 | B5: 01.입소자 부담금수입 | C5: 11.입소 비용수입 | D5: =세입명세서!D6 -> 182133600 | E5: =세입명세서!E5 -> 228378540 | F5: =세입명세서!F5 -> 46244940 | G5: 01.사무비 | H5: 11.인건비 | I5: =세출명세서!D6 -> 539468660 | J5: =세출명세서!E6 -> 5.4367616e+08 | K5: =세출명세서!F6 -> 4207503
A6: 2 | B6: 02.사업수입 | C6: 21.사업수입 | D6: =세입명세서!E15 -> 0 | E6: =세입명세서!E14 -> 0 | F6: =세입명세서!F14 -> 0 | H6: 12.업무추진비 | I6: =세출명세서!D23 -> 720000 | J6: =세출명세서!E23 -> 1440000 | K6: =세출명세서!F23 -> 720000
A7: 3 | B7: 03.과년도수입 | C7: 31.과년도수입 | D7: =세입명세서!D18 -> 0 | E7: =세입명세서!E17 -> 0 | F7: =세입명세서!F17 -> 0 | H7: 13.운영비 | I7: =세출명세서!D27 -> 40320000 | J7: =세출명세서!E27 -> 52800000 | K7: =세출명세서!F27 -> 12480000
A8: 4 | B8: 04.보조금수입 | C8: 41.보조금 수입 | D8: =세입명세서!D21 -> 15300000 | E8: =세입명세서!E20 -> 12912000 | F8: =세입명세서!F20 -> -2388000 | G8: 02.재산조성비 | H8: 21.시설비 | I8: =세출명세서!D41 -> 24000000 | J8: =세출명세서!E41 -> 9600000 | K8: =세출명세서!F41 -> -14400000
A9: 5 | B9: 05.후원금수입 | C9: 51.후원금수입 | D9: =세입명세서!D24 -> 0 | E9: =세입명세서!E23 -> 0 | F9: =세입명세서!F23 -> 0 | G9: 03.사업비 | H9: 31.운영비 | I9: =세출명세서!D46 -> 105516000 | J9: =세출명세서!E46 -> 138882000 | K9: =세출명세서!F46 -> 33366000
A10: 6 | B10: 06.요양급여수입 | C10: 61.요양급여수입 | D10: =세입명세서!D28 -> 580262496 | E10: =세입명세서!E27 -> 589189572 | F10: =세입명세서!F27 -> 8927076 | H10: 33.프로그램사업비 | I10: =세출명세서!D51 -> 2400000 | J10: =세출명세서!E51 -> 2400000 | K10: =세출명세서!F51 -> 0
A11: 7 | B11: 07.차입금 | C11: 71.차입금 | D11: =세입명세서!D38 -> 46700000 | E11: =세입명세서!E37 -> 0 | F11: =세입명세서!F37 -> -46700000 | G11: 04.전출금 | H11: 41.전출금 | I11: =세출명세서!D53 -> 120000000 | J11: =세출명세서!E54 -> 180000000 | K11: =세출명세서!F54 -> 60000000
A12: 8 | B12: 08.전입금 | C12: 81.전입금 | D12: =세입명세서!D42 -> 24000000 | E12: =세입명세서!E41 -> 0 | F12: =세입명세서!F41 -> -24000000 | G12: 05.과년도지출 | H12: 51.과년도지출 | I12: =세출명세서!D58 -> 0 | J12: =세출명세서!E58 -> 0 | K12: =세출명세서!F58 -> 0
A13: 9 | B13: 09.이월금 | C13: 91.이월금 | D13: =세입명세서!D48 -> 4283904 | E13: =세입명세서!E47 -> 20000000 | F13: =세입명세서!F47 -> 15716096 | G13: 06.상환금 | H13: 61.부채상환금 | I13: =세출명세서!D61 -> 60000000 | J13: =세출명세서!E61 -> 0 | K13: =세출명세서!F61 -> -60000000
A14: 10 | B14: 10.잡수입 | C14: 101.잡수입 | D14: =세입명세서!D53 -> 40320000 | E14: =세입명세서!E52 -> 78318051 | F14: =세입명세서!F52 -> 37998051 | G14: 07.잡지출 | H14: 71.잡지출 | I14: =세출명세서!D65 -> 575340 | J14: =세출명세서!E65 -> 0 | K14: =세출명세서!F65 -> -575340
A15: 11 | B15: 11.적립금및준비금(특별회계) | C15: 111.운영충당적립금 및 환경개선준비금 | D15: =세입명세서!D60 -> 0 | E15: =세입명세서!E59 -> 0 | F15: =세입명세서!F59 -> 0 | G15: 08.예비비 및 기타 | H15: 81.예비비 및 기타 | I15: =세출명세서!D68 -> 0 | J15: =세출명세서!E68 -> 0 | K15: =세출명세서!F68 -> 0
A16: 12 | G16: 09. 적립금 및 준비금 | H16: 91.운영충당적립금 및 환경개선준비금 | I16: =세출명세서!D72 -> 0 | J16: =세출명세서!E72 -> 0 | K16: =세출명세서!F72 -> 0
A17: 13 | G17: 10.적립금 및 준비금 지출(특별회계) | H17: 101.운영충당적립금 및 환경개선준비금 지출 | I17: =세출명세서!D76 -> 0 | J17: =세출명세서!E76 -> 0 | K17: =세출명세서!F76 -> 0
B18: 세입 합계 | D18: =SUM(D5:D17) -> 893000000 | E18: =SUM(E5:E17) -> 9.2879816e+08 | F18: =SUM(F5:F17) -> 35798163 | G18: 세출합계 | I18: =SUM(I5:I17) -> 893000000 | J18: =SUM(J5:J17) -> 9.2879816e+08 | K18: =SUM(K5:K17) -> 35798163
J20: =E18-J18 -> 0

Sheet 세입명세서
A1: 세 입 명 세 서
A2: =예산총괄표!B2 -> 고양사랑방요양원 | K2: =예산총괄표!I2 -> 회계연도: 2022년 | Q2: (단위 : 원)
A3: 과 목 | D3: 전년도 예산액 | E3: 당해연도 예 산 액 | F3: 증 감 | G3: 예 산 산 출 내 역 | Q3: 비 고
A4: 관 | B4: 항 | C4: 목(세목) | G4: 내 용 | H4: 금 액 | I4: 단 위 | P4: 계
A5: 01.입소자 부담금수입 | D5: =D6 -> 182133600 | E5: =E6 -> 228378540 | F5: =E5-D5 -> 46244940
B6: 11.입소 비용수입 | D6: =SUM(D7:D13) -> 182133600 | E6: =SUM(E7:E13) -> 228378540 | F6: =E6-D6 -> 46244940
C7: 112.본인부담금수입 | D7: 111117600 | E7: =SUM(P7:P9) -> 119568540 | F7: =E7-D7 -> 8450940 | G7: 1등급 | H7: ='2022년수가'!E3 -> 456585 | I7: × | J7: 1 | K7: 명 | L7: × | M7: 12 | N7: 월 | O7: = | P7: =H7*J7*M7 -> 5479020
G8: 2등급 | H8: ='2022년수가'!E4 -> 423645 | I8: × | J8: =J30 -> 4 | K8: 명 | L8: × | M8: =$M$7 -> 12 | N8: 월 | O8: = | P8: =H8*J8*M8 -> 20334960
G9: 3~5등급 | H9: ='2022년수가'!E5 -> 390644 | I9: × | J9: =J31 -> 20 | K9: 명 | L9: × | M9: =$M$7 -> 12 | N9: 월 | O9: = | P9: =H9*J9*M9 -> 93754560
C10: 113.식재료비수입 | D10: 57096000 | E10: =P10 -> 89670000 | F10: =E10-D10 -> 32574000 | H10: ='2022년수가'!L3 -> 298900 | I10: × | J10: =SUM(J7:J9) -> 25 | K10: 명 | L10: × | M10: =$M$7 -> 12 | N10: 월 | O10: = | P10: =H10*J10*M10 -> 89670000
C11: 114.상급침실이용료 | D11: 0 | E11: =P11 -> 0 | F11: =E11-D11 -> 0 | H11: 200000 | I11: × | J11: 0 | K11: 명 | L11: × | M11: =$M$7 -> 12 | N11: 월 | O11: = | P11: =H11*J11*M11 -> 0
C12: 115.이미용비 | D12: 0 | E12: =P12 -> 0 | F12: =E12-D12 -> 0 | H12: 1000 | I12: × | J12: 0 | K12: 명 | L12: × | M12: =$M$7 -> 12 | N12: 월 | O12: = | P12: =H12*J12*M12 -> 0
C13: 116.기타비급여수입 | D13: 13920000 | E13: =P13 -> 19140000 | F13: =E13-D13 -> 5220000 | H13: 55000 | I13: × | J13: =J10+J22 -> 29 | K13: 명 | L13: × | M13: =$M$7 -> 12 | N13: 월 | O13: = | P13: =H13*J13*M13 -> 19140000
A14: 02.사업수입 | D14: =D15 -> 0 | E14: =E15 -> 0 | F14: =E14-D14 -> 0
B15: 21.사업수입 | D15: =D16 -> 0 | E15: =E16 -> 0 | F15: =E15-D15 -> 0
C16: 211.OO사업수입 | E16: =P16 -> 0 | F16: =E16-D16 -> 0 | I16: × | M16: =$M$7 -> 12 | N16: 월 | O16: = | P16: =H16*M16 -> 0
A17: 03.과년도수입 | D17: =D18 -> 0 | E17: =E18 -> 0 | F17: =E17-D17 -> 0
B18: 31.과년도수입 | D18: =D19 -> 0 | E18: =E19 -> 0 | F18: =E18-D18 -> 0
C19: 311.과년도수입 | E19: =P19 -> 0 | F19: =E19-D19 -> 0 | I19: × | M19: =$M$7 -> 12 | N19: 월 | O19: = | P19: =H19*M19 -> 0
A20: 04.보조금수입 | D20: =D21 -> 15300000 | E20: =E21 -> 12912000 | F20: =E20-D20 -> -2388000
B21: 41.보조금수입 | D21: =D22 -> 15300000 | E21: =SUM(E22:E22) -> 12912000 | F21: =E21-D21 -> -2388000
C22: 413.시,군,구보조금 | D22: 15300000 | E22: =P22 -> 12912000 | F22: =E22-D22 -> -2388000 | H22: 269000 | I22: × | J22: =SUM(J32:J34) -> 4 | K22: 명 | L22: × | M22: =$M$7 -> 12 | N22: 월 | O22: = | P22: =H22*J22*M22 -> 12912000
A23: 05.후원금수입 | D23: =D24 -> 0 | E23: =E24 -> 0 | F23: =E23-D23 -> 0
B24: 51.후원금수입 | D24: =D25+D26 -> 0 | E24: =E25+E26 -> 0 | F24: =E24-D24 -> 0
C25: 511.지정후원금 | E25: =P25 -> 0 | F25: =E25-D25 -> 0 | I25: × | M25: =$M$7 -> 12 | N25: 월 | O25: = | P25: =H25*M25 -> 0
C26: 512.비지정후원금 | D26: 0 | E26: =P26 -> 0 | F26: =E26-D26 -> 0 | H26: 0 | I26: × | M26: =$M$7 -> 12 | N26: 월 | O26: = | P26: =H26*M26 -> 0
A27: 06.요양급여수입 | D27: =D28 -> 580262496 | E27: =E28 -> 589189572 | F27: =E27-D27 -> 8927076
B28: 61.요양급여수입 | D28: =SUM(D29:D36) -> 580262496 | E28: =SUM(E29:E36) -> 589189572 | F28: =E28-D28 -> 8927076
C29: 611.장기요양급여수입 | D29: 557052000 | E29: =SUM(P29:P34) -> 572028720 | F29: =E29-D29 -> 14976720 | G29: 1등급(일반) | H29: ='2022년수가'!F3 -> 1826340 | I29: × | J29: 1 | K29: 명 | L29: × | M29: =$M$7 -> 12 | N29: 월 | O29: = | P29: =H29*J29*M29 -> 21916080
G30: 2등급(일반) | H30: ='2022년수가'!F4 -> 1694580 | I30: × | J30: 4 | K30: 명 | L30: × | M30: =$M$7 -> 12 | N30: 월 | O30: = | P30: =H30*J30*M30 -> 81339840
G31: 3~5등급(일반) | H31: ='2022년수가'!F5 -> 1562576 | I31: × | J31: 20 | K31: 명 | L31: × | M31: =$M$7 -> 12 | N31: 월 | O31: = | P31: =H31*J31*M31 -> 375018240
G32: 1등급(기초수급) | H32: ='2022년수가'!F12 -> 2282925 | I32: × | J32: 0 | K32: 명 | L32: × | M32: =$M$7 -> 12 | N32: 월 | O32: = | P32: =H32*J32*M32 -> 0
G33: 2등급(기초수급) | H33: ='2022년수가'!F13 -> 2118225 | I33: × | J33: 0 | K33: 명 | L33: × | M33: =$M$7 -> 12 | N33: 월 | O33: = | P33: =H33*J33*M33 -> 0
G34: 3~5등급(기초수급) | H34: ='2022년수가'!F14 -> 1953220 | I34: × | J34: 4 | K34: 명 | L34: × | M34: =$M$7 -> 12 | N34: 월 | O34: = | P34: =H34*J34*M34 -> 93754560
C35: 612.가산금 수입 | D35: 23210496 | E35: =P35 -> 17160852 | F35: =E35-D35 -> -6049644 | H35: =ROUNDDOWN((E29*3%)/M35,0) -> 1430071 | I35: × | J35: 1 | K35: 명 | L35: × | M35: =$M$7 -> 12 | N35: 월 | O35: = | P35: =H35*M35*J35 -> 17160852
C36: 613.장기근속장려금 | D36: 0 | E36: =P36 -> 0 | F36: =E36-D36 -> 0 | H36: 0 | I36: × | J36: 0 | K36: 명 | L36: × | M36: =$M$7 -> 12 | N36: 월 | O36: = | P36: =H36*J36*M36 -> 0
A37: 07.차입금 | D37: =D38 -> 46700000 | E37: =E38 -> 0 | F37: =E37-D37 -> -46700000
B38: 71.차입금 | D38: =D39+D40 -> 46700000 | E38: =E39+E40 -> 0 | F38: =E38-D38 -> -46700000
C39: 711.금융기관차입금 | D39: 46700000 | E39: =P39 -> 0 | F39: =E39-D39 -> -46700000 | I39: × | M39: 1 | N39: 식 | O39: = | P39: =H39*M39 -> 0
C40: 712.기타차입금 | E40: =P40 -> 0 | F40: =E40-D40 -> 0 | H40: 0 | I40: × | M40: 1 | N40: 식 | O40: = | P40: =H40*M40 -> 0
A41: 08.전입금 | D41: =D42 -> 24000000 | E41: =E42 -> 0 | F41: =E41-D41 -> -24000000
B42: 81.전입금 | D42: =SUM(D43:D46) -> 24000000 | E42: =SUM(E43:E46) -> 0 | F42: =E42-D42 -> -24000000
C43: 811.법인전입금 | E43: =P43 -> 0 | F43: =E43-D43 -> 0 | I43: × | M43: =$M$7 -> 12 | N43: 월 | O43: = | P43: =H43*M43 -> 0
C44: 812.법인후원금 | E44: =P44 -> 0 | F44: =E44-D44 -> 0 | I44: × | M44: =$M$7 -> 12 | N44: 월 | O44: = | P44: =H44*M44 -> 0
C45: 813.기타전입금 | D45: 24000000 | E45: =P45 -> 0 | F45: =E45-D45 -> -24000000 | I45: × | M45: =$M$7 -> 12 | N45: 월 | O45: = | P45: =H45*M45 -> 0
C46: 814.기타후원금 | E46: =P46 -> 0 | F46: =E46-D46 -> 0 | I46: × | M46: =$M$7 -> 12 | N46: 월 | O46: = | P46: =H46*M46 -> 0
A47: 09.이월금 | D47: =D48 -> 4283904 | E47: =E48 -> 20000000 | F47: =E47-D47 -> 15716096
B48: 91.이월금 | D48: =SUM(D49:D51) -> 4283904 | E48: =SUM(E49:E51) -> 20000000 | F48: =E48-D48 -> 15716096
C49: 911.전년도이월금 | D49: 4283904 | E49: =P49 -> 10000000 | F49: =E49-D49 -> 5716096 | H49: 10000000 | I49: × | M49: 1 | N49: 월 | O49: = | P49: =H49*M49 -> 10000000
C50: 912.전년도이월금(후원금) | E50: =P50 -> 0 | F50: =E50-D50 -> 0 | I50: × | M50: =$M$7 -> 12 | N50: 월 | O50: = | P50: =H50*M50 -> 0
C51: 913.전년도이월금(식재료비) | E51: =P51 -> 10000000 | F51: =E51-D51 -> 10000000 | H51: 10000000 | I51: × | M51: 1 | N51: 월 | O51: = | P51: =H51*M51 -> 10000000
A52: 10.잡수입 | D52: =D53 -> 40320000 | E52: =E53 -> 78318051 | F52: =E52-D52 -> 37998051
B53: 101.잡수입 | D53: =SUM(D54:D58) -> 40320000 | E53: =SUM(E54:E58) -> 78318051 | F53: =E53-D53 -> 37998051
C54: 1011.불용품매각대 | D54: 0 | E54: =P54 -> 0 | F54: =E54-D54 -> 0 | I54: × | M54: =$M$7 -> 12 | N54: 월 | O54: = | P54: =H54*M54 -> 0
C55: 1012.기타예금이자수입 | D55: 120000 | E55: =P55 -> 120000 | F55: =E55-D55 -> 0 | H55: 10000 | I55: × | M55: =$M$7 -> 12 | N55: 월 | O55: = | P55: =H55*M55 -> 120000
C56: 1013.직원식재료비수입 | D56: 7200000 | E56: =P56 -> 7560000 | F56: =E56-D56 -> 360000 | H56: 35000 | I56: × | J56: 18 | K56: 명 | L56: × | M56: =$M$7 -> 12 | N56: 월 | O56: = | P56: =H56*J56*M56 -> 7560000
C57: 1014.기타잡수입 | D57: 3000000 | E57: =P57 -> 58638051 | F57: =E57-D57 -> 55638051 | H57: 58638051 | I57: × | M57: 1 | N57: 식 | O57: = | P57: =H57*M57 -> 58638051
C58: 1015.일자리안정자금 | D58: 30000000 | E58: =P58 -> 12000000 | F58: =E58-D58 -> -18000000 | H58: 1000000 | I58: × | M58: =$M$7 -> 12 | N58: 월 | O58: = | P58: =H58*M58 -> 12000000
A59: 11.적립금 및 준비금(특별회계) | D59: =D60 -> 0 | E59: =E60 -> 0 | F59: =E59-D59 -> 0
B60: 111.운영충당적립금 및 환경개선준비금 | D60: =SUM(D61:D62) -> 0 | E60: =SUM(E61:E62) -> 0 | F60: =E60-D60 -> 0
C61: 1111.운영충당적립금 | E61: =P61 -> 0 | F61: =E61-D61 -> 0 | H61: 0 | I61: × | M61: =$M$7 -> 12 | N61: 월 | O61: = | P61: =H61*M61 -> 0
C62: 1112.시설환경개선준비금 | D62: 0 | E62: =P62 -> 0 | F62: =E62-D62 -> 0 | I62: × | M62: =$M$7 -> 12 | N62: 월 | O62: = | P62: =H62*M62 -> 0
A63: 세 입 합 계 | D63: =D5+D14+D17+D20+D23+D27+D37+D41+D47+D52+D59 -> 893000000 | E63: =E5+E14+E17+E20+E23+E27+E37+E41+E47+E52+E59 -> 9.2879816e+08 | F63: =E63-D63 -> 35798163
E65: 414000000
E66: =E65-E63 -> -5.1479816e+08

Sheet 세출명세서
A1: 세출명세서
A2: =예산총괄표!B2 -> 고양사랑방요양원 | K2: =예산총괄표!I2 -> 회계연도: 2022년 | Q2: (단위 : 원)
A3: 과 목 | D3: 전년도 예산액 | E3: 당해연도 예산액 | F3: 증감 | G3: 산출근거 | Q3: 비고
A4: 관 | B4: 항 | C4: 목(세목) | G4: 내용 | H4: 금액 | I4: 단위 | P4: 계
A5: 01.사무비 | D5: =D6+D23+D27 -> 580508660 | E5: =E6+E23+E27 -> 5.9791616e+08 | F5: =E5-D5 -> 17407503
B6: 11.인건비 | D6: =SUM(D7:D22) -> 539468660 | E6: =SUM(E7:E22) -> 5.4367616e+08 | F6: =E6-D6 -> 4207503 | G6: 임직원보수일람표 참조
C7: 111.급여 | D7: 440400000 | E7: =P7+P12 -> 461280000 | F7: =E7-D7 -> 20880000 | G7: 직접비 | P7: =SUM(P8:P11) -> 399540000
G8: 사회복지사 | H8: =AVERAGEIF(인건비산정!$C$4:$C$35,"사회복지사",인건비산정!$E$4:$E$35) -> 2117500 | I8: × | J8: =COUNTIF(인건비산정!$C$4:$C$35,"사회복지사") -> 2 | K8: 명 | L8: × | M8: =세입명세서!M7 -> 12 | N8: 월 | O8: = | P8: =H8*J8*M8 -> 50820000
G9: 간호조무사 | H9: =AVERAGEIF(인건비산정!$C$4:$C$35,"간호조무사",인건비산정!$E$4:$E$35) -> 2050000 | I9: × | J9: =COUNTIF(인건비산정!$C$4:$C$35,"간호조무사") -> 1 | K9: 명 | L9: × | M9: =M8 -> 12 | N9: 월 | O9: = | P9: =H9*J9*M9 -> 24600000
G10: 물리치료사 | H10: 0 | I10: × | J10: =COUNTIF(인건비산정!$C$4:$C$35,"물리치료사") -> 0 | K10: 명 | L10: × | M10: =M9 -> 12 | N10: 화 | O10: = | P10: =H10*J10*M10 -> 0
G11: 요양보호사 | H11: =AVERAGEIF(인건비산정!$C$4:$C$35,"요양보호사 1급",인건비산정!$E$4:$E$35) -> 2077692.3 | I11: × | J11: =COUNTIF(인건비산정!$C$4:$C$35,"요양보호사 1급") -> 13 | K11: 명 | L11: × | M11: =M8 -> 12 | N11: 월 | O11: = | P11: =H11*J11*M11 -> 324120000
G12: 간접비 | P12: =SUM(P13:P16) -> 61740000
G13: 시설장 | H13: =AVERAGEIF(인건비산정!$C$4:$C$35,"시설장",인건비산정!$E$4:$E$35) -> 3200000 | I13: × | J13: =COUNTIF(인건비산정!$C$4:$C$35,"시설장") -> 1 | K13: 명 | L13: × | M13: =M8 -> 12 | N13: 월 | O13: = | P13: =H13*J13*M13 -> 38400000
G14: 영양사 | H14: 0 | I14: × | J14: =COUNTIF(인건비산정!$C$4:$C$35,"영양사") -> 0 | K14: 명 | L14: × | M14: =M9 -> 12 | N14: 월 | O14: = | P14: =H14*J14*M14 -> 0
G15: 위생원 | H15: 0 | I15: × | J15: =COUNTIF(인건비산정!$C$4:$C$35,"위생원") -> 0 | K15: 명 | L15: × | M15: =M9 -> 12 | N15: 월 | O15: = | P15: =H15*J15*M15 -> 0
G16: 조리원 | H16: =AVERAGEIF(인건비산정!$C$4:$C$35,"조리원",인건비산정!$E$4:$E$35) -> 1945000 | I16: × | J16: =COUNTIF(인건비산정!$C$4:$C$35,"조리원") -> 1 | K16: 명 | L16: × | M16: =M8 -> 12 | N16: 월 | O16: = | P16: =H16*J16*M16 -> 23340000
C17: 112.각종수당 | D17: 22800000 | E17: =SUM(P17:P18) -> 0 | F17: =E17-D17 -> -22800000 | G17: 직접비 | H17: =AVERAGEIF(인건비산정!$D$4:$D$35,"직접비",인건비산정!$L$4:$L$35) -> 0 | I17: × | J17: =COUNTIF(인건비산정!$D$4:$D$35,"직접비") -> 16 | K17: 명 | L17: × | M17: =M8 -> 12 | N17: 월 | O17: = | P17: =H17*J17*M17 -> 0
G18: 간접비 | H18: 0 | I18: × | J18: =COUNTIF(인건비산정!$D$4:$D$35,"간접비") -> 2 | K18: 명 | L18: × | M18: =M8 -> 12 | N18: 월 | O18: = | P18: =H18*J18*M18 -> 0
C19: 115.퇴직금 및 퇴직적립금 | D19: 33400000 | E19: =SUM(P19:P20) -> 35240000 | F19: =E19-D19 -> 1840000 | G19: 직접비 | H19: =AVERAGEIF(인건비산정!$D$4:$D$35,"직접비",인건비산정!$N$4:$N$35) -> 173411.46 | I19: × | J19: =COUNTIF(인건비산정!$D$4:$D$35,"직접비") -> 16 | K19: 명 | L19: × | M19: =$M$8 -> 12 | N19: 월 | O19: = | P19: =H19*J19*M19 -> 33295000
G20: 간접비 | H20: =AVERAGEIF(인건비산정!$D$4:$D$35,"간접비",인건비산정!$N$4:$N$35) -> 162083.33 | I20: × | J20: 1 | K20: 명 | L20: × | M20: =$M$8 -> 12 | N20: 월 | O20: = | P20: =H20*J20*M20 -> 1945000
C21: 116.사회보험부담금 | D21: 42868660 | E21: =SUM(P21:P22) -> 47156163 | F21: =E21-D21 -> 4287503 | G21: 직접비 | H21: =AVERAGEIF(인건비산정!$D$4:$D$35,"직접비",인건비산정!$T$4:$T$35) -> 216207.43 | I21: × | J21: =COUNTIF(인건비산정!$D$4:$D$35,"직접비") -> 16 | K21: 명 | L21: × | M21: =$M$8 -> 12 | N21: 월 | O21: = | P21: =H21*J21*M21 -> 41511826
G22: 간접비 | H22: =AVERAGEIF(인건비산정!$D$4:$D$35,"간접비",인건비산정!$T$4:$T$35) -> 235180.69 | I22: × | J22: =COUNTIF(인건비산정!$D$4:$D$35,"간접비") -> 2 | K22: 명 | L22: × | M22: =$M$8 -> 12 | N22: 월 | O22: = | P22: =H22*J22*M22 -> 5644336.7
B23: 12.업무추진비 | D23: =SUM(D24:D26) -> 720000 | E23: =SUM(E24:E26) -> 1440000 | F23: =E23-D23 -> 720000
C24: 121.기관운영비 | D24: 600000 | E24: =P24 -> 1200000 | G24: 기관운영 및 유관기관 업무협의비 | H24: 100000 | I24: × | M24: =$M$8 -> 12 | N24: 월 | O24: = | P24: =H24*M24 -> 1200000
C25: 122.직책보조비 | D25: 0 | E25: =P25 -> 0 | G25: 직책수행을 위한 경비 | H25: 0 | I25: × | M25: =$M$8 -> 12 | N25: 월 | O25: = | P25: =H25*J25*M25 -> 0
C26: 123.회의비 | D26: 120000 | E26: =P26 -> 240000 | G26: 각종 회의 소요 경비 | H26: 20000 | I26: × | M26: =$M$8 -> 12 | N26: 월 | O26: = | P26: =H26*M26 -> 240000
B27: 13.운영비 | D27: =SUM(D28:D39) -> 40320000 | E27: =SUM(E28:E38) -> 52800000 | F27: =E27-D27 -> 12480000
C28: 131.여비 | D28: 120000 | E28: =P28 -> 600000 | F28: =E28-D28 -> 480000 | G28: 직원의 국내외 출장비 | H28: 50000 | I28: × | M28: =$M$8 -> 12 | N28: 월 | O28: = | P28: =H28*M28 -> 600000
C29: 132.수용비 및 수수료 | D29: 10800000 | E29: =SUM(P29:P31) -> 26400000 | F29: =E29-D29 -> 15600000 | G29: 사무용품비, 소모품비, 도서구입비 등 | H29: 1000000 | I29: × | M29: =$M$8 -> 12 | N29: 월 | O29: = | P29: =H29*M29 -> 12000000
G30: 소규모수선비, 배송비, 통행료, 주차료 등 | H30: 500000 | I30: × | M30: =$M$8 -> 12 | N30: 월 | O30: = | P30: =H30*M30 -> 6000000
G31: 회계, 리스, 렌탈 등 수수료 | H31: 700000 | I31: × | M31: =$M$8 -> 12 | N31: 월 | O31: = | P31: =H31*M31 -> 8400000
C32: 133.공공요금 및 제세공과금 | D32: 27600000 | E32: =SUM(P32:P34) -> 24000000 | F32: =E32-D32 -> -3600000 | G32: 통신비(인터넷, TV수신, 전화 등) | H32: 500000 | I32: × | M32: =$M$8 -> 12 | N32: 월 | O32: = | P32: =H32*M32 -> 6000000
G33: 전기, 수도, 가스, 난방비 | H33: 1000000 | I33: × | M33: =$M$8 -> 12 | N33: 월 | O33: = | P33: =H33*M33 -> 12000000
G34: 배상책임, 화재, 자동차보험료 | H34: 500000 | I34: × | M34: =$M$8 -> 12 | N34: 월 | O34: = | P34: =H34*M34 -> 6000000
C35: 135.차량비 | D35: 0 | E35: =SUM(P35:P36) -> 0 | F35: =E35-D35 -> 0 | G35: 유류대 | H35: 0 | I35: × | M35: =$M$8 -> 12 | N35: 월 | O35: = | P35: =H35*M35 -> 0
G36: 차량유지비(정비, 소모품 교체) | H36: 0 | I36: × | M36: =$M$8 -> 12 | N36: 월 | O36: = | P36: =H36*M36 -> 0
C37: 136.임차료 | E37: =P37 -> 0 | F37: =E37-D37 -> 0 | G37: 건물, 토지의 임대료 | I37: × | M37: =$M$8 -> 12 | N37: 월 | O37: = | P37: =H37*M37 -> 0
C38: 137.기타운영비 | D38: 1800000 | E38: =SUM(P38:P39) -> 1800000 | F38: =E38-D39 -> 1800000 | G38: 급량비, 직원식대, 회식비 | H38: 100000 | I38: × | M38: =$M$8 -> 12 | N38: 월 | O38: = | P38: =H38*M38 -> 1200000
G39: 직원상해보험, 의류비, 건강진단 | H39: 50000 | I39: × | M39: =$M$8 -> 12 | N39: 월 | O39: = | P39: =H39*M39 -> 600000
A40: 02.재산조성비 | D40: =D41 -> 24000000 | E40: =E41 -> 9600000 | F40: =E40-D40 -> -14400000
B41: 21.시설비 | D41: =SUM(D42:D44) -> 24000000 | E41: =SUM(E42:E44) -> 9600000 | F41: =E41-D41 -> -14400000
C42: 211.시설비 | D42: 6000000 | E42: =P42 -> 1200000 | F42: =E42-D42 -> -4800000 | G42: 신, 증축비 및 부대경비 | H42: 100000 | I42: × | M42: =$M$8 -> 12 | N42: 월 | O42: = | P42: =H42*M42 -> 1200000
C43: 212.자산취득비 | D43: 12000000 | E43: =P43 -> 4800000 | F43: =E43-D43 -> -7200000 | G43: 자산의 취득 | H43: 400000 | I43: × | M43: =$M$8 -> 12 | N43: 월 | O43: = | P43: =H43*M43 -> 4800000
C44: 213.시설장비유지비 | D44: 6000000 | E44: =P44 -> 3600000 | F44: =E44-D44 -> -2400000 | G44: 건물 및 건축설비 유지관리비 | H44: 300000 | I44: × | M44: =$M$8 -> 12 | N44: 월 | O44: = | P44: =H44*M44 -> 3600000
A45: 03.사업비 | D45: =D46+D51 -> 107916000 | E45: =E46+E51 -> 141282000 | F45: =E45-D45 -> 33366000
B46: 31.운영비 | D46: =SUM(D47:D50) -> 105516000 | E46: =SUM(E47:E50) -> 138882000 | F46: =E46-D46 -> 33366000
C47: 311.생계비 | D47: 79596000 | E47: =P47 -> 110142000 | F47: =E47-D47 -> 30546000 | G47: 주, 부식비, 장유비, 월동용 김장비 | H47: =SUM(세입명세서!E10,세입명세서!E22,세입명세서!E56)/M47 -> 9178500 | I47: × | M47: =$M$8 -> 12 | N47: 월 | O47: = | P47: =H47*M47 -> 110142000
C48: 312.수용기관경비 | D48: 12000000 | E48: =P48 -> 9600000 | F48: =E48-D48 -> -2400000 | G48: 입소자를 위한 수용비 | H48: 800000 | I48: × | M48: =$M$8 -> 12 | N48: 월 | O48: = | P48: =H48*M48 -> 9600000
C49: 314.의료비 | D49: 13920000 | E49: =P49 -> 19140000 | F49: =E49-D49 -> 5220000 | G49: 입소자의 보건위생 및 시약대 | H49: =세입명세서!E13/M49 -> 1595000 | I49: × | M49: =$M$8 -> 12 | N49: 월 | O49: = | P49: =H49*M49 -> 19140000
C50: 315.장의비 | E50: =P50 -> 0 | F50: =E50-D50 -> 0 | G50: 입소자 사망인을 위한 장의비 | I50: × | M50: =$M$8 -> 12 | N50: 월 | O50: = | P50: =H50*M50 -> 0
B51: 33.프로그램사업비 | D51: =D52 -> 2400000 | E51: =E52 -> 2400000 | F51: =E51-D51 -> 0
C52: 331.프로그램사업비 | D52: 2400000 | E52: =P52 -> 2400000 | F52: =E52-D52 -> 0 | G52: 입소자를 위한 프로그램 운영비 | H52: 200000 | I52: × | M52: =$M$8 -> 12 | N52: 월 | O52: = | P52: =H52*M52 -> 2400000
A53: 04.전출금 | D53: =D54 -> 120000000 | E53: =E54 -> 180000000 | F53: =E53-D53 -> 60000000
B54: 41.전출금 | D54: =D55+D56 -> 120000000 | E54: =E55+E56 -> 180000000 | F54: =E54-D54 -> 60000000
C55: 411.법인회계 전출금 | D55: 0 | E55: =P55 -> 0 | F55: =E55-D55 -> 0 | I55: × | M55: =$M$8 -> 12 | N55: 월 | O55: = | P55: =H55*M55 -> 0
C56: 412.기타전출금 | D56: 120000000 | E56: =P56 -> 180000000 | F56: =E56-D56 -> 60000000 | H56: 15000000 | I56: × | M56: =$M$8 -> 12 | N56: 월 | O56: = | P56: =H56*M56 -> 180000000
A57: 05.과년도지출 | D57: =D58 -> 0 | E57: =E58 -> 0 | F57: =E57-D57 -> 0
B58: 51.과년도지출 | D58: =D59 -> 0 | E58: =E59 -> 0 | F58: =E58-D58 -> 0
C59: 511.과년도지출 | E59: =P59 -> 0 | F59: =E59-D59 -> 0 | H59: 0 | I59: × | M59: =$M$8 -> 12 | N59: 월 | O59: = | P59: =H59*M59 -> 0
A60: 06.상환금 | D60: =D61 -> 60000000 | E60: =E61 -> 0 | F60: =E60-D60 -> -60000000
B61: 61.부채상환금 | D61: =D62+D63 -> 60000000 | E61: =E62+E63 -> 0 | F61: =E61-D61 -> -60000000
C62: 611.원금상환금 | D62: 24000000 | E62: =P62 -> 0 | F62: =E62-D62 -> -24000000 | G62: =세입명세서!G39 -> 0 | H62: =세입명세서!H39+세입명세서!H40*0 -> 0 | I62: × | M62: =M8 -> 12 | N62: 월 | O62: = | P62: =H62*M62 -> 0
C63: 612.이자지불금 | D63: 36000000 | E63: =P63 -> 0 | F63: =E63-D63 -> -36000000 | G63: =세입명세서!G40 -> 0 | H63: =세입명세서!E40/세출명세서!M63 -> 0 | I63: × | M63: =$M$8 -> 12 | N63: 월 | O63: = | P63: =H63*M63 -> 0
A64: 07.잡지출 | D64: =D65 -> 575340 | E64: =E65 -> 0 | F64: =E64-D64 -> -575340
B65: 71.잡지출 | D65: =D66 -> 575340 | E65: =E66 -> 0 | F65: =E65-D65 -> -575340
C66: 711.잡지출 | D66: 575340 | E66: =P66 -> 0 | F66: =E66-D66 -> -575340 | H66: 0 | I66: × | M66: 1 | N66: 식 | O66: = | P66: =H66*M66 -> 0
A67: 08.예비비 및 기타 | D67: =D68 -> 0 | E67: =E68 -> 0 | F67: =E67-D67 -> 0
B68: 81.예비비 및 기타 | D68: =D69+D70 -> 0 | E68: =E69+E70 -> 0 | F68: =E68-D68 -> 0
C69: 811.예비비 | D69: 0 | E69: =P69 -> 0 | F69: =E69-D69 -> 0 | H69: 0 | I69: × | M69: 1 | N69: 식 | O69: = | P69: =H69*M69 -> 0
C70: 812.반환금 | E70: =P70 -> 0 | F70: =E70-D70 -> 0 | I70: × | M70: =$M$8 -> 12 | N70: 월 | O70: = | P70: =H70*M70 -> 0
A71: 09. 적립금 및 준비금 | D71: =D72 -> 0 | E71: =E72 -> 0 | F71: =E71-D71 -> 0
B72: 91.운영충당적립금 및 환경개선준비금 | D72: =D73+D74 -> 0 | E72: =E73+E74 -> 0 | F72: =E72-D72 -> 0
C73: 911.운영충당적립금 | D73: 0 | E73: =P73 -> 0 | F73: =E73-D73 -> 0 | H73: 0 | I73: × | M73: =$M$8 -> 12 | N73: 월 | O73: = | P73: =H73*M73 -> 0
C74: 912.시설환경 개선준비금 | D74: 0 | E74: =P74 -> 0 | F74: =E74-D74 -> 0 | H74: 0 | I74: × | M74: =$M$8 -> 12 | N74: 월 | O74: = | P74: =H74*M74 -> 0
A75: 10.적립금 및 준비금 지출(특별회계) | D75: =D76 -> 0 | E75: =E76 -> 0 | F75: =E75-D75 -> 0
B76: 101.운영충당적립금 및 환경개선준비금 지출 | D76: =D77+D78 -> 0 | E76: =E77+E78 -> 0 | F76: =E76-D76 -> 0
C77: 1011.운영충당적립금 지출 | E77: =P77 -> 0 | F77: =E77-D77 -> 0 | H77: 0 | I77: × | M77: =$M$8 -> 12 | N77: 월 | O77: = | P77: =H77*M77 -> 0
C78: 1012.시설환경개선준비금 지출 | D78: 0 | E78: =P78 -> 0 | F78: =E78-D78 -> 0 | H78: 0 | I78: × | M78: =$M$8 -> 12 | N78: 월 | O78: = | P78: =H78*M78 -> 0
A79: 세 출 합 계 | D79: =D5+D40+D45+D53+D57+D60+D64+D67+D71+D75 -> 893000000 | E79: =E5+E40+E45+E53+E57+E60+E64+E67+E71+E75 -> 9.2879816e+08 | F79: =E79-D79 -> 35798163
E81: =세입명세서!E63 -> 9.2879816e+08
E82: =E81-E79 -> 0
E83: =E82/M74 -> 0

Sheet 보수일람표(업로드)
A1: 인건비구분/급여유형 별 선택 가능 직종 정보( * 개인정보 보호를 위하여 주민등록번호는 마스킹 처리되어 있습니다. 주민등록번호는 입력/수정 안하셔도 됩니다. )
A2: 직접비 | B2: 주야간보호 | E2: 요양보호사1급, 요양보호사2급, 사회복지사, 간호사, 간호조무사, 물리치료사, 작업치료사
B3: 방문요양, 방문목욕 | E3: 요양보호사1급, 요양보호사2급, 사회복지사(방문요양만 해당)
B4: 단기보호 | E4: 요양보호사1급, 요양보호사2급, 사회복지사, 간호사, 간호조무사
B5: 방문간호 | E5: 간호사, 간호조무사, 치과위생사
A6: 간접비 | B6: 주야간보호, 단기보호, 방문간호 | E6: 시설장(관리책임자), 사무국장, 사무원, 영양사, 조리원, 위생원, 관리인, 보조원 운전사, 기타
B7: 방문요양, 방문목욕 | E7: 시설장(관리책임자), 사무국장, 사무원, 영양사, 조리원, 위생원, 관리인, 보조원 운전사, 사회복지사(방문목욕만 해당), 기타
B8: 복지용구제공사업소 | E8: 시설장(관리책임자), 사무국장, 사무원, 보조원 운전사, 기타
A9: 사업코드 | B9: 사업명 | C9: 성명 | D9: 직종 | E9: 급여유형 | F9: 인건비구분 | G9: 주민등록번호 | H9: 급여 | I9: 각종수당 | J9: 일용잡급 | K9: 퇴직금 및 퇴직적립금 | L9: 사회보험 부담금 | M9: 합계금액 | N9: 직원번호
A10: P2022001 | B10: 일반사업(2022) | C10: =인건비산정!B4 -> 종사자1 | D10: =인건비산정!C4 -> 시설장 | E10: 노인요양시설(개정법) | F10: =인건비산정!D4 -> 간접비 | H10: =인건비산정!M4*12 -> 38400000 | I10: 0 | J10: 0 | K10: =인건비산정!N4*12 -> 0 | L10: =인건비산정!T4*12 -> 3234753.2 | M10: 0 | N10: 2014000001
A11: P2022001 | B11: 일반사업(2022) | C11: =인건비산정!B5 -> 종사자2 | D11: =인건비산정!C5 -> 조리원 | E11: 노인요양시설(개정법) | F11: =인건비산정!D5 -> 간접비 | H11: =인건비산정!M5*12 -> 23340000 | I11: 0 | J11: 0 | K11: =인건비산정!N5*12 -> 1945000 | L11: =인건비산정!T5*12 -> 2409583.4 | M11: 0 | N11: 2014000003
A12: P2022001 | B12: 일반사업(2022) | C12: =인건비산정!B6 -> 종사자3 | D12: =인건비산정!C6 -> 사회복지사 | E12: 노인요양시설(개정법) | F12: =인건비산정!D6 -> 직접비 | H12: =인건비산정!M6*12 -> 27480000 | I12: 0 | J12: 0 | K12: =인건비산정!N6*12 -> 2290000 | L12: =인건비산정!T6*12 -> 2836990.3 | M12: 0 | N12: 2017000005
A13: P2022001 | B13: 일반사업(2022) | C13: =인건비산정!B7 -> 종사자4 | D13: =인건비산정!C7 -> 사회복지사 | E13: 노인요양시설(개정법) | F13: =인건비산정!D7 -> 직접비 | H13: =인건비산정!M7*12 -> 23340000 | I13: 0 | J13: 0 | K13: =인건비산정!N7*12 -> 1945000 | L13: =인건비산정!T7*12 -> 2409583.4 | M13: 0 | N13: 2014000002
A14: P2022001 | B14: 일반사업(2022) | C14: =인건비산정!B8 -> 종사자5 | D14: =인건비산정!C8 -> 간호조무사 | E14: 노인요양시설(개정법) | F14: =인건비산정!D8 -> 직접비 | H14: =인건비산정!M8*12 -> 24600000 | I14: 0 | J14: 0 | K14: =인건비산정!N8*12 -> 2050000 | L14: =인건비산정!T8*12 -> 2539663.8 | M14: 0 | N14: 17
A15: P2022001 | B15: 일반사업(2022) | C15: =인건비산정!B9 -> 종사자6 | D15: =인건비산정!C9 -> 요양보호사 1급 | E15: 노인요양시설(개정법) | F15: =인건비산정!D9 -> 직접비 | H15: =인건비산정!M9*12 -> 24360000 | I15: 0 | J15: 0 | K15: =인건비산정!N9*12 -> 2030000 | L15: =인건비산정!T9*12 -> 2514886.6
A16: P2022001 | B16: 일반사업(2022) | C16: =인건비산정!B10 -> 종사자7 | D16: =인건비산정!C10 -> 요양보호사 1급 | E16: 노인요양시설(개정법) | F16: =인건비산정!D10 -> 직접비 | H16: =인건비산정!M10*12 -> 24120000 | I16: 0 | J16: 0 | K16: =인건비산정!N10*12 -> 2010000 | L16: =인건비산정!T10*12 -> 2490109.4
A17: P2022001 | B17: 일반사업(2022) | C17: =인건비산정!B11 -> 종사자8 | D17: =인건비산정!C11 -> 요양보호사 1급 | E17: 노인요양시설(개정법) | F17: =인건비산정!D11 -> 직접비 | H17: =인건비산정!M11*12 -> 23340000 | I17: 0 | J17: 0 | K17: =인건비산정!N11*12 -> 1945000 | L17: =인건비산정!T11*12 -> 2421253.4
A18: P2022001 | B18: 일반사업(2022) | C18: =인건비산정!B12 -> 종사자9 | D18: =인건비산정!C12 -> 요양보호사 1급 | E18: 노인요양시설(개정법) | F18: =인건비산정!D12 -> 직접비 | H18: =인건비산정!M12*12 -> 23340000 | I18: 0 | J18: 0 | K18: =인건비산정!N12*12 -> 1945000 | L18: =인건비산정!T12*12 -> 2432923.4
A19: P2022001 | B19: 일반사업(2022) | C19: =인건비산정!B13 -> 종사자10 | D19: =인건비산정!C13 -> 요양보호사 1급 | E19: 노인요양시설(개정법) | F19: =인건비산정!D13 -> 직접비 | H19: =인건비산정!M13*12 -> 25680000 | I19: 0 | J19: 0 | K19: =인건비산정!N13*12 -> 2140000 | L19: =인건비산정!T13*12 -> 2676841.2 | M19: 0 | N19: 20190002
A20: P2022001 | B20: 일반사업(2022) | C20: =인건비산정!B14 -> 종사자11 | D20: =인건비산정!C14 -> 요양보호사 1급 | E20: 노인요양시설(개정법) | F20: =인건비산정!D14 -> 직접비 | H20: =인건비산정!M14*12 -> 25680000 | I20: 0 | J20: 0 | K20: =인건비산정!N14*12 -> 2140000 | L20: =인건비산정!T14*12 -> 2676841.2 | M20: 0 | N20: 2019000001
A21: P2022001 | B21: 일반사업(2022) | C21: =인건비산정!B15 -> 종사자12 | D21: =인건비산정!C15 -> 요양보호사 1급 | E21: 노인요양시설(개정법) | F21: =인건비산정!D15 -> 직접비 | H21: =인건비산정!M15*12 -> 25680000 | I21: 0 | J21: 0 | K21: =인건비산정!N15*12 -> 2140000 | L21: =인건비산정!T15*12 -> 2676841.2 | M21: 0 | N21: 2018000012
A22: P2022001 | B22: 일반사업(2022) | C22: =인건비산정!B16 -> 종사자13 | D22: =인건비산정!C16 -> 요양보호사 1급 | E22: 노인요양시설(개정법) | F22: =인건비산정!D16 -> 직접비 | H22: =인건비산정!M16*12 -> 25440000 | I22: 0 | J22: 0 | K22: =인건비산정!N16*12 -> 2120000 | L22: =인건비산정!T16*12 -> 2651824 | M22: 0 | N22: 2018000009
A23: P2022001 | B23: 일반사업(2022) | C23: =인건비산정!B17 -> 종사자14 | D23: =인건비산정!C17 -> 요양보호사 1급 | E23: 노인요양시설(개정법) | F23: =인건비산정!D17 -> 직접비 | H23: =인건비산정!M17*12 -> 25440000 | I23: 0 | J23: 0 | K23: =인건비산정!N17*12 -> 2120000 | L23: =인건비산정!T17*12 -> 2651824 | M23: 0 | N23: 2018000008
A24: P2022001 | B24: 일반사업(2022) | C24: =인건비산정!B18 -> 종사자15 | D24: =인건비산정!C18 -> 요양보호사 1급 | E24: 노인요양시설(개정법) | F24: =인건비산정!D18 -> 직접비 | H24: =인건비산정!M18*12 -> 25440000 | I24: 0 | J24: 0 | K24: =인건비산정!N18*12 -> 2120000 | L24: =인건비산정!T18*12 -> 2651824
A25: P2022001 | B25: 일반사업(2022) | C25: =인건비산정!B19 -> 종사자16 | D25: =인건비산정!C19 -> 요양보호사 1급 | E25: 노인요양시설(개정법) | F25: =인건비산정!D19 -> 직접비 | H25: =인건비산정!M19*12 -> 25200000 | I25: 0 | J25: 0 | K25: =인건비산정!N19*12 -> 2100000 | L25: =인건비산정!T19*12 -> 2626806.8
A26: P2022001 | B26: 일반사업(2022) | C26: =인건비산정!B20 -> 종사자17 | D26: =인건비산정!C20 -> 요양보호사 1급 | E26: 노인요양시설(개정법) | F26: =인건비산정!D20 -> 직접비 | H26: =인건비산정!M20*12 -> 25200000 | I26: 0 | J26: 0 | K26: =인건비산정!N20*12 -> 2100000 | L26: =인건비산정!T20*12 -> 2626806.8
A27: P2022001 | B27: 일반사업(2022) | C27: =인건비산정!B21 -> 종사자18 | D27: =인건비산정!C21 -> 요양보호사 1급 | E27: 노인요양시설(개정법) | F27: =인건비산정!D21 -> 직접비 | H27: =인건비산정!M21*12 -> 25200000 | I27: 0 | J27: 0 | K27: =인건비산정!N21*12 -> 2100000 | L27: =인건비산정!T21*12 -> 2626806.8

Sheet 인건비산정
A1: 인건비산정 | D1: =U39/(세입명세서!E7+세입명세서!E29+세입명세서!E35+세입명세서!E36)% -> 66.926476 | E1: 1. 노란색으로 표시된 곳만 입력 합니다. 2. '급여가이드'시트의 내용을 참조 하시어 기본급과 각종수당를 입력합니다. 3. 인건비 산정 비율의 비율값이 60.5%이상 나오도록 조정 합니다.
A2: 번호 | B2: 종사자 | E2: 기본급 | F2: 각종수당 | M2: 급여 (기본급+수당) | N2: 퇴직 적립금 | O2: 사회보험료(사업자부담) | U2: 합계
B3: 성명 | C3: 직종 | D3: 인건비 구분 | F3: 상여 | G3: 연장수당 | H3: 야간수당 | I3: 기타 과세 | J3: 비과세(식비) | K3: 장기근속 | L3: 수당계 | O3: 국민 | P3: 건강 | Q3: 장기 | R3: 고용 | S3: 산재 | T3: 계
A4: 1 | B4: 종사자1 | C4: 시설장 | D4: =IF(C$4:C$35="간호조무사","직접비",IF(C$4:C$35="간호사","직접비",IF(C$4:C$35="물리치료사","직접비",IF(C$4:C$35="작업치료사","직접비",IF(C$4:C$35="사회복지사","직접비",IF(C$4:C$35="요양보호사 1급","직접비",IF(C$4:C$35="간접비","","간접비"))))))) -> 간접비 | E4: 3200000 | L4: =SUM(F4:K4) -> 0 | M4: =E4+L4 -> 3200000 | O4: =M4*4.5% -> 144000 | P4: =M4*3.495% -> 111840 | Q4: =P4*12.27% -> 13722.768 | R4: =M4*1.05%*0 -> 0 | S4: =M4*0.85%*0 -> 0 | T4: =SUM(O4:S4) -> 269562.77 | U4: =M4+N4+T4 -> 3469562.8
A5: 2 | B5: 종사자2 | C5: 조리원 | D5: =IF(C$4:C$35="간호조무사","직접비",IF(C$4:C$35="간호사","직접비",IF(C$4:C$35="물리치료사","직접비",IF(C$4:C$35="작업치료사","직접비",IF(C$4:C$35="사회복지사","직접비",IF(C$4:C$35="요양보호사 1급","직접비",IF(C$4:C$35="간접비","","간접비"))))))) -> 간접비 | E5: 1945000 | L5: =SUM(F5:K5) -> 0 | M5: =E5+L5 -> 1945000 | N5: =M5/12 -> 162083.33 | O5: =M5*4.5% -> 87525 | P5: =M5*3.495% -> 67977.75 | Q5: =P5*12.27% -> 8340.8699 | R5: =M5*1.05% -> 20422.5 | S5: =M5*0.85% -> 16532.5 | T5: =SUM(O5:S5) -> 200798.62 | U5: =M5+N5+T5 -> 2307882
A6: 3 | B6: 종사자3 | C6: 사회복지사 | D6: =IF(C$4:C$35="간호조무사","직접비",IF(C$4:C$35="간호사","직접비",IF(C$4:C$35="물리치료사","직접비",IF(C$4:C$35="작업치료사","직접비",IF(C$4:C$35="사회복지사","직접비",IF(C$4:C$35="요양보호사 1급","직접비",IF(C$4:C$35="간접비","","간접비"))))))) -> 직접비 | E6: 2290000 | L6: =SUM(F6:K6) -> 0 | M6: =E6+L6 -> 2290000 | N6: =M6/12 -> 190833.33 | O6: =M6*4.5% -> 103050 | P6: =M6*3.495% -> 80035.5 | Q6: =P6*12.27% -> 9820.3558 | R6: =M6*1.05% -> 24045 | S6: =M6*0.85% -> 19465 | T6: =SUM(O6:S6) -> 236415.86 | U6: =M6+N6+T6 -> 2717249.2
A7: 4 | B7: 종사자4 | C7: 사회복지사 | D7: =IF(C$4:C$35="간호조무사","직접비",IF(C$4:C$35="간호사","직접비",IF(C$4:C$35="물리치료사","직접비",IF(C$4:C$35="작업치료사","직접비",IF(C$4:C$35="사회복지사","직접비",IF(C$4:C$35="요양보호사 1급","직접비",IF(C$4:C$35="간접비","","간접비"))))))) -> 직접비 | E7: 1945000 | L7: =SUM(F7:K7) -> 0 | M7: =E7+L7 -> 1945000 | N7: =M7/12 -> 162083.33 | O7: =M7*4.5% -> 87525 | P7: =M7*3.495% -> 67977.75 | Q7: =P7*12.27% -> 8340.8699 | R7: =M7*1.05% -> 20422.5 | S7: =M7*0.85% -> 16532.5 | T7: =SUM(O7:S7) -> 200798.62 | U7: =M7+N7+T7 -> 2307882
A8: 5 | B8: 종사자5 | C8: 간호조무사 | D8: =IF(C$4:C$35="간호조무사","직접비",IF(C$4:C$35="간호사","직접비",IF(C$4:C$35="물리치료사","직접비",IF(C$4:C$35="작업치료사","직접비",IF(C$4:C$35="사회복지사","직접비",IF(C$4:C$35="요양보호사 1급","직접비",IF(C$4:C$35="간접비","","간접비"))))))) -> 직접비 | E8: 2050000 | L8: =SUM(F8:K8) -> 0 | M8: =E8+L8 -> 2050000 | N8: =M8/12 -> 170833.33 | O8: =M8*4.5% -> 92250 | P8: =M8*3.495% -> 71647.5 | Q8: =P8*12.27% -> 8791.1482 | R8: =M8*1.05% -> 21525 | S8: =M8*0.85% -> 17425 | T8: =SUM(O8:S8) -> 211638.65 | U8: =M8+N8+T8 -> 2432472
A9: 6 | B9: 종사자6 | C9: 요양보호사 1급 | D9: =IF(C$4:C$35="간호조무사","직접비",IF(C$4:C$35="간호사","직접비",IF(C$4:C$35="물리치료사","직접비",IF(C$4:C$35="작업치료사","직접비",IF(C$4:C$35="사회복지사","직접비",IF(C$4:C$35="요양보호사 1급","직접비",IF(C$4:C$35="간접비","","간접비"))))))) -> 직접비 | E9: 2030000 | L9: =SUM(F9:K9) -> 0 | M9: =E9+L9 -> 2030000 | N9: =M9/12 -> 169166.67 | O9: =M9*4.5% -> 91350 | P9: =M9*3.495% -> 70948.5 | Q9: =P9*12.27% -> 8705.3809 | R9: =M9*1.05% -> 21315 | S9: =M9*0.85% -> 17255 | T9: =SUM(O9:S9) -> 209573.88 | U9: =M9+N9+T9 -> 2408740.5
A10: 7 | B10: 종사자7 | C10: 요양보호사 1급 | D10: =IF(C$4:C$35="간호조무사","직접비",IF(C$4:C$35="간호사","직접비",IF(C$4:C$35="물리치료사","직접비",IF(C$4:C$35="작업치료사","직접비",IF(C$4:C$35="사회복지사","직접비",IF(C$4:C$35="요양보호사 1급","직접비",IF(C$4:C$35="간접비","","간접비"))))))) -> 직접비 | E10: 2010000 | L10: =SUM(F10:K10) -> 0 | M10: =E10+L10 -> 2010000 | N10: =M10/12 -> 167500 | O10: =M10*4.5% -> 90450 | P10: =M10*3.495% -> 70249.5 | Q10: =P10*12.27% -> 8619.6136 | R10: =M10*1.05% -> 21105 | S10: =M10*0.85% -> 17085 | T10: =SUM(O10:S10) -> 207509.11 | U10: =M10+N10+T10 -> 2385009.1
A11: 8 | B11: 종사자8 | C11: 요양보호사 1급 | D11: =IF(C$4:C$35="간호조무사","직접비",IF(C$4:C$35="간호사","직접비",IF(C$4:C$35="물리치료사","직접비",IF(C$4:C$35="작업치료사","직접비",IF(C$4:C$35="사회복지사","직접비",IF(C$4:C$35="요양보호사 1급","직접비",IF(C$4:C$35="간접비","","간접비"))))))) -> 직접비 | E11: 1945000 | L11: =SUM(F11:K11) -> 0 | M11: =E11+L11 -> 1945000 | N11: =M11/12 -> 162083.33 | O11: =M11*4.5% -> 87525 | P11: =M11*3.495% -> 67977.75 | Q11: =P11*12.27% -> 8340.8699 | R11: =M11*1.15% -> 22367.5 | S11: =M11*0.8% -> 15560 | T11: =SUM(O11:S11) -> 201771.12 | U11: =M11+N11+T11 -> 2308854.5
A12: 9 | B12: 종사자9 | C12: 요양보호사 1급 | D12: =IF(C$4:C$35="간호조무사","직접비",IF(C$4:C$35="간호사","직접비",IF(C$4:C$35="물리치료사","직접비",IF(C$4:C$35="작업치료사","직접비",IF(C$4:C$35="사회복지사","직접비",IF(C$4:C$35="요양보호사 1급","직접비",IF(C$4:C$35="간접비","","간접비"))))))) -> 직접비 | E12: 1945000 | L12: =SUM(F12:K12) -> 0 | M12: =E12+L12 -> 1945000 | N12: =M12/12 -> 162083.33 | O12: =M12*4.5% -> 87525 | P12: =M12*3.495% -> 67977.75 | Q12: =P12*12.27% -> 8340.8699 | R12: =M12*1.15% -> 22367.5 | S12: =M12*0.85% -> 16532.5 | T12: =SUM(O12:S12) -> 202743.62 | U12: =M12+N12+T12 -> 2309827
A13: 10 | B13: 종사자10 | C13: 요양보호사 1급 | D13: =IF(C$4:C$35="간호조무사","직접비",IF(C$4:C$35="간호사","직접비",IF(C$4:C$35="물리치료사","직접비",IF(C$4:C$35="작업치료사","직접비",IF(C$4:C$35="사회복지사","직접비",IF(C$4:C$35="요양보호사 1급","직접비",IF(C$4:C$35="간접비","","간접비"))))))) -> 직접비 | E13: 2140000 | L13: =SUM(F13:K13) -> 0 | M13: =E13+L13 -> 2140000 | N13: =M13/12 -> 178333.33 | O13: =M13*4.5% -> 96300 | P13: =M13*3.495% -> 74793 | Q13: =P13*12.27% -> 9177.1011 | R13: =M13*1.15% -> 24610 | S13: =M13*0.85% -> 18190 | T13: =SUM(O13:S13) -> 223070.1 | U13: =M13+N13+T13 -> 2541403.4
A14: 11 | B14: 종사자11 | C14: 요양보호사 1급 | D14: =IF(C$4:C$35="간호조무사","직접비",IF(C$4:C$35="간호사","직접비",IF(C$4:C$35="물리치료사","직접비",IF(C$4:C$35="작업치료사","직접비",IF(C$4:C$35="사회복지사","직접비",IF(C$4:C$35="요양보호사 1급","직접비",IF(C$4:C$35="간접비","","간접비"))))))) -> 직접비 | E14: 2140000 | L14: =SUM(F14:K14) -> 0 | M14: =E14+L14 -> 2140000 | N14: =M14/12 -> 178333.33 | O14: =M14*4.5% -> 96300 | P14: =M14*3.495% -> 74793 | Q14: =P14*12.27% -> 9177.1011 | R14: =M14*1.15% -> 24610 | S14: =M14*0.85% -> 18190 | T14: =SUM(O14:S14) -> 223070.1 | U14: =M14+N14+T14 -> 2541403.4
A15: 12 | B15: 종사자12 | C15: 요양보호사 1급 | D15: =IF(C$4:C$35="간호조무사","직접비",IF(C$4:C$35="간호사","직접비",IF(C$4:C$35="물리치료사","직접비",IF(C$4:C$35="작업치료사","직접비",IF(C$4:C$35="사회복지사","직접비",IF(C$4:C$35="요양보호사 1급","직접비",IF(C$4:C$35="간접비","","간접비"))))))) -> 직접비 | E15: 2140000 | L15: =SUM(F15:K15) -> 0 | M15: =E15+L15 -> 2140000 | N15: =M15/12 -> 178333.33 | O15: =M15*4.5% -> 96300 | P15: =M15*3.495% -> 74793 | Q15: =P15*12.27% -> 9177.1011 | R15: =M15*1.15% -> 24610 | S15: =M15*0.85% -> 18190 | T15: =SUM(O15:S15) -> 223070.1 | U15: =M15+N15+T15 -> 2541403.4
A16: 13 | B16: 종사자13 | C16: 요양보호사 1급 | D16: =IF(C$4:C$35="간호조무사","직접비",IF(C$4:C$35="간호사","직접비",IF(C$4:C$35="물리치료사","직접비",IF(C$4:C$35="작업치료사","직접비",IF(C$4:C$35="사회복지사","직접비",IF(C$4:C$35="요양보호사 1급","직접비",IF(C$4:C$35="간접비","","간접비"))))))) -> 직접비 | E16: 2120000 | L16: =SUM(F16:K16) -> 0 | M16: =E16+L16 -> 2120000 | N16: =M16/12 -> 176666.67 | O16: =M16*4.5% -> 95400 | P16: =M16*3.495% -> 74094 | Q16: =P16*12.27% -> 9091.3338 | R16: =M16*1.15% -> 24380 | S16: =M16*0.85% -> 18020 | T16: =SUM(O16:S16) -> 220985.33 | U16: =M16+N16+T16 -> 2517652
A17: 14 | B17: 종사자14 | C17: 요양보호사 1급 | D17: =IF(C$4:C$35="간호조무사","직접비",IF(C$4:C$35="간호사","직접비",IF(C$4:C$35="물리치료사","직접비",IF(C$4:C$35="작업치료사","직접비",IF(C$4:C$35="사회복지사","직접비",IF(C$4:C$35="요양보호사 1급","직접비",IF(C$4:C$35="간접비","","간접비"))))))) -> 직접비 | E17: 2120000 | L17: =SUM(F17:K17) -> 0 | M17: =E17+L17 -> 2120000 | N17: =M17/12 -> 176666.67 | O17: =M17*4.5% -> 95400 | P17: =M17*3.495% -> 74094 | Q17: =P17*12.27% -> 9091.3338 | R17: =M17*1.15% -> 24380 | S17: =M17*0.85% -> 18020 | T17: =SUM(O17:S17) -> 220985.33 | U17: =M17+N17+T17 -> 2517652
A18: 15 | B18: 종사자15 | C18: 요양보호사 1급 | D18: =IF(C$4:C$35="간호조무사","직접비",IF(C$4:C$35="간호사","직접비",IF(C$4:C$35="물리치료사","직접비",IF(C$4:C$35="작업치료사","직접비",IF(C$4:C$35="사회복지사","직접비",IF(C$4:C$35="요양보호사 1급","직접비",IF(C$4:C$35="간접비","","간접비"))))))) -> 직접비 | E18: 2120000 | L18: =SUM(F18:K18) -> 0 | M18: =E18+L18 -> 2120000 | N18: =M18/12 -> 176666.67 | O18: =M18*4.5% -> 95400 | P18: =M18*3.495% -> 74094 | Q18: =P18*12.27% -> 9091.3338 | R18: =M18*1.15% -> 24380 | S18: =M18*0.85% -> 18020 | T18: =SUM(O18:S18) -> 220985.33 | U18: =M18+N18+T18 -> 2517652
A19: 16 | B19: 종사자16 | C19: 요양보호사 1급 | D19: =IF(C$4:C$35="간호조무사","직접비",IF(C$4:C$35="간호사","직접비",IF(C$4:C$35="물리치료사","직접비",IF(C$4:C$35="작업치료사","직접비",IF(C$4:C$35="사회복지사","직접비",IF(C$4:C$35="요양보호사 1급","직접비",IF(C$4:C$35="간접비","","간접비"))))))) -> 직접비 | E19: 2100000 | L19: =SUM(F19:K19) -> 0 | M19: =E19+L19 -> 2100000 | N19: =M19/12 -> 175000 | O19: =M19*4.5% -> 94500 | P19: =M19*3.495% -> 73395 | Q19: =P19*12.27% -> 9005.5665 | R19: =M19*1.15% -> 24150 | S19: =M19*0.85% -> 17850 | T19: =SUM(O19:S19) -> 218900.57 | U19: =M19+N19+T19 -> 2493900.6
A20: 17 | B20: 종사자17 | C20: 요양보호사 1급 | D20: =IF(C$4:C$35="간호조무사","직접비",IF(C$4:C$35="간호사","직접비",IF(C$4:C$35="물리치료사","직접비",IF(C$4:C$35="작업치료사","직접비",IF(C$4:C$35="사회복지사","직접비",IF(C$4:C$35="요양보호사 1급","직접비",IF(C$4:C$35="간접비","","간접비"))))))) -> 직접비 | E20: 2100000 | L20: =SUM(F20:K20) -> 0 | M20: =E20+L20 -> 2100000 | N20: =M20/12 -> 175000 | O20: =M20*4.5% -> 94500 | P20: =M20*3.495% -> 73395 | Q20: =P20*12.27% -> 9005.5665 | R20: =M20*1.15% -> 24150 | S20: =M20*0.85% -> 17850 | T20: =SUM(O20:S20) -> 218900.57 | U20: =M20+N20+T20 -> 2493900.6
A21: 18 | B21: 종사자18 | C21: 요양보호사 1급 | D21: =IF(C$4:C$35="간호조무사","직접비",IF(C$4:C$35="간호사","직접비",IF(C$4:C$35="물리치료사","직접비",IF(C$4:C$35="작업치료사","직접비",IF(C$4:C$35="사회복지사","직접비",IF(C$4:C$35="요양보호사 1급","직접비",IF(C$4:C$35="간접비","","간접비"))))))) -> 직접비 | E21: 2100000 | L21: =SUM(F21:K21) -> 0 | M21: =E21+L21 -> 2100000 | N21: =M21/12 -> 175000 | O21: =M21*4.5% -> 94500 | P21: =M21*3.495% -> 73395 | Q21: =P21*12.27% -> 9005.5665 | R21: =M21*1.15% -> 24150 | S21: =M21*0.85% -> 17850 | T21: =SUM(O21:S21) -> 218900.57 | U21: =M21+N21+T21 -> 2493900.6
A22: 19 | L22: =SUM(F22:K22) -> 0 | M22: =E22+L22 -> 0 | N22: =M22/12 -> 0 | O22: =M22*4.5% -> 0 | P22: =M22*3.495% -> 0 | Q22: =P22*12.27% -> 0 | R22: =M22*1.15% -> 0 | S22: =M22*0.85% -> 0 | T22: =SUM(O22:S22) -> 0 | U22: =M22+N22+T22 -> 0
A23: 20 | L23: =SUM(F23:K23) -> 0 | M23: =E23+L23 -> 0 | N23: =M23/12 -> 0 | O23: =M23*4.5% -> 0 | P23: =M23*3.495% -> 0 | Q23: =P23*12.27% -> 0 | R23: =M23*1.15% -> 0 | S23: =M23*0.85% -> 0 | T23: =SUM(O23:S23) -> 0 | U23: =M23+N23+T23 -> 0
A24: 21 | L24: =SUM(F24:K24) -> 0 | M24: =E24+L24 -> 0 | N24: =M24/12 -> 0 | O24: =M24*4.5% -> 0 | P24: =M24*3.495% -> 0 | Q24: =P24*12.27% -> 0 | R24: =M24*1.15% -> 0 | S24: =M24*0.85% -> 0 | T24: =SUM(O24:S24) -> 0 | U24: =M24+N24+T24 -> 0
A25: 22 | L25: =SUM(F25:K25) -> 0 | M25: =E25+L25 -> 0 | N25: =M25/12 -> 0 | O25: =M25*4.5% -> 0 | P25: =M25*3.495% -> 0 | Q25: =P25*12.27% -> 0 | R25: =M25*1.15% -> 0 | S25: =M25*0.85% -> 0 | T25: =SUM(O25:S25) -> 0 | U25: =M25+N25+T25 -> 0
A26: 23 | L26: =SUM(F26:K26) -> 0 | M26: =E26+L26 -> 0 | N26: =M26/12 -> 0 | O26: =M26*4.5% -> 0 | P26: =M26*3.495% -> 0 | Q26: =P26*12.27% -> 0 | R26: =M26*1.15% -> 0 | S26: =M26*0.85% -> 0 | T26: =SUM(O26:S26) -> 0 | U26: =M26+N26+T26 -> 0
A27: 24 | L27: =SUM(F27:K27) -> 0 | M27: =E27+L27 -> 0 | N27: =M27/12 -> 0 | O27: =M27*4.5% -> 0 | P27: =M27*3.495% -> 0 | Q27: =P27*12.27% -> 0 | R27: =M27*1.15% -> 0 | S27: =M27*0.85% -> 0 | T27: =SUM(O27:S27) -> 0 | U27: =M27+N27+T27 -> 0
A28: 25 | L28: =SUM(F28:K28) -> 0 | M28: =E28+L28 -> 0 | N28: =M28/12 -> 0 | O28: =M28*4.5% -> 0 | P28: =M28*3.495% -> 0 | Q28: =P28*12.27% -> 0 | R28: =M28*1.15% -> 0 | S28: =M28*0.85% -> 0 | T28: =SUM(O28:S28) -> 0 | U28: =M28+N28+T28 -> 0
A29: 26 | L29: =SUM(F29:K29) -> 0 | M29: =E29+L29 -> 0 | N29: =M29/12 -> 0 | O29: =M29*4.5% -> 0 | P29: =M29*3.495% -> 0 | Q29: =P29*12.27% -> 0 | R29: =M29*1.15% -> 0 | S29: =M29*0.85% -> 0 | T29: =SUM(O29:S29) -> 0 | U29: =M29+N29+T29 -> 0
A30: 27 | L30: =SUM(F30:K30) -> 0 | M30: =E30+L30 -> 0 | N30: =M30/12 -> 0 | O30: =M30*4.5% -> 0 | P30: =M30*3.495% -> 0 | Q30: =P30*12.27% -> 0 | R30: =M30*1.15% -> 0 | S30: =M30*0.85% -> 0 | T30: =SUM(O30:S30) -> 0 | U30: =M30+N30+T30 -> 0
A31: 28 | L31: =SUM(F31:K31) -> 0 | M31: =E31+L31 -> 0 | N31: =M31/12 -> 0 | O31: =M31*4.5% -> 0 | P31: =M31*3.495% -> 0 | Q31: =P31*12.27% -> 0 | R31: =M31*1.15% -> 0 | S31: =M31*0.85% -> 0 | T31: =SUM(O31:S31) -> 0 | U31: =M31+N31+T31 -> 0
A32: 29 | L32: =SUM(F32:K32) -> 0 | M32: =E32+L32 -> 0 | N32: =M32/12 -> 0 | O32: =M32*4.5% -> 0 | P32: =M32*3.495% -> 0 | Q32: =P32*12.27% -> 0 | R32: =M32*1.15% -> 0 | S32: =M32*0.85% -> 0 | T32: =SUM(O32:S32) -> 0 | U32: =M32+N32+T32 -> 0
A33: 30 | L33: =SUM(F33:K33) -> 0 | M33: =E33+L33 -> 0 | N33: =M33/12 -> 0 | O33: =M33*4.5% -> 0 | P33: =M33*3.495% -> 0 | Q33: =P33*12.27% -> 0 | R33: =M33*1.15% -> 0 | S33: =M33*0.85% -> 0 | T33: =SUM(O33:S33) -> 0 | U33: =M33+N33+T33 -> 0
... A35: 32 | L35: =SUM(F35:K35) -> 0 | M35: =E35+L35 -> 0 | N35: =M35/12 -> 0 | O35: =M35*4.5% -> 0 | P35: =M35*3.495% -> 0 | Q35: =P35*12.27% -> 0 | R35: =M35*1.15% -> 0 | S35: =M35*0.85% -> 0 | T35: =SUM(O35:S35) -> 0 | U35: =M35+N35+T35 -> 0
A36: 월 직접비 | E36: =SUMIF($D$4:$D$35,"직접비",E4:E35) -> 33295000 | F36: =SUMIF($D$4:$D$35,"직접비",F4:F35) -> 0 | G36: =SUMIF($D$4:$D$35,"직접비",G4:G35) -> 0 | H36: =SUMIF($D$4:$D$35,"직접비",H4:H35) -> 0 | I36: =SUMIF($D$4:$D$35,"직접비",I4:I35) -> 0 | J36: =SUMIF($D$4:$D$35,"직접비",J4:J35) -> 0 | K36: =SUMIF($D$4:$D$35,"직접비",K4:K35) -> 0 | L36: =SUMIF($D$4:$D$35,"직접비",L4:L35) -> 0 | ... U36: =SUMIF($D$4:$D$35,"직접비",U4:U35) -> 39528902
A37: 월 간접비 | E37: =SUMIF($D$4:$D$35,"간접비",E4:E35) -> 5145000 | F37: =SUMIF($D$4:$D$35,"간접비",F4:F35) -> 0 | G37: =SUMIF($D$4:$D$35,"간접비",G4:G35) -> 0 | H37: =SUMIF($D$4:$D$35,"간접비",H4:H35) -> 0 | I37: =SUMIF($D$4:$D$35,"간접비",I4:I35) -> 0 | J37: =SUMIF($D$4:$D$35,"간접비",J4:J35) -> 0 | K37: =SUMIF($D$4:$D$35,"간접비",K4:K35) -> 0 | L37: =SUMIF($D$4:$D$35,"간접비",L4:L35) -> 0 | ... U37: =SUMIF($D$4:$D$35,"간접비",U4:U35) -> 5777444.7
A38: 월계 | E38: =SUM(E4:E35) -> 38440000 | F38: =SUM(F4:F35) -> 0 | G38: =SUM(G4:G35) -> 0 | H38: =SUM(H4:H35) -> 0 | I38: =SUM(I4:I35) -> 0 | J38: =SUM(J4:J35) -> 0 | K38: =SUM(K4:K35) -> 0 | L38: =SUM(L4:L35) -> 0 | ... U38: =SUM(U4:U35) -> 45306347
A39: 년 직접비 | E39: =SUMIF($D$4:$D$35,"직접비",E4:E35)*세입명세서!$M$7 -> 399540000 | F39: =SUMIF($D$4:$D$35,"직접비",F4:F35)*세입명세서!$M$7 -> 0 | G39: =SUMIF($D$4:$D$35,"직접비",G4:G35)*세입명세서!$M$7 -> 0 | H39: =SUMIF($D$4:$D$35,"직접비",H4:H35)*세입명세서!$M$7 -> 0 | I39: =SUMIF($D$4:$D$35,"직접비",I4:I35)*세입명세서!$M$7 -> 0 | J39: =SUMIF($D$4:$D$35,"직접비",J4:J35)*세입명세서!$M$7 -> 0 | K39: =SUMIF($D$4:$D$35,"직접비",K4:K35)*세입명세서!$M$7 -> 0 | L39: =SUMIF($D$4:$D$35,"직접비",L4:L35)*세입명세서!$M$7 -> 0 | ... U39: =SUMIF($D$4:$D$35,"직접비",U4:U35)*세입명세서!$M$7 -> 4.7434683e+08
A40: 년 간접비 | E40: =SUMIF($D$4:$D$35,"간접비",E4:E35)*세입명세서!$M$7 -> 61740000 | F40: =SUMIF($D$4:$D$35,"간접비",F4:F35)*세입명세서!$M$7 -> 0 | G40: =SUMIF($D$4:$D$35,"간접비",G4:G35)*세입명세서!$M$7 -> 0 | H40: =SUMIF($D$4:$D$35,"간접비",H4:H35)*세입명세서!$M$7 -> 0 | I40: =SUMIF($D$4:$D$35,"간접비",I4:I35)*세입명세서!$M$7 -> 0 | J40: =SUMIF($D$4:$D$35,"간접비",J4:J35)*세입명세서!$M$7 -> 0 | K40: =SUMIF($D$4:$D$35,"간접비",K4:K35)*세입명세서!$M$7 -> 0 | L40: =SUMIF($D$4:$D$35,"간접비",L4:L35)*세입명세서!$M$7 -> 0 | ... U40: =SUMIF($D$4:$D$35,"간접비",U4:U35)*세입명세서!$M$7 -> 69329337
A41: 년계 | E41: =E38*세입명세서!$M$7 -> 461280000 | F41: =F38*세입명세서!$M$7 -> 0 | G41: =G38*세입명세서!$M$7 -> 0 | H41: =H38*세입명세서!$M$7 -> 0 | I41: =I38*세입명세서!$M$7 -> 0 | J41: =J38*세입명세서!$M$7 -> 0 | K41: =K38*세입명세서!$M$7 -> 0 | L41: =L38*세입명세서!$M$7 -> 0 | ... U41: =U38*세입명세서!$M$7 -> 5.4367616e+08
E43: =세출명세서!E7 -> 461280000

Sheet 급여가이드
A1: 2022년 인건비 가이드
A2: 직종 | B2: 근무제 | C2: 근무시간 | D2: 야간 근무시간 | E2: 소정근로 시간 | F2: 시급 | G2: 기본급 | H2: 수당 | N2: 월급여
H3: 연장수당 | I3: 야간수당 | J3: 직무수당 | K3: 직책수당 | L3: 식비 | M3: 계
A4: 요양보호사 | B4: 주주야야비비 | C4: 8/8(8) | D4: 3 | E4: 209 | F4: 9160 | G4: =E4*$F$4 -> 1914440 | H4: 0 | I4: 119407 | M4: =SUM(H4:L4) -> 119407 | N4: =ROUND(G4+M4,1) -> 2033847
B5: 주주야야비비 | C5: 8/8 | D5: 3 | E5: 195 | G5: =E5*$F$4 -> 1786200 | H5: 0 | I5: 139690 | M5: =SUM(H5:L5) -> 139690 | N5: =ROUND(G5+M5,1) -> 1925890
B6: 주주야야비비 | C6: 8/9 | D6: 3 | E6: 209 | G6: =E6*$F$4 -> 1914440 | H6: 0 | I6: 139690 | M6: =SUM(H6:L6) -> 139690 | N6: =ROUND(G6+M6,1) -> 2054130
B7: 퐁당당 | C7: 16 | D7: 5 | E7: 209 | G7: =E7*$F$4 -> 1914440 | H7: 0 | I7: 232206 | M7: =SUM(H7:L7) -> 232206 | N7: =ROUND(G7+M7,1) -> 2146646
B8: 퐁당당 | C8: 16 | D8: 4 | E8: 209 | G8: =E8*$F$4 -> 1914440 | H8: 0 | I8: 186406 | M8: =SUM(H8:L8) -> 186406 | N8: =ROUND(G8+M8,1) -> 2100846
B9: 퐁당당 | C9: 16 | D9: 3 | E9: 209 | G9: =E9*$F$4 -> 1914440 | H9: 0 | I9: 139690 | M9: =SUM(H9:L9) -> 139690 | N9: =ROUND(G9+M9,1) -> 2054130
B10: 3교대제_DNE체계 | C10: 8 | D10: 0 | E10: 209 | G10: =E10*$F$4 -> 1914440 | H10: 119538 | I10: 244114 | M10: =SUM(H10:L10) -> 363652 | N10: =ROUND(G10+M10,1) -> 2278092
B11: 요양보호사야간 | C11: 8 | D11: 1 | E11: 209 | G11: =E11*$F$4 -> 1914440 | H11: 0 | I11: 297700 | M11: =SUM(H11:L11) -> 297700 | N11: =ROUND(G11+M11,1) -> 2212140
B12: 요양보호사주간 | C12: 8 | D12: 0 | E12: 209 | G12: =E12*$F$4 -> 1914440 | H12: 0 | M12: =SUM(H12:L12) -> 0 | N12: =ROUND(G12+M12,1) -> 1914440
A13: 간호조무사 | B13: 주간근무 | C13: 8 | D13: 0 | E13: 209 | G13: =E13*$F$4 -> 1914440 | H13: 0 | I13: 0 | M13: =SUM(H13:L13) -> 0 | N13: =ROUND(G13+M13,1) -> 1914440
A14: 간호사 | B14: 주간근무 | C14: 8 | D14: 0 | E14: 209 | G14: =E14*$F$4 -> 1914440 | H14: 0 | I14: 0 | M14: =SUM(H14:L14) -> 0 | N14: =ROUND(G14+M14,1) -> 1914440
A15: 물리치료사 | B15: 주간근무 | C15: 8 | D15: 0 | E15: 209 | G15: =E15*$F$4 -> 1914440 | H15: 0 | I15: 0 | M15: =SUM(H15:L15) -> 0 | N15: =ROUND(G15+M15,1) -> 1914440
A16: 작업치료사 | B16: 주간근무 | C16: 8 | D16: 0 | E16: 209 | G16: =E16*$F$4 -> 1914440 | H16: 0 | I16: 0 | M16: =SUM(H16:L16) -> 0 | N16: =ROUND(G16+M16,1) -> 1914440
A17: 사회복지사 | B17: 주간근무 | C17: 8 | D17: 0 | E17: 209 | G17: =E17*$F$4 -> 1914440 | H17: 0 | I17: 0 | M17: =SUM(H17:L17) -> 0 | N17: =ROUND(G17+M17,1) -> 1914440
A18: 시설장 | B18: 주간근무 | C18: 8 | D18: 0 | E18: 209 | G18: =E18*$F$4 -> 1914440 | H18: 0 | I18: 0 | M18: =SUM(H18:L18) -> 0 | N18: =ROUND(G18+M18,1) -> 1914440
A19: 사무국장 | B19: 주간근무 | C19: 8 | D19: 0 | E19: 209 | G19: =E19*$F$4 -> 1914440 | H19: 0 | I19: 0 | M19: =SUM(H19:L19) -> 0 | N19: =ROUND(G19+M19,1) -> 1914440
A20: 사무원 | B20: 주간근무 | C20: 8 | D20: 0 | E20: 209 | G20: =E20*$F$4 -> 1914440 | H20: 0 | I20: 0 | M20: =SUM(H20:L20) -> 0 | N20: =ROUND(G20+M20,1) -> 1914440
A21: 위생원 | B21: 주간근무 | C21: 8 | D21: 0 | E21: 209 | G21: =E21*$F$4 -> 1914440 | H21: 0 | I21: 0 | M21: =SUM(H21:L21) -> 0 | N21: =ROUND(G21+M21,1) -> 1914440
A22: 관리인 | B22: 주간근무 | C22: 8 | D22: 0 | E22: 209 | G22: =E22*$F$4 -> 1914440 | H22: 0 | I22: 0 | M22: =SUM(H22:L22) -> 0 | N22: =ROUND(G22+M22,1) -> 1914440
A23: 운전원 | B23: 주간근무 | C23: 8 | D23: 0 | E23: 209 | G23: =E23*$F$4 -> 1914440 | H23: 0 | I23: 0 | M23: =SUM(H23:L23) -> 0 | N23: =ROUND(G23+M23,1) -> 1914440
A24: 영양사 | B24: 주간근무 | C24: 8 | D24: 0 | E24: 209 | G24: =E24*$F$4 -> 1914440 | H24: 0 | I24: 0 | M24: =SUM(H24:L24) -> 0 | N24: =ROUND(G24+M24,1) -> 1914440
... A26: 조리원 | B26: 주간근무6일 | C26: 8 | D26: 3 | E26: 209 | G26: =E26*$F$4 -> 1914440 | H26: 119538 | I26: 0 | M26: =SUM(H26:L26) -> 119538 | N26: =ROUND(G26+M26,1) -> 2033978
A30: 2022년 직접인건비 편성 비율
A31: 제공급여구분 | C31: 직접인건비 직종 | L31: 인건비 지출비율(%)
A32: 노인요양시설 | C32: 간호(조무)사, 물리(작업)치료사, 사회복시자, 요양보호사 | L32: 60.5
A33: 노인공동생활가정 | C33: 간호(조무)사, 물리(작업)치료사, 사회복시자, 요양보호사 | L33: 65
A34: 주야간보호 | C34: 간호(조무)사, 물리(작업)치료사, 사회복시자, 요양보호사 | L34: 48.3
A35: 방문요양 | C35: 요양보호사, 사회복지사 | L35: 86.6
A36: 방문목욕 | C36: 요양보호사 | L36: 49.3
A37: 방문간호 | C37: 간호(조무)사, 치과위생사 | L37: 59.5

Sheet 2022년수가
A1: 장기요양등급 | B1: 2022년 수가 | C1: 부담률 | E1: 본인 부담금 | F1: 장기 요양급여 | G1: 계 | I1: 구분 | J1: 식비 | K1: 간식비 | L1: 계
C2: 본인부담 | D2: 공단부담
A3: 1등급(일반) | B3: 74850 | C3: 0.2 | D3: 0.8 | E3: =B3*C3*30.5 -> 456585 | F3: =B3*D3*30.5 -> 1826340 | G3: =E3+F3 -> 2282925 | I3: 식재료비 | J3: 2600 | K3: 1000 | L3: =(J3*3+K3*2)*30.5 -> 298900
A4: 2등급(일반) | B4: 69450 | C4: 0.2 | D4: 0.8 | E4: =B4*C4*30.5 -> 423645 | F4: =B4*D4*30.5 -> 1694580 | G4: =E4+F4 -> 2118225 | I4: 상급침실 | L4: 0
A5: 3~5등급(일반) | B5: 64040 | C5: 0.2 | D5: 0.8 | E5: =B5*C5*30.5 -> 390644 | F5: =B5*D5*30.5 -> 1562576 | G5: =E5+F5 -> 1953220
A6: 1등급(감경12%) | B6: 74850 | C6: 0.12 | D6: 0.88 | E6: =B6*C6*30.5 -> 273951 | F6: =B6*D6*30.5 -> 2008974 | G6: =E6+F6 -> 2282925
A7: 2등급(감경12%) | B7: 69450 | C7: 0.12 | D7: 0.88 | E7: =B7*C7*30.5 -> 254187 | F7: =B7*D7*30.5 -> 1864038 | G7: =E7+F7 -> 2118225
A8: 3~5등급(감경12%) | B8: 64040 | C8: 0.12 | D8: 0.88 | E8: =B8*C8*30.5 -> 234386.4 | F8: =B8*D8*30.5 -> 1718833.6 | G8: =E8+F8 -> 1953220
A9: 1등급(감경8%) | B9: 74850 | C9: 0.08 | D9: 0.92 | E9: =B9*C9*30.5 -> 182634 | F9: =B9*D9*30.5 -> 2100291 | G9: =E9+F9 -> 2282925
A10: 2등급(감경8%) | B10: 69450 | C10: 0.08 | D10: 0.92 | E10: =B10*C10*30.5 -> 169458 | F10: =B10*D10*30.5 -> 1948767 | G10: =E10+F10 -> 2118225
A11: 3~5등급(감경8%) | B11: 64040 | C11: 0.08 | D11: 0.92 | E11: =B11*C11*30.5 -> 156257.6 | F11: =B11*D11*30.5 -> 1796962.4 | G11: =E11+F11 -> 1953220
A12: 1등급(기초수급) | B12: 74850 | C12: 0 | D12: 1 | E12: =B12*C12*30.5 -> 0 | F12: =B12*D12*30.5 -> 2282925 | G12: =E12+F12 -> 2282925
A13: 2등급(기초수급) | B13: 69450 | C13: 0 | D13: 1 | E13: =B13*C13*30.5 -> 0 | F13: =B13*D13*30.5 -> 2118225 | G13: =E13+F13 -> 2118225
A14: 3~5등급(기초수급) | B14: 64040 | C14: 0 | D14: 1 | E14: =B14*C14*30.5 -> 0 | F14: =B14*D14*30.5 -> 1953220 | G14: =E14+F14 -> 1953220
A15: 등급외 | B15: 74850 | C15: 1 | E15: =B15*C15*30.5 -> 2282925 | G15: =E15+F15 -> 2282925
