Workbook

Sheet 주간식단표
B1: 주 간 식 단 표
B3: 기간 : 2022년 2 월 14 (월) ~ 2 월 20 (일)
C4: 2/14(월) | D4: 2/15(화) | E4: 2/16(수) | F4: 2/17(목) | G4: 2/18(금) | H4: 2/19(토) | I4: 2/20(일)
B5: 조 식 | C5: 잡곡밥/호박씨죽 | D5: 잡곡밥/야채죽 | E5: 잡곡밥/참깨죽 | F5: 잡곡밥/호두죽 | G5: 잡곡밥/계란죽 | H5: 잡곡밥/아몬드죽 | I5: 잡곡밥/야채죽
C6: 크림스프 | D6: 두부호박된장국 | E6: 황태콩나물국 | F6: 홍합두부탕국 | G6: 조갯살미역국 | H6: 들깨무채국 | I6: 연두계란국
C7: 다진쇠고기야채볶음 | D7: 건다래순볶음 | E7: 꼴뚜기젓무침 | F7: 훈제오리참나물무침 | G7: 비엔나마늘쫑조림 | H7: 차돌숙주볶음 | I7: 가오리찜
C8: 참치감자조림 | D8: 콩고기불고기 | E8: 토마토계란스크럼블 | F8: 민들레나물볶음 | G8: 가지민찌굴소스볶음 | H8: 톳두부무침 | I8: 고구마줄기볶음
C9: 김구이 | D9: 김구이 | E9: 김구이 | F9: 김구이 | G9: 김구이 | H9: 김구이 | I9: 김구이
C10: 배추김치 | D10: 배추김치 | E10: 배추김치 | F10: 배추김치 | G10: 배추김치 | H10: 배추김치 | I10: 배추김치
B11: 중 식 | C11: 오곡밥/쇠고기야채죽 | D11: 잡곡밥/흑임자죽 | E11: 잡곡밥/호박씨죽 | F11: 잡곡밥/홍합야채죽 | G11: 잡곡밥/흑임자죽 | H11: 잡곡밥/참깨죽 | I11: 잡곡밥/해바라기씨죽
C12: 쇠고기무우국 | D12: 감자어묵국 | E12: 콩비지국 | F12: 계란국 | G12: 버섯수제비국 | H12: 등뼈우거지탕 | I12: 감자국
C13: 아주까리나물볶음 | D13: 찜닭 | E13: 방어조림 | F13: 하이라이스 | G13: 시래기지짐 | H13: 오복지무침 | I13: 시금치소불고기
C14: 부지갱이나물 | D14: 콩나물무침 | E14: 야채비빔만두 | F14: 삼치구이 | G14: 물파래무침 | H14: 고등어조림 | I14: 오이무침
C15: 조기구이 | D15: 백목이버섯냉채 | E15: 느타리버섯볶음 | F15: 어묵콩나물찜 | G15: 돈육파채볶음 | H15: 해초무쌈샐러드 | I15: 맛살유부냉채
C16: 배추김치 | D16: 배추김치 | E16: 배추김치 | F16: 배추김치 | G16: 배추김치 | H16: 배추김치 | I16: 배추김치
B17: 석 식 | C17: 잡곡밥/참치야채죽 | D17: 잡곡밥/계란야채죽 | E17: 잡곡밥/냉이된장죽 | F17: 잡곡밥/흑임자죽 | G17: 잡곡밥/쇠고기야채죽 | H17: 잡곡밥/브로콜리죽 | I17: 잡곡밥/시금치된장죽
C18: 아욱국 | D18: 유부김치국 | E18: 알탕 | F18: 바지락쑥국 | G18: 쇠고기토란탕 | H18: 오징어무국 | I18: 배추된장국 | L18: 숙주미소된장국(숙주두부미소된장)
C19: 고사리볶음 | D19: 모듬콩자반 | E19: 무화과연근조림 | F19: 쇠고기팽이볶음 | G19: 코다리엿장조림 | H19: 돈사태무조림 | I19: 닭가슴살그린빈스볶음 | L19: 백목이버섯냉채-파프리카,오이,맛살
C20: 유채된장무침 | D20: 오이지무침 | E20: 돈육냉이볶음 | F20: 상추샐러드 | G20: 새송이깻잎무침 | H20: 마늘잎건새우볶음 | I20: 참나물무침
C21: 돈육메추리알장조림 | D21: 불고기낙지볶음 | E21: 곰피무침 | F21: 민물새우무조림 | G21: 고구마곤약조림 | H21: 브로콜리흑임자소스무침 | I21: 두부멸치조림
C22: 배추김치 | D22: 배추김치 | E22: 배추김치 | F22: 배추김치 | G22: 배추김치 | H22: 배추김치 | I22: 배추김치
B23: 간 식 | C23: 요거트 | D23: 두유 | E23: 유산균음료 | F23: 고단백질음료 | G23: 요거트 | H23: 두유 | I23: 유산균음료
C24: 야채쥬스 | D24: 곡물과자,음료 | E24: 연시 | F24: 크림슨포도 | G24: 팬케잌,우유 | H24: 쿠키,우유 | I24: 찐고구마,요구르트
B25: 상기 식단은 물품사정및 기타변동에 의해 바뀔수 있으니 양해하여 주시기 바랍니다.
L26: 숙
M46: +

Sheet 월
B1: 급 식 일 지
N3: 결 | O3: 담 당 | R3: 시 설 장
N4: 재
B5: 날 짜 : | C5: 44606 | N5: 작성자 : 송기옥
B6: 1. 메뉴및 식수인원
B7: 구 분 | C7: 조 식 | F7: 중 식 | I7: 석 식 | P7: 인원누계
B8: 인원(명) | C8: 어르신 | D8: 직원 | E8: 외부 | F8: 어르신 | G8: 직원 | H8: 외부 | I8: 어르신 | K8: 직원 | N8: 외부 | P8: 일계 | R8: 누계 | S8: 2441 | T8: 539 | U8: 0
C9: 76 | D9: 14 | E9: 0 | F9: 76 | G9: 32 | H9: 0 | I9: 76 | K9: 1 | N9: 0 | P9: =C9+D9+E9+F9+G9+H9+I9+K9+N9 -> 275 | R9: =+P9+T8 -> 814 | S9: 0 | T9: 456
B10: 식 단 | C10: =+주간식단표!C5 -> 잡곡밥/호박씨죽 | F10: =+주간식단표!C11 -> 오곡밥/쇠고기야채죽 | I10: =+주간식단표!C17 -> 잡곡밥/참치야채죽 | P10: =+C9+F9+I9 -> 228 | R10: =+P10+T9 -> 684
C11: =+주간식단표!C6 -> 크림스프 | F11: =+주간식단표!C12 -> 쇠고기무우국 | I11: =+주간식단표!C18 -> 아욱국 | P11: 간식
C12: =+주간식단표!C7 -> 다진쇠고기야채볶음 | F12: =+주간식단표!C13 -> 아주까리나물볶음 | I12: =+주간식단표!C19 -> 고사리볶음 | P12: 오 전 | R12: 요거트
C13: =+주간식단표!C8 -> 참치감자조림 | F13: =+주간식단표!C14 -> 부지갱이나물 | I13: =+주간식단표!C20 -> 유채된장무침 | P13: 당 뇨
C14: =+주간식단표!C9 -> 김구이 | F14: =+주간식단표!C15 -> 조기구이 | I14: =+주간식단표!C21 -> 돈육메추리알장조림 | P14: 오 후 | R14: =+주간식단표!C24 -> 야채쥬스
C15: =+주간식단표!C10 -> 배추김치 | F15: =+주간식단표!C16 -> 배추김치 | I15: =+주간식단표!C22 -> 배추김치 | P15: 3. 기타 및 조치사항
B16: 특별급식 | C16: 일반식 | E16: 45 | F16: 일반식 | H16: 45 | I16: 일반식 | N16: 45
C17: 당뇨식 | E17: 17 | F17: 당뇨식 | H17: 17 | I17: 당뇨식 | N17: 17
C18: 고혈압식 | F18: 고혈압식 | I18: 고혈압식
C19: 고혈압.당뇨식 | F19: 고혈압.당뇨식 | I19: 고혈압.당뇨식
C20: 연식(흰죽) | E20: 13 | F20: 연식(흰죽) | H20: 13 | I20: 연식(흰죽) | N20: 13
C21: 미음식(메드웰) | E21: 1 | F21: 미음식(메드웰) | H21: 1 | I21: 미음식(메드웰) | N21: 1
C22: 경관급식 | E22: 0 | F22: 경관급식 | H22: 0 | I22: 경관급식 | N22: 0
B26: 어르신
B27: 식 사및
B28: 특이사항
P31: 4. 근무사항
P32: 배억순,전주연,박혜련
B33: 2. 식이요법 현황
B34: 구 분 | C34: 내 용
B35: 고혈압 | C35: 염분제한및 칼로리 제한
B36: 당 뇨 | C36: 당분제한
B37: 식이변경 | C37: 성 명 | F37: 현재식이 | H37: 변경식이 | K37: 변경사유 | P37: 기 간

Sheet 화
B1: 급 식 일 지
K3: 담 당 | N3: 결 | O3: 담 당 | R3: 시 설 장
N4: 재
B5: 날 짜 : | C5: =월!C5+1 -> 44607 | N5: 작성자 : 송기옥
B6: 1. 메뉴및 식수인원
B7: 구 분 | C7: 조 식 | F7: 중 식 | I7: 석 식 | P7: 인원누계
B8: 인원(명) | C8: 어르신 | D8: 직원 | E8: 외부 | F8: 어르신 | G8: 직원 | H8: 외부 | I8: 어르신 | K8: 직원 | N8: 외부 | P8: 일계 | R8: 누계
C9: 76 | D9: 14 | E9: 0 | F9: 76 | G9: 31 | H9: 0 | I9: 76 | K9: 12 | N9: 0 | P9: =C9+D9+E9+F9+G9+H9+I9+K9+N9 -> 285 | R9: =+P9+월!R9 -> 1099
B10: 식 단 | C10: =+주간식단표!D5 -> 잡곡밥/야채죽 | F10: =+주간식단표!D11 -> 잡곡밥/흑임자죽 | I10: =+주간식단표!D17 -> 잡곡밥/계란야채죽 | P10: =+C9+F9+I9 -> 228 | R10: =+P10+월!R10 -> 912
C11: =+주간식단표!D6 -> 두부호박된장국 | F11: =+주간식단표!D12 -> 감자어묵국 | I11: =+주간식단표!D18 -> 유부김치국 | P11: 간식
C12: =+주간식단표!D7 -> 건다래순볶음 | F12: =+주간식단표!D13 -> 찜닭 | I12: =+주간식단표!D19 -> 모듬콩자반 | P12: 오 전 | R12: 두유
C13: =+주간식단표!D8 -> 콩고기불고기 | F13: =+주간식단표!D14 -> 콩나물무침 | I13: =+주간식단표!D20 -> 오이지무침 | P13: 당 뇨
C14: =+주간식단표!D9 -> 김구이 | F14: =+주간식단표!D15 -> 백목이버섯냉채 | I14: =+주간식단표!D21 -> 불고기낙지볶음 | P14: 오 후 | R14: =+주간식단표!D24 -> 곡물과자,음료
C15: =+주간식단표!D10 -> 배추김치 | F15: =+주간식단표!D16 -> 배추김치 | I15: =+주간식단표!D22 -> 배추김치 | P15: 3. 기타 및 조치사항
B16: 특별급식 | C16: 일반식 | E16: 45 | F16: 일반식 | H16: 45 | I16: 일반식 | N16: 45
C17: 당뇨식 | E17: 17 | F17: 당뇨식 | H17: 17 | I17: 당뇨식 | N17: 17
C18: 고혈압식 | F18: 고혈압식 | I18: 고혈압식
C19: 고혈압.당뇨식 | F19: 고혈압.당뇨식 | I19: 고혈압.당뇨식
C20: 연식(흰죽) | E20: 13 | F20: 연식(흰죽) | H20: 13 | I20: 연식(흰죽) | N20: 13
C21: 미음식(메드웰) | E21: 1 | F21: 미음식(메드웰) | H21: 1 | I21: 미음식(메드웰) | N21: 1
C22: 경관급식 | E22: 0 | F22: 경관급식 | H22: 0 | I22: 경관급식 | N22: 0
B26: 어르신
B27: 식사 및
B28: 특이사항
P31: 4. 근무사항
P32: 유혜순,박춘화,이순화
B33: 2. 식이요볍 현황
B34: 구 분 | C34: 내 용
B35: 고혈압 | C35: 염분제한및 칼로리 제한
B36: 당 뇨 | C36: 당분제한
B37: 식이변경 | C37: 성 명 | F37: 현재식이 | H37: 변경식이 | K37: 변경사유 | P37: 기 간

Sheet 수
B1: 급 식 일 지
N3: 결 | O3: 담 당 | R3: 시 설 장
N4: 재
B5: 날 짜 : | C5: =화!C5+1 -> 44608 | N5: 작성자 : 송기옥
B6: 1. 메뉴및 식수인원
B7: 구 분 | C7: 조 식 | F7: 중 식 | I7: 석 식 | P7: 인원누계
B8: 인원(명) | C8: 어르신 | D8: 직원 | E8: 외부 | F8: 어르신 | G8: 직원 | H8: 외부 | I8: 어르신 | K8: 직원 | N8: 외부 | P8: 일계 | R8: 누계
C9: 76 | D9: 14 | E9: 0 | F9: 76 | G9: 30 | H9: 0 | I9: 76 | K9: 1 | N9: 0 | P9: =C9+D9+E9+F9+G9+H9+I9+K9+N9 -> 273 | R9: =+P9+화!R9 -> 1372 | S9: 0
B10: 식 단 | C10: =+주간식단표!E5 -> 잡곡밥/참깨죽 | F10: =+주간식단표!E11 -> 잡곡밥/호박씨죽 | I10: =+주간식단표!E17 -> 잡곡밥/냉이된장죽 | P10: =+C9+F9+I9 -> 228 | R10: =+P10+화!R10 -> 1140 | S10: 0
C11: =+주간식단표!E6 -> 황태콩나물국 | F11: =+주간식단표!E12 -> 콩비지국 | I11: =+주간식단표!E18 -> 알탕 | P11: 간식
C12: =+주간식단표!E7 -> 꼴뚜기젓무침 | F12: =+주간식단표!E13 -> 방어조림 | I12: =+주간식단표!E19 -> 무화과연근조림 | P12: 오 전 | R12: 요구르트
C13: =+주간식단표!E8 -> 토마토계란스크럼블 | F13: =+주간식단표!E14 -> 야채비빔만두 | I13: =+주간식단표!E20 -> 돈육냉이볶음 | P13: 당 뇨
C14: =+주간식단표!E9 -> 김구이 | F14: =+주간식단표!E15 -> 느타리버섯볶음 | I14: =+주간식단표!E21 -> 곰피무침 | P14: 오 후 | R14: =+주간식단표!E24 -> 연시
C15: =+주간식단표!E10 -> 배추김치 | F15: =+주간식단표!E16 -> 배추김치 | I15: =+주간식단표!E22 -> 배추김치 | P15: 3. 기타 및 조치사항
B16: 특별급식 | C16: 일반식 | E16: 45 | F16: 일반식 | H16: 45 | I16: 일반식 | N16: 45
C17: 당뇨식 | E17: 17 | F17: 당뇨식 | H17: 17 | I17: 당뇨식 | N17: 17
C18: 고혈압식 | F18: 고혈압식 | I18: 고혈압식
C19: 고혈압.당뇨식 | F19: 고혈압.당뇨식 | I19: 고혈압.당뇨식
C20: 연식(흰죽) | E20: 13 | F20: 연식(흰죽) | H20: 13 | I20: 연식(흰죽) | N20: 13
C21: 미음식(메드웰) | E21: 1 | F21: 미음식(메드웰) | H21: 1 | I21: 미음식(메드웰) | N21: 1
C22: 경관급식 | E22: 0 | F22: 경관급식 | H22: 0 | I22: 경관급식 | N22: 0
B26: 어르신
B27: 식사 및
B28: 특이사항
P30: 4. 근무사항
P31: 배억순,전주연,박혜련
B33: 2. 식이요법 현황
B34: 구 분 | C34: 내 용
B35: 고혈압 | C35: 염분제한및 칼로리 제한
B36: 당 뇨 | C36: 당분제한
B37: 식이변경 | C37: 성 명 | F37: 현재식이 | H37: 변경식이 | K37: 변경사유 | P37: 기 간

Sheet 목
B1: 급 식 일 지
N3: 결 | O3: 담 당 | R3: 시 설 장
N4: 재
B5: 날 짜 : | C5: =수!C5+1 -> 44609 | N5: 작성자 : 송기옥
B6: 1. 메뉴및 식수인원
B7: 구 분 | C7: 조 식 | F7: 중 식 | I7: 석 식 | P7: 인원누계
B8: 인원(명) | C8: 어르신 | D8: 직원 | E8: 외부 | F8: 어르신 | G8: 직원 | H8: 외부 | I8: 어르신 | K8: 직원 | N8: 외부 | P8: 일계 | R8: 누계
C9: 76 | D9: 14 | E9: 0 | F9: 76 | G9: 30 | H9: 0 | I9: 76 | K9: 12 | N9: 0 | P9: =C9+D9+E9+F9+G9+H9+I9+K9+N9 -> 284 | R9: =+P9+수!R9 -> 1656
B10: 식 단 | C10: =+주간식단표!F5 -> 잡곡밥/호두죽 | F10: =+주간식단표!F11 -> 잡곡밥/홍합야채죽 | I10: =+주간식단표!F17 -> 잡곡밥/흑임자죽 | P10: =+C9+F9+I9 -> 228 | R10: =+P10+수!R10 -> 1368
C11: =+주간식단표!F6 -> 홍합두부탕국 | F11: =+주간식단표!F12 -> 계란국 | I11: =+주간식단표!F18 -> 바지락쑥국 | P11: 간식
C12: =+주간식단표!F7 -> 훈제오리참나물무침 | F12: =+주간식단표!F13 -> 하이라이스 | I12: =+주간식단표!F19 -> 쇠고기팽이볶음 | P12: 오 전 | R12: 단백질음료
C13: =+주간식단표!F8 -> 민들레나물볶음 | F13: =+주간식단표!F14 -> 삼치구이 | I13: =+주간식단표!F20 -> 상추샐러드 | P13: 당 뇨
C14: =+주간식단표!F9 -> 김구이 | F14: =+주간식단표!F15 -> 어묵콩나물찜 | I14: =+주간식단표!F21 -> 민물새우무조림 | P14: 오 후 | R14: =+주간식단표!F24 -> 크림슨포도
C15: =+주간식단표!F10 -> 배추김치 | F15: =+주간식단표!F16 -> 배추김치 | I15: =+주간식단표!F22 -> 배추김치 | P15: 3. 기타 및 조치사항
B16: 특별급식 | C16: 일반식 | E16: 45 | F16: 일반식 | H16: 45 | I16: 일반식 | N16: 45
C17: 당뇨식 | E17: 17 | F17: 당뇨식 | H17: 17 | I17: 당뇨식 | N17: 17
C18: 고혈압식 | E18: 0 | F18: 고혈압식 | H18: 0 | I18: 고혈압식 | N18: 0
C19: 고혈압.당뇨식 | E19: 0 | F19: 고혈압.당뇨식 | H19: 0 | I19: 고혈압.당뇨식 | N19: 0
C20: 연식(흰죽) | E20: 13 | F20: 연식(흰죽) | H20: 13 | I20: 연식(흰죽) | N20: 13
C21: 미음식(메드웰) | E21: 1 | F21: 미음식(메드웰) | H21: 1 | I21: 미음식(메드웰) | N21: 1
C22: 경관급식 | E22: 0 | F22: 경관급식 | H22: 0 | I22: 경관급식 | N22: 0
B26: 어르신
B27: 식사및
B28: 특이사항
P30: 4. 근무사항
P31: 유혜순,박춘화,이순화
B33: 2. 식이요법 현황
B34: 구 분 | C34: 내 용
B35: 고혈압 | C35: 염분제한및 칼로리 제한
B36: 당 뇨 | C36: 당분제한
B37: 식이변경 | C37: 성 명 | F37: 현재식이 | H37: 변경식이 | K37: 변경사유 | P37: 기 간

Sheet 금
B1: 급 식 일 지
N3: 결 | O3: 담 당 | R3: 시 설 장
N4: 재
B5: 날 짜 : | C5: =목!C5+1 -> 44610 | N5: 작성자 : 송기옥
B6: 1. 메뉴및 식수인원
B7: 구 분 | C7: 조 식 | F7: 중 식 | I7: 석 식 | P7: 인원누계
B8: 인원(명) | C8: 어르신 | D8: 직원 | E8: 외부 | F8: 어르신 | G8: 직원 | H8: 외부 | I8: 어르신 | K8: 직원 | N8: 외부 | P8: 일계 | R8: 누계
C9: 76 | D9: 14 | E9: 0 | F9: 77 | G9: 31 | H9: 0 | I9: 77 | K9: 1 | N9: 0 | P9: =C9+D9+E9+F9+G9+H9+I9+K9+N9 -> 276 | R9: =+P9+목!R9 -> 1932
B10: 식 단 | C10: =+주간식단표!G5 -> 잡곡밥/계란죽 | F10: =+주간식단표!G11 -> 잡곡밥/흑임자죽 | I10: =+주간식단표!G17 -> 잡곡밥/쇠고기야채죽 | P10: =+C9+F9+I9 -> 230 | R10: =+P10+목!R10 -> 1598
C11: =+주간식단표!G6 -> 조갯살미역국 | F11: =+주간식단표!G12 -> 버섯수제비국 | I11: =+주간식단표!G18 -> 쇠고기토란탕 | P11: 간식
C12: =+주간식단표!G7 -> 비엔나마늘쫑조림 | F12: =+주간식단표!G13 -> 시래기지짐 | I12: =+주간식단표!G19 -> 코다리엿장조림 | P12: 오 전 | R12: 요플레
C13: =+주간식단표!G8 -> 가지민찌굴소스볶음 | F13: =+주간식단표!G14 -> 물파래무침 | I13: =+주간식단표!G20 -> 새송이깻잎무침 | P13: 당 뇨
C14: =+주간식단표!G9 -> 김구이 | F14: =+주간식단표!G15 -> 돈육파채볶음 | I14: =+주간식단표!G21 -> 고구마곤약조림 | P14: 오 후 | R14: =+주간식단표!G24 -> 팬케잌,우유
C15: =+주간식단표!G10 -> 배추김치 | F15: =+주간식단표!G16 -> 배추김치 | I15: =+주간식단표!G22 -> 배추김치 | P15: 3. 기타 및 조치사항
B16: 특별급식 | C16: 일반식 | E16: 45 | F16: 일반식 | H16: 46 | I16: 일반식 | N16: 46
C17: 당뇨식 | E17: 17 | F17: 당뇨식 | H17: 17 | I17: 당뇨식 | N17: 17
C18: 고혈압식 | F18: 고혈압식 | I18: 고혈압식
C19: 고혈압.당뇨식 | F19: 고혈압.당뇨식 | I19: 고혈압.당뇨식
C20: 연식(흰죽) | E20: 13 | F20: 연식(흰죽) | H20: 13 | I20: 연식(흰죽) | N20: 13
C21: 미음식(메드웰) | E21: 1 | F21: 미음식(메드웰) | H21: 1 | I21: 미음식(메드웰) | N21: 1
C22: 경관급식 | E22: 0 | F22: 경관급식 | H22: 0 | I22: 경관급식 | N22: 0
C23: 김영애어르신입소
B26: 어르신
B27: 식사및
B28: 특이사항
P30: 4. 근무사항
P31: 배억순,전주연,박혜련
B33: 2. 식이요법 현황
B34: 구 분 | C34: 내 용
B35: 고혈압 | C35: 염분제한및 칼로리 제한
B36: 당 뇨 | C36: 당분제한
B37: 식이변경 | C37: 성 명 | F37: 현재식이 | H37: 변경식이 | K37: 변경사유 | P37: 기 간

Sheet 토
B1: 급 식 일 지
K3: 담 당 | N3: 결 | O3: 담 당 | R3: 시 설 장
N4: 재
B5: 날 짜 : | C5: =금!C5+1 -> 44611 | N5: 작성자 : 송기옥
B6: 1. 메뉴및 식수인원
B7: 구 분 | C7: 조 식 | F7: 중 식 | I7: 석 식 | P7: 인원누계
B8: 인원(명) | C8: 어르신 | D8: 직원 | E8: 외부 | F8: 어르신 | G8: 직원 | H8: 외부 | I8: 어르신 | K8: 직원 | N8: 외부 | P8: 일계 | R8: 누계 | S8: =+금!R8 -> 누계
C9: 77 | D9: 14 | E9: 0 | F9: 76 | G9: 18 | H9: 0 | I9: 76 | K9: 11 | N9: 0 | P9: =C9+D9+E9+F9+G9+H9+I9+K9+N9 -> 272 | R9: =+P9+금!R9 -> 2204 | S9: 0
B10: 식 단 | C10: =+주간식단표!H5 -> 잡곡밥/아몬드죽 | F10: =+주간식단표!H11 -> 잡곡밥/참깨죽 | I10: =+주간식단표!H17 -> 잡곡밥/브로콜리죽 | P10: =+C9+F9+I9 -> 229 | R10: =+P10+금!R10 -> 1827 | S10: 0
C11: =+주간식단표!H6 -> 들깨무채국 | F11: =+주간식단표!H12 -> 등뼈우거지탕 | I11: =+주간식단표!H18 -> 오징어무국 | P11: 간식
C12: =+주간식단표!H7 -> 차돌숙주볶음 | F12: =+주간식단표!H13 -> 오복지무침 | I12: =+주간식단표!H19 -> 돈사태무조림 | P12: 오 전 | R12: 두유
C13: =+주간식단표!H8 -> 톳두부무침 | F13: =+주간식단표!H14 -> 고등어조림 | I13: =+주간식단표!H20 -> 마늘잎건새우볶음 | P13: 당 뇨
C14: =+주간식단표!H9 -> 김구이 | F14: =+주간식단표!H15 -> 해초무쌈샐러드 | I14: =+주간식단표!H21 -> 브로콜리흑임자소스무침 | P14: 오 후 | R14: =+주간식단표!H24 -> 쿠키,우유
C15: =+주간식단표!H10 -> 배추김치 | F15: =+주간식단표!H16 -> 배추김치 | I15: =+주간식단표!H22 -> 배추김치 | P15: 3. 기타 및 조치사항
B16: 특별급식 | C16: 일반식 | E16: 46 | F16: 일반식 | H16: 46 | I16: 일반식 | N16: 46
C17: 당뇨식 | E17: 17 | F17: 당뇨식 | H17: 17 | I17: 당뇨식 | N17: 17
C18: 고혈압식 | F18: 고혈압식 | I18: 고혈압식
C19: 고혈압.당뇨식 | F19: 고혈압.당뇨식 | I19: 고혈압.당뇨식
C20: 연식(흰죽) | E20: 13 | F20: 연식(흰죽) | H20: 13 | I20: 연식(흰죽) | N20: 13
C21: 미음식(메드웰) | E21: 1 | F21: 미음식(메드웰) | H21: 0 | I21: 미음식(메드웰) | N21: 0
C22: 경관급식 | E22: 0 | F22: 경관급식 | H22: 0 | I22: 경관급식 | N22: 0
C23: 이근순어르신퇴소
B26: 어르신
B27: 식사및
B28: 특이사항
P31: 4. 근무사항
P32: 유혜순,박춘화,이순화
B33: .
B34: 구 분 | C34: 내 용
B35: 고혈압 | C35: 염분제한및 칼로리 제한
B36: 당 뇨 | C36: 당분제한
B37: 식이변경 | C37: 성 명 | F37: 현재식이 | H37: 변경식이 | K37: 변경사유 | P37: 기 간

Sheet 일
B1: 급 식 일 지
N3: 결 | O3: 담 당 | R3: 시 설 장
N4: 재
B5: 날 짜 : | C5: =토!C5+1 -> 44612 | N5: 작성자 : 송기옥
B6: 1. 메뉴및 식수인원
B7: 구 분 | C7: 조 식 | F7: 중 식 | I7: 석 식 | P7: 인원누계
B8: 인원(명) | C8: 어르신 | D8: 직원 | E8: 외부 | F8: 어르신 | G8: 직원 | H8: 외부 | I8: 어르신 | K8: 직원 | N8: 외부 | P8: 일계 | R8: 누계
C9: 76 | D9: 14 | E9: 0 | F9: 76 | G9: 17 | H9: 0 | I9: 76 | K9: 1 | N9: 0 | P9: =C9+D9+E9+F9+G9+H9+I9+K9+N9 -> 260 | R9: =+P9+토!R9 -> 2464
B10: 식 단 | C10: =+주간식단표!I5 -> 잡곡밥/야채죽 | F10: =+주간식단표!I11 -> 잡곡밥/해바라기씨죽 | I10: =+주간식단표!I17 -> 잡곡밥/시금치된장죽 | P10: =+C9+F9+I9 -> 228 | R10: =+P10+토!R10 -> 2055
C11: =+주간식단표!I6 -> 연두계란국 | F11: =+주간식단표!I12 -> 감자국 | I11: =+주간식단표!I18 -> 배추된장국 | P11: 간식
C12: =+주간식단표!I7 -> 가오리찜 | F12: =+주간식단표!I13 -> 시금치소불고기 | I12: =+주간식단표!I19 -> 닭가슴살그린빈스볶음 | P12: 오 전 | R12: 유산균음료
C13: =+주간식단표!I8 -> 고구마줄기볶음 | F13: =+주간식단표!I14 -> 오이무침 | I13: =+주간식단표!I20 -> 참나물무침 | P13: 당 뇨
C14: =+주간식단표!I9 -> 김구이 | F14: =+주간식단표!I15 -> 맛살유부냉채 | I14: =+주간식단표!I21 -> 두부멸치조림 | P14: 오 후 | R14: =+주간식단표!I24 -> 찐고구마,요구르트
C15: =+주간식단표!I10 -> 배추김치 | F15: =+주간식단표!I16 -> 배추김치 | I15: =+주간식단표!I22 -> 배추김치
B16: 특별급식 | C16: 일반식 | E16: 46 | F16: 일반식 | H16: 46 | I16: 일반식 | N16: 46
C17: 당뇨식 | E17: 17 | F17: 당뇨식 | H17: 17 | I17: 당뇨식 | N17: 17
C18: 고혈압식 | F18: 고혈압식 | I18: 고혈압식
C19: 고혈압.당뇨식 | F19: 고혈압.당뇨식 | I19: 고혈압.당뇨식
C20: 연식(흰죽) | E20: 13 | F20: 연식(흰죽) | H20: 13 | I20: 연식(흰죽) | N20: 13
C21: 미음식(메드웰) | E21: 0 | F21: 미음식(메드웰) | H21: 0 | I21: 미음식(메드웰) | N21: 0
C22: 경관급식 | E22: 0 | F22: 경관급식 | H22: 0 | I22: 경관급식 | N22: 0
B26: 어르신
B27: 식사 및
B28: 특이사항
P30: 4. 근무사항
P31: 배억순,전주연,박혜련
B33: 2. 식이요법 현황
B34: 구 분 | C34: 내 용
B35: 고혈압 | C35: 염분제한및 칼로리 제한
B36: 당 뇨 | C36: 당분제한
B37: 식이변경 | C37: 성 명 | F37: 현재식이 | H37: 변경식이 | K37: 변경사유 | P37: 기간

Sheet 월보검
A1: 보존식 기록대장 및 검식일지
A3: 보존일 | B3: =월!C5 -> 44606
A4: 식단 | B4: 구분 | C4: 주식 | D4: 국 | E4: 찬1 | F4: 찬2 | G4: 찬3 | H4: 김치 | I4: 연식
B5: 조식 | C5: =+월!C10 -> 잡곡밥/호박씨죽 | D5: =+월!C11 -> 크림스프 | E5: =+월!C12 -> 다진쇠고기야채볶음 | F5: =+월!C13 -> 참치감자조림 | G5: =+월!C14 -> 김구이 | H5: =+월!C15 -> 배추김치 | I5: =+월!#REF! -> #REF!
B6: 중식 | C6: =+월!F10 -> 오곡밥/쇠고기야채죽 | D6: =+월!F11 -> 쇠고기무우국 | E6: =+월!F12 -> 아주까리나물볶음 | F6: =+월!F13 -> 부지갱이나물 | G6: =+월!F14 -> 조기구이 | H6: =+월!F15 -> 배추김치 | I6: =+월!#REF! -> #REF!
B7: 석식 | C7: =+월!I10 -> 잡곡밥/참치야채죽 | D7: =+월!I11 -> 아욱국 | E7: =+월!I12 -> 고사리볶음 | F7: =+월!I13 -> 유채된장무침 | G7: =+월!I14 -> 돈육메추리알장조림 | H7: =+월!I15 -> 배추김치 | I7: =+월!#REF! -> #REF!
A8: 검취자 | B8: 조리사 | F8: 간식 | G8: =+주간식단표!C23 -> 요거트 | H8: =+주간식단표!C24 -> 야채쥬스
A9: 폐기일 | B9: =$B$3+6 -> 44612
A10: 관리기준 | B10: 1. 조리 종료 후 음식별로 150g 정도의 양을 소독된 도구를 이용하여 담는다.
B11: 2. 보존식은 소독된 보존식 전용 용기에 담아 섞이지 않도록 한다.
B12: 3. 보존식 기록지에 배식된 음식명및 날짜를 명시한다.
B13: 4. -18℃이하로 144시간 냉동보관한다.
A14: o : 양호 △ : 보통 X : 나쁨(없음) 검식자 : 영양사 송기옥
A15: 메 뉴 상태 | D15: 익힌 정도 | E15: 이물,이취감 | F15: 음식의 맛 | G15: 음식의 완성온도 | I15: 전체적인 조화
A16: 조 식 | B16: =C5 -> 잡곡밥/호박씨죽
B17: =D5 -> 크림스프
B18: =E5 -> 다진쇠고기야채볶음
B19: =F5 -> 참치감자조림
B20: =+G5 -> 김구이
B21: =+H5 -> 배추김치
B22: =+I5 -> #REF!
A23: 중 식 | B23: =+C6 -> 오곡밥/쇠고기야채죽
B24: =+D6 -> 쇠고기무우국
B25: =+E6 -> 아주까리나물볶음
B26: =+F6 -> 부지갱이나물
B27: =+G6 -> 조기구이
B28: =+H6 -> 배추김치
B29: =+I6 -> #REF!
A30: 석 식 | B30: =+C7 -> 잡곡밥/참치야채죽
B31: =+D7 -> 아욱국
B32: =+E7 -> 고사리볶음
B33: =+F7 -> 유채된장무침
B34: =+G7 -> 돈육메추리알장조림
B35: =+H7 -> 배추김치
B36: =+I7 -> #REF!
A37: 간 식 | B37: =월!R12 -> 요거트
B38: =월!R14 -> 야채쥬스

Sheet 화보검
A1: 보존식 기록대장 및 검식일지
A3: 보존일 | B3: =화!C5 -> 44607
A4: 식단 | B4: 구분 | C4: 주식 | D4: 국 | E4: 찬1 | F4: 찬2 | G4: 찬3 | H4: 김치 | I4: 연식
B5: 조식 | C5: =+화!C10 -> 잡곡밥/야채죽 | D5: =+화!C11 -> 두부호박된장국 | E5: =+화!C12 -> 건다래순볶음 | F5: =+화!C13 -> 콩고기불고기 | G5: =+화!C14 -> 김구이 | H5: =+화!C15 -> 배추김치 | I5: =+화!#REF! -> #REF!
B6: 중식 | C6: =+화!F10 -> 잡곡밥/흑임자죽 | D6: =+화!F11 -> 감자어묵국 | E6: =+화!F12 -> 찜닭 | F6: =+화!F13 -> 콩나물무침 | G6: =+화!F14 -> 백목이버섯냉채 | H6: =+화!F15 -> 배추김치 | I6: =+화!#REF! -> #REF!
B7: 석식 | C7: =+화!I10 -> 잡곡밥/계란야채죽 | D7: =+화!I11 -> 유부김치국 | E7: =+화!I12 -> 모듬콩자반 | F7: =+화!I13 -> 오이지무침 | G7: =+화!I14 -> 불고기낙지볶음 | H7: =+화!I15 -> 배추김치 | I7: =+화!#REF! -> #REF!
A8: 검취자 | B8: 조리사 | F8: 간식 | G8: =+주간식단표!D23 -> 두유 | H8: =+주간식단표!D24 -> 곡물과자,음료
A9: 폐기일 | B9: =$B$3+6 -> 44613
A10: 관리기준 | B10: 1. 조리 종료 후 음식별로 150g 정도의 양을 소독된 도구를 이용하여 담는다.
B11: 2. 보존식은 소독된 보존식 전용 용기에 담아 섞이지 않도록 한다.
B12: 3. 보존식 기록지에 배식된 음식명및 날짜를 명시한다.
B13: 4. -18℃이하로 144시간 냉동보관한다.
A14: o : 양호 △ : 보통 X : 나쁨(없음) 검식자 : 영양사 송기옥
A15: 메 뉴 상태 | D15: 익힌 정도 | E15: 이물,이취감 | F15: 음식의 맛 | G15: 음식의 완성온도 | I15: 전체적인 조화
A16: 조 식 | B16: =C5 -> 잡곡밥/야채죽
B17: =D5 -> 두부호박된장국
B18: =E5 -> 건다래순볶음
B19: =F5 -> 콩고기불고기
B20: =G5 -> 김구이
B21: =H5 -> 배추김치
B22: =I5 -> #REF!
A23: 중 식 | B23: =C6 -> 잡곡밥/흑임자죽
B24: =D6 -> 감자어묵국
B25: =E6 -> 찜닭
B26: =F6 -> 콩나물무침
B27: =G6 -> 백목이버섯냉채
B28: =H6 -> 배추김치
B29: =I6 -> #REF!
A30: 석 식 | B30: =C7 -> 잡곡밥/계란야채죽
B31: =D7 -> 유부김치국
B32: =E7 -> 모듬콩자반
B33: =F7 -> 오이지무침
B34: =G7 -> 불고기낙지볶음
B35: =H7 -> 배추김치
B36: =I7 -> #REF!
A37: 간 식 | B37: =화!R12 -> 두유
B38: =화!R14 -> 곡물과자,음료

Sheet 수보검
A1: 보존식 기록대장 및 검식일지
A3: 보존일 | B3: =수!C5 -> 44608
A4: 식단 | B4: 구분 | C4: 주식 | D4: 국 | E4: 찬1 | F4: 찬2 | G4: 찬3 | H4: 김치 | I4: 연식
B5: 조식 | C5: =+수!C10 -> 잡곡밥/참깨죽 | D5: =+수!C11 -> 황태콩나물국 | E5: =+수!C12 -> 꼴뚜기젓무침 | F5: =+수!C13 -> 토마토계란스크럼블 | G5: =+수!C14 -> 김구이 | H5: =+수!C15 -> 배추김치 | I5: =+수!#REF! -> #REF!
B6: 중식 | C6: =+수!F10 -> 잡곡밥/호박씨죽 | D6: =+수!F11 -> 콩비지국 | E6: =+수!F12 -> 방어조림 | F6: =+수!F13 -> 야채비빔만두 | G6: =+수!F14 -> 느타리버섯볶음 | H6: =+수!F15 -> 배추김치 | I6: =+수!#REF! -> #REF!
B7: 석식 | C7: =+수!I10 -> 잡곡밥/냉이된장죽 | D7: =+수!I11 -> 알탕 | E7: =+수!I12 -> 무화과연근조림 | F7: =+수!I13 -> 돈육냉이볶음 | G7: =+수!I14 -> 곰피무침 | H7: =+수!I15 -> 배추김치 | I7: =+수!#REF! -> #REF!
A8: 검취자 | B8: 조리사 | F8: 간식 | G8: =+주간식단표!E23 -> 유산균음료 | H8: =+주간식단표!E24 -> 연시
A9: 폐기일 | B9: =$B$3+6 -> 44614
A10: 관리기준 | B10: 1. 조리 종료 후 음식별로 150g 정도의 양을 소독된 도구를 이용하여 담는다.
B11: 2. 보존식은 소독된 보존식 전용 용기에 담아 섞이지 않도록 한다.
B12: 3. 보존식 기록지에 배식된 음식명및 날짜를 명시한다.
B13: 4. -18℃이하로 144시간 냉동보관한다.
A14: o : 양호 △ : 보통 X : 나쁨(없음) 검식자 : 영양사 송기옥
A15: 메 뉴 상태 | D15: 익힌 정도 | E15: 이물,이취감 | F15: 음식의 맛 | G15: 음식의 완성온도 | I15: 전체적인 조화
A16: 조 식 | B16: =C5 -> 잡곡밥/참깨죽
B17: =D5 -> 황태콩나물국
B18: =E5 -> 꼴뚜기젓무침
B19: =F5 -> 토마토계란스크럼블
B20: =+G5 -> 김구이
B21: =+H5 -> 배추김치
B22: =I5 -> #REF!
A23: 중 식 | B23: =C6 -> 잡곡밥/호박씨죽
B24: =D6 -> 콩비지국
B25: =E6 -> 방어조림
B26: =F6 -> 야채비빔만두
B27: =G6 -> 느타리버섯볶음
B28: =H6 -> 배추김치
B29: =I6 -> #REF!
A30: 석 식 | B30: =C7 -> 잡곡밥/냉이된장죽
B31: =D7 -> 알탕
B32: =E7 -> 무화과연근조림
B33: =F7 -> 돈육냉이볶음
B34: =G7 -> 곰피무침
B35: =H7 -> 배추김치
B36: =I7 -> #REF!
A37: 간 식 | B37: =+수!R12 -> 요구르트
B38: =수!R14 -> 연시

Sheet 목보검
A1: 보존식 기록대장 및 검식일지
A3: 보존일 | B3: =목!C5 -> 44609
A4: 식단 | B4: 구분 | C4: 주식 | D4: 국 | E4: 찬1 | F4: 찬2 | G4: 찬3 | H4: 김치 | I4: 연식
B5: 조식 | C5: =+목!C10 -> 잡곡밥/호두죽 | D5: =+목!C11 -> 홍합두부탕국 | E5: =+목!C12 -> 훈제오리참나물무침 | F5: =+목!C13 -> 민들레나물볶음 | G5: =+목!C14 -> 김구이 | H5: =+목!C15 -> 배추김치 | I5: =+목!#REF! -> #REF!
B6: 중식 | C6: =+목!F10 -> 잡곡밥/홍합야채죽 | D6: =+목!F11 -> 계란국 | E6: =+목!F12 -> 하이라이스 | F6: =+목!F13 -> 삼치구이 | G6: =+목!F14 -> 어묵콩나물찜 | H6: =+목!F15 -> 배추김치 | I6: =+목!#REF! -> #REF!
B7: 석식 | C7: =+목!I10 -> 잡곡밥/흑임자죽 | D7: =+목!I11 -> 바지락쑥국 | E7: =+목!I12 -> 쇠고기팽이볶음 | F7: =+목!I13 -> 상추샐러드 | G7: =+목!I14 -> 민물새우무조림 | H7: =+목!I15 -> 배추김치 | I7: =+목!#REF! -> #REF!
A8: 검취자 | B8: 조리사 | F8: 간식 | G8: =+주간식단표!F23 -> 고단백질음료 | H8: =+주간식단표!F24 -> 크림슨포도
A9: 폐기일 | B9: =$B$3+6 -> 44615
A10: 관리기준 | B10: 1. 조리 종료 후 음식별로 150g 정도의 양을 소독된 도구를 이용하여 담는다.
B11: 2. 보존식은 소독된 보존식 전용 용기에 담아 섞이지 않도록 한다.
B12: 3. 보존식 기록지에 배식된 음식명및 날짜를 명시한다.
B13: 4. -18℃이하로 144시간 냉동보관한다.
A14: o : 양호 △ : 보통 X : 나쁨(없음) 검식자 : 영양사 송기옥
A15: 메 뉴 상태 | D15: 익힌 정도 | E15: 이물,이취감 | F15: 음식의 맛 | G15: 음식의 완성온도 | I15: 전체적인 조화
A16: 조 식 | B16: =C5 -> 잡곡밥/호두죽
B17: =D5 -> 홍합두부탕국
B18: =E5 -> 훈제오리참나물무침
B19: =F5 -> 민들레나물볶음
B20: =+G5 -> 김구이
B21: =+H5 -> 배추김치
B22: =+I5 -> #REF!
A23: 중 식 | B23: =C6 -> 잡곡밥/홍합야채죽
B24: =D6 -> 계란국
B25: =E6 -> 하이라이스
B26: =F6 -> 삼치구이
B27: =G6 -> 어묵콩나물찜
B28: =H6 -> 배추김치
B29: =I6 -> #REF!
A30: 석 식 | B30: =C7 -> 잡곡밥/흑임자죽
B31: =D7 -> 바지락쑥국
B32: =E7 -> 쇠고기팽이볶음
B33: =F7 -> 상추샐러드
B34: =G7 -> 민물새우무조림
B35: =H7 -> 배추김치
B36: =+I7 -> #REF!
A37: 간 식 | B37: =목!R12 -> 단백질음료
B38: =목!R14 -> 크림슨포도

Sheet 금보검
A1: 보존식 기록대장 및 검식일지
A3: 보존일 | B3: =금!C5 -> 44610
A4: 식단 | B4: 구분 | C4: 주식 | D4: 국 | E4: 찬1 | F4: 찬2 | G4: 찬3 | H4: 김치 | I4: 연식
B5: 조식 | C5: =+금!C10 -> 잡곡밥/계란죽 | D5: =+금!C11 -> 조갯살미역국 | E5: =+금!C12 -> 비엔나마늘쫑조림 | F5: =+금!C13 -> 가지민찌굴소스볶음 | G5: =+금!C14 -> 김구이 | H5: =+금!C15 -> 배추김치 | I5: =+금!#REF! -> #REF!
B6: 중식 | C6: =+금!F10 -> 잡곡밥/흑임자죽 | D6: =+금!F11 -> 버섯수제비국 | E6: =+금!F12 -> 시래기지짐 | F6: =+금!F13 -> 물파래무침 | G6: =+금!F14 -> 돈육파채볶음 | H6: =+금!F15 -> 배추김치 | I6: =+금!#REF! -> #REF!
B7: 석식 | C7: =+금!I10 -> 잡곡밥/쇠고기야채죽 | D7: =+금!I11 -> 쇠고기토란탕 | E7: =+금!I12 -> 코다리엿장조림 | F7: =+금!I13 -> 새송이깻잎무침 | G7: =+금!I14 -> 고구마곤약조림 | H7: =+금!I15 -> 배추김치 | I7: =+금!#REF! -> #REF!
A8: 검취자 | B8: 조리사 | F8: 간식 | G8: =+주간식단표!G23 -> 요거트 | H8: =+주간식단표!G24 -> 팬케잌,우유
A9: 폐기일 | B9: =$B$3+6 -> 44616
A10: 관리기준 | B10: 1. 조리 종료 후 음식별로 150g 정도의 양을 소독된 도구를 이용하여 담는다.
B11: 2. 보존식은 소독된 보존식 전용 용기에 담아 섞이지 않도록 한다.
B12: 3. 보존식 기록지에 배식된 음식명및 날짜를 명시한다.
B13: 4. -18℃이하로 144시간 냉동보관한다.
A14: o : 양호 △ : 보통 X : 나쁨(없음) 검식자 : 영양사 송기옥
A15: 메 뉴 상태 | D15: 익힌 정도 | E15: 이물,이취감 | F15: 음식의 맛 | G15: 음식의 완성온도 | I15: 전체적인 조화
A16: 조 식 | B16: =C5 -> 잡곡밥/계란죽
B17: =D5 -> 조갯살미역국
B18: =E5 -> 비엔나마늘쫑조림
B19: =F5 -> 가지민찌굴소스볶음
B20: =+G5 -> 김구이
B21: =+H5 -> 배추김치
B22: =I5 -> #REF!
A23: 중 식 | B23: =C6 -> 잡곡밥/흑임자죽
B24: =D6 -> 버섯수제비국
B25: =E6 -> 시래기지짐
B26: =F6 -> 물파래무침
B27: =G6 -> 돈육파채볶음
B28: =H6 -> 배추김치
B29: =I6 -> #REF!
A30: 석 식 | B30: =C7 -> 잡곡밥/쇠고기야채죽
B31: =D7 -> 쇠고기토란탕
B32: =E7 -> 코다리엿장조림
B33: =F7 -> 새송이깻잎무침
B34: =G7 -> 고구마곤약조림
B35: =H7 -> 배추김치
B36: =+I7 -> #REF!
A37: 간 식 | B37: =금!R12 -> 요플레
B38: =금!R14 -> 팬케잌,우유

Sheet 토보검
A1: 보존식 기록대장 및 검식일지
A3: 보존일 | B3: =토!C5 -> 44611
A4: 식단 | B4: 구분 | C4: 주식 | D4: 국 | E4: 찬1 | F4: 찬2 | G4: 찬3 | H4: 김치 | I4: 연식
B5: 조식 | C5: =+토!C10 -> 잡곡밥/아몬드죽 | D5: =+토!C11 -> 들깨무채국 | E5: =+토!C12 -> 차돌숙주볶음 | F5: =+토!C13 -> 톳두부무침 | G5: =+토!C14 -> 김구이 | H5: =+토!C15 -> 배추김치 | I5: =+토!#REF! -> #REF!
B6: 중식 | C6: =+토!F10 -> 잡곡밥/참깨죽 | D6: =+토!F11 -> 등뼈우거지탕 | E6: =+토!F12 -> 오복지무침 | F6: =+토!F13 -> 고등어조림 | G6: =+토!F14 -> 해초무쌈샐러드 | H6: =+토!F15 -> 배추김치 | I6: =+토!#REF! -> #REF!
B7: 석식 | C7: =+토!I10 -> 잡곡밥/브로콜리죽 | D7: =+토!I11 -> 오징어무국 | E7: =+토!I12 -> 돈사태무조림 | F7: =+토!I13 -> 마늘잎건새우볶음 | G7: =+토!I14 -> 브로콜리흑임자소스무침 | H7: =+토!I15 -> 배추김치 | I7: =+토!#REF! -> #REF!
A8: 검취자 | B8: 조리사 | F8: 간식 | G8: =+주간식단표!H23 -> 두유 | H8: =+주간식단표!H24 -> 쿠키,우유
A9: 폐기일 | B9: =$B$3+6 -> 44617
A10: 관리기준 | B10: 1. 조리 종료 후 음식별로 150g 정도의 양을 소독된 도구를 이용하여 담는다.
B11: 2. 보존식은 소독된 보존식 전용 용기에 담아 섞이지 않도록 한다.
B12: 3. 보존식 기록지에 배식된 음식명및 날짜를 명시한다.
B13: 4. -18℃이하로 144시간 냉동보관한다.
A14: o : 양호 △ : 보통 X : 나쁨(없음) 검식자 : 조리원
A15: 메 뉴 상태 | D15: 익힌 정도 | E15: 이물,이취감 | F15: 음식의 맛 | G15: 음식의 완성온도 | I15: 전체적인 조화
A16: 조 식 | B16: =C5 -> 잡곡밥/아몬드죽
B17: =D5 -> 들깨무채국
B18: =E5 -> 차돌숙주볶음
B19: =F5 -> 톳두부무침
B20: =G5 -> 김구이
B21: =+H5 -> 배추김치
B22: =+I5 -> #REF!
A23: 중 식 | B23: =C6 -> 잡곡밥/참깨죽
B24: =D6 -> 등뼈우거지탕
B25: =E6 -> 오복지무침
B26: =F6 -> 고등어조림
B27: =G6 -> 해초무쌈샐러드
B28: =H6 -> 배추김치
B29: =I6 -> #REF!
A30: 석 식 | B30: =C7 -> 잡곡밥/브로콜리죽
B31: =D7 -> 오징어무국
B32: =E7 -> 돈사태무조림
B33: =F7 -> 마늘잎건새우볶음
B34: =G7 -> 브로콜리흑임자소스무침
B35: =+H7 -> 배추김치
B36: =+I7 -> #REF!
A37: 간 식 | B37: =토!R12 -> 두유
B38: =토!R14 -> 쿠키,우유

Sheet 일보검
A1: 보존식 기록대장 및 검식일지
A3: 보존일 | B3: =일!C5 -> 44612
A4: 식단 | B4: 구분 | C4: 주식 | D4: 국 | E4: 찬1 | F4: 찬2 | G4: 찬3 | H4: 김치 | I4: 연식
B5: 조식 | C5: =+일!C10 -> 잡곡밥/야채죽 | D5: =+일!C11 -> 연두계란국 | E5: =+일!C12 -> 가오리찜 | F5: =+일!C13 -> 고구마줄기볶음 | G5: =+일!C14 -> 김구이 | H5: =+일!C15 -> 배추김치 | I5: =+일!#REF! -> #REF!
B6: 중식 | C6: =+일!F10 -> 잡곡밥/해바라기씨죽 | D6: =+일!F11 -> 감자국 | E6: =+일!F12 -> 시금치소불고기 | F6: =+일!F13 -> 오이무침 | G6: =+일!F14 -> 맛살유부냉채 | H6: =+일!F15 -> 배추김치 | I6: =+일!#REF! -> #REF!
B7: 석식 | C7: =+일!I10 -> 잡곡밥/시금치된장죽 | D7: =+일!I11 -> 배추된장국 | E7: =+일!I12 -> 닭가슴살그린빈스볶음 | F7: =+일!I13 -> 참나물무침 | G7: =+일!I14 -> 두부멸치조림 | H7: =+일!I15 -> 배추김치 | I7: =+일!#REF! -> #REF!
A8: 검취자 | B8: 조리사 | F8: 간식 | G8: =+주간식단표!I23 -> 유산균음료 | H8: =+주간식단표!I24 -> 찐고구마,요구르트
A9: 폐기일 | B9: =$B$3+6 -> 44618
A10: 관리기준 | B10: 1. 조리 종료 후 음식별로 150g 정도의 양을 소독된 도구를 이용하여 담는다.
B11: 2. 보존식은 소독된 보존식 전용 용기에 담아 섞이지 않도록 한다.
B12: 3. 보존식 기록지에 배식된 음식명및 날짜를 명시한다.
B13: 4. -18℃이하로 144시간 냉동보관한다.
A14: o : 양호 △ : 보통 X : 나쁨(없음) 검식자 : 조리원
A15: 메 뉴 상태 | D15: 익힌 정도 | E15: 이물,이취감 | F15: 음식의 맛 | G15: 음식의 완성온도 | I15: 전체적인 조화
A16: 조 식 | B16: =C5 -> 잡곡밥/야채죽
B17: =D5 -> 연두계란국
B18: =E5 -> 가오리찜
B19: =F5 -> 고구마줄기볶음
B20: =G5 -> 김구이
B21: =H5 -> 배추김치
B22: =I5 -> #REF!
A23: 중 식 | B23: =C6 -> 잡곡밥/해바라기씨죽
B24: =D6 -> 감자국
B25: =E6 -> 시금치소불고기
B26: =F6 -> 오이무침
B27: =G6 -> 맛살유부냉채
B28: =H6 -> 배추김치
B29: =I6 -> #REF!
A30: 석 식 | B30: =C7 -> 잡곡밥/시금치된장죽
B31: =D7 -> 배추된장국
B32: =E7 -> 닭가슴살그린빈스볶음
B33: =F7 -> 참나물무침
B34: =G7 -> 두부멸치조림
B35: =H7 -> 배추김치
B36: =I7 -> #REF!
A37: 간 식 | B37: =일!R12 -> 유산균음료
B38: =일!R14 -> 찐고구마,요구르트

Sheet 보존식 기록지
G1: 보존식 기록 일지
A3: 보존일 | B3: =월보검!B3 -> 44606 | F3: 시간 : 7시10 | G3: 보존일 | H3: =화보검!B3 -> 44607 | L3: 시간 : 7시10
B4: =+월보검!B16 -> 잡곡밥/호박씨죽 | H4: =+화!C10 -> 잡곡밥/야채죽
B5: =+월보검!B17 -> 크림스프 | H5: =+화!C11 -> 두부호박된장국
A6: 아침 | B6: =+월보검!B18 -> 다진쇠고기야채볶음 | G6: 아침 | H6: =+화!C12 -> 건다래순볶음
B7: =+월보검!B19 -> 참치감자조림 | H7: =+화!C13 -> 콩고기불고기
B8: =+월보검!B20 -> 김구이 | H8: =+화!C14 -> 김구이
B9: =+월보검!B21 -> 배추김치 | H9: =+화!C15 -> 배추김치
B10: =+주간식단표!C23 -> 요거트 | H10: =+주간식단표!D23 -> 두유
A11: 담당자 | B11: 영 양 사 | D11: 반입시간 | E11: 7시10 | G11: 담당자 | H11: 영 양 사 | J11: 반입시간 | K11: 7시10
A12: 폐기일 | B12: =B3+6 -> 44612 | G12: 폐기일 | H12: =H3+6 -> 44613
A13: 보존일 | B13: =B3 -> 44606 | F13: 시간 : 11시30 | G13: 보존일 | H13: =H3 -> 44607 | L13: 시간 : 11시30
B14: =+월보검!B23 -> 오곡밥/쇠고기야채죽 | H14: =+화!F10 -> 잡곡밥/흑임자죽
B15: =+월보검!B24 -> 쇠고기무우국 | H15: =+화!F11 -> 감자어묵국
A16: 점심 | B16: =+월보검!B26 -> 부지갱이나물 | G16: 점심 | H16: =+화!F12 -> 찜닭
B17: =+월보검!B27 -> 조기구이 | H17: =+화!F13 -> 콩나물무침
B18: =+월보검!B25 -> 아주까리나물볶음 | H18: =+화!F14 -> 백목이버섯냉채
B19: =+월보검!B28 -> 배추김치 | H19: =+화!F15 -> 배추김치
B20: =+주간식단표!C24 -> 야채쥬스 | H20: =+주간식단표!D24 -> 곡물과자,음료
A21: 담당자 | B21: 영 양 사 | D21: 반입시간 | E21: 11시30 | G21: 담당자 | H21: 영 양 사 | J21: 반입시간 | K21: 11시30
A22: 폐기일 | B22: =B12 -> 44612 | G22: 폐기일 | H22: =H12 -> 44613
A23: 보존일 | B23: =B3 -> 44606 | F23: 시간 : 4시30 | G23: 보존일 | H23: =H3 -> 44607 | L23: 시간 : 4시30
A24: 저녁 | B24: =+월보검!B30 -> 잡곡밥/참치야채죽 | G24: 저녁 | H24: =+화!I10 -> 잡곡밥/계란야채죽
B25: =+월보검!B31 -> 아욱국 | H25: =+화!I11 -> 유부김치국
B26: =+월보검!B32 -> 고사리볶음 | H26: =+화!I12 -> 모듬콩자반
B27: =+월보검!B33 -> 유채된장무침 | H27: =+화!I13 -> 오이지무침
B28: =+월보검!B34 -> 돈육메추리알장조림 | H28: =+화!I14 -> 불고기낙지볶음
B29: =+월보검!B35 -> 배추김치 | H29: =+화!I15 -> 배추김치
A31: 담당자 | B31: 영 양 사 | D31: 반입시간 | E31: 4시30 | G31: 담당자 | H31: 영 양 사 | J31: 반입시간 | K31: 4시30
A32: 폐기일 | B32: =B12 -> 44612 | G32: 폐기일 | H32: =H12 -> 44613
D33: 확인자 : 송기옥 | J33: 확인자 : 송기옥
A36: 보존식 기록 일지 | G36: 보존식 기록 일지
A38: 보존일 | B38: =수보검!B3 -> 44608 | F38: 시간 : 7시10 | G38: 보존일 | H38: =목보검!B3 -> 44609 | L38: 시간 : 7시10
A39: 아침 | B39: =+수보검!B16 -> 잡곡밥/참깨죽 | G39: 아침 | H39: =+목보검!C5 -> 잡곡밥/호두죽
B40: =+수보검!B17 -> 황태콩나물국 | H40: =+목보검!D5 -> 홍합두부탕국
B41: =+수보검!B18 -> 꼴뚜기젓무침 | H41: =+목보검!E5 -> 훈제오리참나물무침
B42: =+수보검!B19 -> 토마토계란스크럼블 | H42: =+목보검!F5 -> 민들레나물볶음
B43: =+수보검!B20 -> 김구이 | H43: =+목보검!G5 -> 김구이
B44: =+수보검!B21 -> 배추김치 | H44: =+목보검!H5 -> 배추김치
B45: =+주간식단표!E23 -> 유산균음료 | H45: =+주간식단표!F23 -> 고단백질음료
...

Sheet Sheet2
