Workbook

Sheet 예산총칙

Sheet 세입세출총괄표
B2: Ｉ. 2021년 고은노인요양원 세입.세출총괄표 | K2: (단위:원)
B3: 세 입 | G3: 세 출
B4: 관 | C4: 항 | D4: 2021년당초 추경 | E4: 2020년 4회추경 | F4: 증감(▲/▽) | G4: 관 | H4: 항 | I4: 2021년 당초추경 | J4: 2020년 4회추경 | K4: 증감(▲/▽)
B5: 총 계 | D5: =D6+D8+D9+D10+D11+D12+D13+D14+D15 -> 539669923 | E5: ='20201년당초추경 세입'!H7 -> 534141670 | F5: =D5-E5 -> 5528253 | G5: 총 계 | I5: ='2021년당초추경 세출'!D8 -> 539669923 | J5: ='2021년당초추경 세출'!H8 -> 534141670 | K5: =I5-J5 -> 5528253 | L5: =D5-I5 -> 0
B6: 01 입소자 (이용자) 부담금수입 | C6: 11 입소(이용) 비용수입 | D6: ='20201년당초추경 세입'!D8 -> 50088000 | E6: ='20201년당초추경 세입'!H8 -> 47688000 | F6: =D6-E6 -> 2400000 | G6: 01 사무비 | H6: 11 인건비 | I6: ='2021년당초추경 세출'!D9 -> 347027580 | J6: ='2021년당초추경 세출'!H9 -> 355363580 | K6: =I6-J6 -> -8336000
B7: 02 사업수입 | C7: 21 사업수입 | D7: 0 | E7: 0 | F7: - | H7: 12 업무추진비 | I7: ='2021년당초추경 세출'!D31 -> 15948000 | J7: ='2021년당초추경 세출'!H31 -> 15948000 | K7: =I7-J7 -> 0
B8: 03 과년도수입 | C8: 31 과년도수입 | D8: =0/1000 -> 0 | E8: 0 | F8: -
B9: 04 보조금수입 | C9: 41 보조금수입 | D9: ='20201년당초추경 세입'!D17 -> 20856000 | E9: ='20201년당초추경 세입'!H17 -> 20856000 | F9: =D9-E9 -> 0 | H9: 13 운영비 | I9: ='2021년당초추경 세출'!D40 -> 37146000 | J9: ='2021년당초추경 세출'!H40 -> 35046000 | K9: =I9-J9 -> 2100000
B10: 05 후원금수입 | C10: 51 후원금수입 | D10: ='20201년당초추경 세입'!D22 -> 1600000 | E10: ='20201년당초추경 세입'!H22 -> 3600000 | F10: =D10-E10 -> -2000000 | G10: 02 재산조성비 | H10: 21 시설비 | I10: ='2021년당초추경 세출'!D64 -> 20300000 | J10: ='2021년당초추경 세출'!H64 -> 21500000 | K10: =I10-J10 -> -1200000
B11: 06 요양급여수입 | C11: 61 요양급여수입 | D11: ='20201년당초추경 세입'!D27 -> 418800000 | E11: ='20201년당초추경 세입'!H27 -> 394800000 | F11: =D11-E11 -> 24000000 | G11: 03 사업비 | H11: 31 운영비 | I11: ='2021년당초추경 세출'!D75 -> 114788453 | J11: ='2021년당초추경 세출'!H75 -> 103788842 | K11: =I11-J11 -> 10999611
B12: 07 차입금 | C12: 71 차입금 | D12: =0/1000 -> 0 | E12: 0 | F12: - | H12: 33 일반사업비 | I12: ='2021년당초추경 세출'!D87 -> 450000 | J12: ='2021년당초추경 세출'!H87 -> 450000 | K12: =I12-J12 -> 0
B13: 08 전입금 | C13: 81 전입금 | D13: ='20201년당초추경 세입'!D38 -> 0 | E13: ='20201년당초추경 세입'!H38 -> 0 | F13: =D13-E13 -> 0 | G13: 04 전출금 | H13: 41 전출금 | I13: ='2021년당초추경 세출'!D91 -> 0 | J13: ='2021년당초추경 세출'!H91 -> 0 | K13: -
B14: 09 이월금 | C14: 91 이월금 | D14: ='20201년당초추경 세입'!D43 -> 25005923 | E14: ='20201년당초추경 세입'!H43 -> 42855670 | F14: =D14-E14 -> -17849747 | G14: 05 과년도지출 | H14: 05 과년도지출 | I14: ='2021년당초추경 세출'!D95 -> 0 | J14: ='2021년당초추경 세출'!H95 -> 0 | K14: =I14-J14 -> 0
B15: 10 잡수입 | C15: 101 잡수입 | D15: ='20201년당초추경 세입'!D48 -> 23320000 | E15: ='20201년당초추경 세입'!H48 -> 24342000 | F15: =D15-E15 -> -1022000 | G15: 06 상환금 | H15: 61 부채상환금 | I15: =0/1000 -> 0 | J15: 0 | K15: -
B16: 11 적립금 및 준비금(특별회계) | C16: 111 운영충당 적립금 및 환경개선준비금 | D16: 0 | E16: 0 | F16: 0 | G16: 07 잡지출 | H16: 71 잡지출 | I16: ='2021년당초추경 세출'!D102 -> 4004537 | J16: ='2021년당초추경 세출'!H102 -> 2040000 | K16: =I16-J16 -> 1964537
G17: 08 예비비및기타 | H17: 81 예비비및기타 | I17: ='2021년당초추경 세출'!D106 -> 5353 | J17: ='2021년당초추경 세출'!H106 -> 5248 | K17: =I17-J17 -> 105
G18: 10 운영충당적립금 | H18: 92 운영충당적립금 | I18: =0/1000 -> 0 | J18: =0/1000 -> 0
G19: 10 준비금 | H19: 101 환경개선준비금 | I19: =0/1000 -> 0 | J19: =0/1000 -> 0

Sheet 20201년당초추경 세입
A1: 2021년 고은노인요양원 당초예산 (안)
A2: □□ 2021년도 국민복지재단 고은노인요양원 세입예산(안)
M4: ( 단위 :원 )
A5: 과 목 | D5: 예산액 | E5: 재원구분(2021.당초 예산) | H5: 예산액 | I5: 재원구분(2020. 4회 추경) | L5: 증감 | M5: 산출기초
A6: 관 | B6: 항 | C6: 목 | E6: 보조금 | F6: 후원금 | G6: 자부담 | I6: 보조금 | J6: 후원금 | K6: 자부담
A7: 총 계 | D7: =SUM(D8+D13+D17+D22+D27+D33+D38+D43+D48) -> 539669923 | E7: =SUM(E8+E13+E17+E22+E27+E33+E38+E43+E48) -> 20861353 | F7: =SUM(F8+F13+F17+F22+F27+F33+F38+F43+F48) -> 1610570 | G7: =SUM(G8+G13+G17+G22+G27+G33+G38+G43+G48) -> 517198000 | H7: =SUM(I7:K7) -> 534141670 | I7: =I17+I43+I48 -> 20861248 | J7: =J22+J38+J43+J48 -> 3610959 | K7: =K8+K27+K38+K43+K48 -> 509669463 | L7: =SUM(D7-H7) -> 5528253 | N7: =SUM(N8+N13+N17+N22+N27+N33+N38+N43+N48) -> 539669923
A8: 01 입소자 부담금 수입 | B8: 소 계 | D8: =SUM(E8:G8) -> 50088000 | E8: =SUM(E9:E12) -> 0 | F8: =SUM(F9:F12) -> 0 | G8: =SUM(G9:G12) -> 50088000 | H8: =SUM(I8:K8) -> 47688000 | I8: 0 | J8: 0 | K8: =SUM(K9:K12) -> 47688000 | L8: =SUM(D8-H8) -> 2400000 | N8: =N9+N11 -> 50088000
B9: 11 입소비용 수입 | C9: 112 본인부담금 수입 | D9: =SUM(E9:G9) -> 30000000 | G9: =N9 -> 30000000 | H9: =SUM(I9:K9) -> 27600000 | K9: 27600000 | L9: =SUM(D9-H9) -> 2400000 | M9: *본인부담금수입 | N9: =N10 -> 30000000
M10: -2,500,000(9명 월평균)*12월 = | N10: 30000000
C11: 113 식재료비수입 | D11: =SUM(E11:G11) -> 20088000 | G11: =N11 -> 20088000 | H11: =SUM(I11:K11) -> 20088000 | K11: 20088000 | L11: =SUM(D11-H11) -> 0 | M11: *식재료비수입 | N11: =N12 -> 20088000
M12: -6.000원*31일* 9명 * 12회 | N12: 20088000
A13: 03 과년도 수입 | B13: 소 계 | D13: =SUM(E13:G13) -> 0 | E13: =SUM(E14:E16) -> 0 | F13: =SUM(F14:F16) -> 0 | G13: =SUM(G14:G16) -> 0 | H13: 0 | I13: 0 | J13: 0 | K13: 0 | L13: =SUM(D13-H13) -> 0 | N13: =N14 -> 0
B14: 31 과년도 수입 | C14: 311 과년도 수입 | D14: =SUM(E14:G14) -> 0 | E14: 0 | F14: 0 | G14: 0 | H14: =SUM(I14:K14) -> 0 | I14: 0 | J14: 0 | K14: 0 | N14: 0
A17: 04 보조금 수입 | B17: 소 계 | D17: =SUM(E17:G17) -> 20856000 | E17: =SUM(E18:E21) -> 20856000 | F17: =SUM(F18:F21) -> 0 | G17: =SUM(G18:G21) -> 0 | H17: =SUM(I17:K17) -> 20856000 | I17: =SUM(I18:I21) -> 20856000 | J17: 0 | K17: 0 | L17: =SUM(D17-H17) -> 0 | N17: =N18 -> 20856000
B18: 41 보조금 수입 | C18: 413 시군구보조금 수입 | D18: =SUM(E18:G18) -> 20856000 | E18: =N19+N20 -> 20856000 | F18: 0 | G18: =N21 | H18: =SUM(I18:K18) -> 20856000 | I18: 20856000 | J18: 0 | K18: 0 | L18: =SUM(D18-H18) -> 0 | M18: *경상보조금수입 | N18: =SUM(N19:N21) -> 20856000
M19: * 주부식비6명*30* 1700,000 * 12월 | N19: 20400000
M20: *활동대책비 3,8000원 * 6명 *1회, 특별위로금 38,000원* 6명*1회 | N20: 456000
A22: 05 후원금 수입 | B22: 소 계 | D22: =SUM(E22:G22) -> 1600000 | E22: =SUM(E23+E25) -> 0 | F22: =SUM(F23+F25) -> 1600000 | G22: =SUM(G23+G25) -> 0 | H22: =SUM(I22:K22) -> 3600000 | I22: 0 | J22: =SUM(J23:J26) -> 3600000 | K22: 0 | L22: =SUM(D22-H22) -> -2000000 | N22: =N23+N25 -> 1600000
B23: 51 후원금 수입 | C23: 511 지정후원금 | D23: =SUM(E23:G23) -> 1000000 | E23: 0 | F23: =N23 -> 1000000 | G23: 0 | H23: 0 | I23: 0 | J23: 1000000 | K23: 0 | M23: *지정후원금 | N23: 1000000
H24: 0 | M24: *500,000*2회 | N24: 1000000
C25: 512 비지정후원금 | D25: =SUM(E25:G25) -> 600000 | E25: 0 | F25: =N25 -> 600000 | G25: 0 | H25: =SUM(I25:K25) -> 2600000 | I25: 0 | J25: 2600000 | K25: 0 | L25: =SUM(D25-H25) -> -2000000 | M25: *비지정후원금 | N25: 600000
H26: 0 | M26: *지역사회 후원금 평균50,000원 * 12회 | N26: 600000
A27: 06 요양 급여 수입 | B27: 소 계 | D27: =SUM(E27:G27) -> 418800000 | E27: =SUM(E28:E32) -> 0 | F27: =SUM(F28:F32) -> 0 | G27: =SUM(G28:G32) -> 418800000 | H27: =SUM(I27:K27) -> 394800000 | I27: =SUM(I28:I32) -> 0 | J27: =SUM(J28:J32) -> 0 | K27: =SUM(K28:K32) -> 394800000 | L27: =SUM(D27-H27) -> 24000000 | N27: =N28+N31 -> 418800000
B28: 61 요양급여 수입 | C28: 611 장기요양급여 수입 | D28: =SUM(E28:G28) -> 360000000 | E28: 0 | F28: 0 | G28: =N28 -> 360000000 | H28: =SUM(I28:K28) -> 336000000 | I28: 0 | J28: 0 | K28: 336000000 | L28: =SUM(D28-H28) -> 24000000 | M28: *장기요양수가수입 | N28: =N29 -> 360000000
M29: 기초*6명,일반*2명,경감(8%)*5명,경감(12%)*1명,의료급여(10%)*1명 | N29: 360000000
M30: 장가근속수당
C31: 612 가산금 수입 | D31: =SUM(E31:G31) -> 58800000 | G31: =N31 -> 58800000 | H31: =SUM(I31:K31) -> 58800000 | I31: 0 | J31: 0 | K31: 58800000 | L31: =SUM(D31-H31) -> 0 | M31: *가산금 수입 | N31: =N32 -> 58800000
M32: 약4900,000원 *12= | N32: 58800000
A33: 07 차입금 | B33: 소계 | D33: =SUM(E33:G33) -> 0 | E33: =SUM(E34:E37) -> 0 | F33: =SUM(F34:F37) -> 0 | G33: =SUM(G34:G37) -> 0 | H33: =SUM(I33:K33) -> 0 | I33: =SUM(I34:I37) -> 0 | J33: =SUM(J34:J37) -> 0 | K33: =SUM(K34:K37) -> 0 | L33: =SUM(D33-H33) -> 0 | N33: =N36 -> 0
B34: 71 차입금 | C34: 711 금융기관차입 | D34: =SUM(E34:G34) -> 0 | E34: 0 | F34: 0 | G34: 0 | H34: =SUM(I34:K34) -> 0 | I34: 0 | J34: 0 | K34: 0 | N34: 0
C36: 712 기타차입금 | D36: =SUM(E36:G36) -> 0 | E36: 0 | F36: 0 | G36: 0 | H36: =SUM(I36:K36) -> 0 | I36: 0 | J36: 0 | K36: 0 | N36: =SUM(N37) -> 0
N37: 0
A38: 08 전입금 | B38: 소계 | D38: =SUM(E38:G38) -> 0 | E38: =SUM(E39:E42) -> 0 | F38: =SUM(F39:F42) -> 0 | G38: =G39 -> 0 | H38: =SUM(I38:K38) -> 0 | I38: =I39+I41 -> 0 | J38: =J39+J41 -> 0 | K38: =K39+K41 -> 0 | L38: =SUM(D38-H38) -> 0 | N38: =N39+N41 -> 0
B39: 81 전입금 | C39: 811 전입금 | D39: =E39+F39+G39 -> 0 | E39: 0 | F39: 0 | G39: =N40 -> 0 | H39: =SUM(I39:K39) -> 0 | I39: 0 | J39: 0 | K39: 0 | L39: - | N39: =N40 -> 0
N40: 0
C41: 812 전입후원금 (후원금) | D41: =SUM(E41:G41) -> 0 | E41: 0 | F41: =N41 -> 0 | G41: 0 | H41: =SUM(I41:K41) -> 0 | I41: 0 | J41: 0 | K41: 0 | L41: =SUM(D41-H41) -> 0 | N41: =N42 -> 0
M42: 0 | N42: 0
A43: 09 이월금 | B43: 소계 | D43: =SUM(E43:G43) -> 25005923 | E43: =SUM(E44:E47) -> 353 | F43: =SUM(F44:F47) -> 5570 | G43: =SUM(G44:G47) -> 25000000 | H43: =SUM(I43:K43) -> 42855670 | I43: =SUM(I44:I47) -> 248 | J43: =SUM(J44:J47) -> 5959 | K43: =SUM(K44:K47) -> 42849463 | L43: =SUM(D43-H43) -> -17849747 | N43: =SUM(N44:N47) -> 25005923
B44: 91 이월금 | C44: 911 전년도이월금 | D44: =SUM(E44:G45) -> 25000353 | E44: =N45 -> 353 | F44: 0 | G44: =N44 -> 25000000 | H44: =SUM(I44:K45) -> 42849711 | I44: 248 | J44: 0 | K44: 42849463 | L44: =SUM(D44-H44) -> -17849358 | M44: *전년도 이월금(자부담) | N44: 25000000
M45: *전년도 이월금(보조금)-예금이자수입 | N45: 353
C46: 912 전년도이월금 (후원금) | D46: =SUM(E46:G47) -> 5570 | E46: 0 | F46: 5570 | G46: 0 | H46: =SUM(I46:K47) -> 5959 | I46: 0 | J46: 5959 | K46: 0 | L46: =SUM(D46-H46) -> -389 | M46: *전년도 이월금(후원금) | N46: 5570
L47: =SUM(D47-H47) -> 0
A48: 10 잡수입 | B48: 소 계 | D48: =SUM(E48:G48) -> 23320000 | E48: =SUM(E49:E54) -> 5000 | F48: =SUM(F49:F54) -> 5000 | G48: =SUM(G49:G54) -> 23310000 | H48: =SUM(I48:K48) -> 24342000 | I48: =I49+I53 -> 5000 | J48: =J49+J53 -> 5000 | K48: =SUM(K49:K54) -> 24332000 | L48: =SUM(D48-H48) -> -1022000 | N48: =N49+N53+N54 -> 23320000
B49: 101 잡수입 | C49: 1012 기타예금이자수입 | D49: =SUM(E49:G49) -> 40000 | E49: =N52 -> 5000 | F49: =N51 -> 5000 | G49: =N50 -> 30000 | H49: =SUM(I49:K49) -> 70000 | I49: 5000 | J49: 5000 | K49: 60000 | L49: =SUM(D49-H49) -> -30000 | M49: *기타예금이자수입 | N49: =SUM(N50:N52) -> 40000
M50: -기타예금이자수입 (자부담) | N50: 30000
M51: -기타예금이자수입 (후원금) | N51: 5000
M52: -기타예금이자수입 (보조금) | N52: 5000
C53: 1013 직원식재료비수입 | D53: =SUM(E53:G53) -> 5280000 | E53: 0 | F53: 0 | G53: =N53 -> 5280000 | H53: =SUM(I53:K53) -> 6272000 | I53: 0 | J53: 0 | K53: 6272000 | L53: =SUM(D53-H53) -> -992000 | M53: *직원식대비수입 - 40,000원(1식2000원*20일) * 11명*12월 = 5,280,000원 | N53: 5280000
C54: 1014 기타잡수입 | D54: =SUM(E54:G54) -> 18000000 | E54: 0 | F54: 0 | G54: =N54 -> 18000000 | H54: =SUM(I54:K54) -> 18000000 | I54: 0 | J54: 0 | K54: 18000000 | L54: =SUM(D54-H54) -> 0 | M54: *기타잡수입고용지원금900,000원(10*90,000*12)=10,800,000원 의료비부담청구금및카드할인수입 | N54: 18000000

Sheet 2021년당초추경 세출
A1: 2021년 고은노인요양원 당초예산 (안)
A3: □□ 2021년도 국민복지재단 고은노인요양원 세출예산(안)
G5: ='20201년당초추경 세입'!D7-'2021년당초추경 세출'!D8 -> 0 | M5: ( 단위 : 원 )
A6: 과 목 | D6: 예산액 | E6: 재원구분(2021. 당초 예산) | H6: 예산액 | I6: 재원구분(2020. 4회추경) | L6: 증감 | M6: 산출기초
A7: 관 | B7: 항 | C7: 목 | E7: 보조금 | F7: 후원금 | G7: 자부담 | I7: 보조금 | J7: 후원금 | K7: 자부담
A8: 총 계 | D8: =SUM(D9+D31+D40+D64+D75+D87+D91+D95+D98+D102+D106) -> 539669923 | E8: =SUM(E9+E31+E40+E64+E75+E87+E91+E95+E98+E102+E106) -> 20861353 | F8: =SUM(F9+F31+F40+F64+F75+F87+F91+F95+F98+F102+F106) -> 1610570 | G8: =SUM(G9+G31+G40+G64+G75+G87+G91+G95+G98+G102+G106) -> 517198000 | H8: =SUM(I8:K8) -> 534141670 | I8: =I64+I75+I106 -> 20861248 | J8: =J40+J75 -> 3610959 | K8: =K9+K31+K40+K64+K75+K87+K96+K102 -> 509669463 | L8: =D8-H8 -> 5528253 | N8: =SUM(N9+N31+N40+N64+N75+N87+N95+N98+N102+N106) -> 539669923
A9: 01 사무비 | B9: 소 계 | D9: =SUM(E9:G9) -> 347027580 | E9: =SUM(E10:E30) -> 0 | F9: =SUM(F10:F30) -> 0 | G9: =SUM(G10:G30) -> 347027580 | H9: =SUM(I9:K9) -> 355363580 | I9: - | J9: - | K9: =SUM(K10:K30) -> 355363580 | L9: =D9-H9 -> -8336000 | N9: =SUM(N10+N17+N23+N26) -> 347027580
B10: 11 인건비 | C10: 111 급여 | D10: =SUM(E10+F10+G10) -> 244108000 | E10: 0 | F10: 0 | G10: =N10 -> 244108000 | H10: =SUM(I10:K10) -> 256704000 | I10: - | J10: - | K10: 256704000 | L10: =SUM(D10-H10) -> -12596000 | M10: * 급여 계 | N10: =SUM(N11:N16) -> 244108000
M11: - 원장 | N11: 31156000
M12: - 사회복지사 | N12: 23916000
M13: - 간호조무사 | N13: 24420000
M14: - 요양보호사 | N14: 144264000
M15: -조리원 | N15: 20352000
M16: 0 | N16: 0
C17: 112 각종수당 | D17: =SUM(E17+F17+G17) -> 49039580 | E17: 0 | F17: 0 | G17: =N17 -> 49039580 | H17: =SUM(I17:K17) -> 48619580 | I17: - | J17: - | K17: 48619580 | L17: =SUM(D17-H17) -> 420000 | M17: * 각종수당(보수일람표에 준함) 계 | N17: =SUM(N18:N22) -> 49039580
M18: - 야간수당, 시간외수당 *종사자 복지수당(군수당) - | N18: 12939420
M19: - 처우개선비8*100,000*12,장기근속수당6*12,자체수당1*200,000*12 | N19: 16896000
M20: - 휴일수당 | N20: 13904160
M21: - 직원성과급(명절위로금(설,추석),특별포상 외) | N21: 5300000
M22: 0 | N22: 0
C23: 115 | D23: =SUM(E23+F23+G23) -> 28800000 | E23: 0 | F23: 0 | G23: =N23 -> 28800000 | H23: =SUM(I23:K24) -> 26400000 | I23: - | J23: - | K23: 26400000 | L23: =SUM(D23-H23) -> 2400000 | M23: * 퇴직적립금(1/12) 계 | N23: =SUM(N24:N25) -> 28800000
C24: 퇴직금 및 퇴직적립금 | M24: - 퇴직연금적립금 약2,400,000원 * 12월 | N24: 28800000
N25: 0
C26: 116 | D26: =SUM(E26+F26+G26) -> 25080000 | E26: 0 | F26: 0 | G26: =N26 -> 25080000 | H26: =SUM(I26:K26) -> 23640000 | I26: - | J26: - | K26: 23640000 | L26: =SUM(D26-H26) -> 1440000 | M26: * 사회보험부담비용 계 | N26: =SUM(N27:N30) -> 25080000
C27: 사회보험 부담비용 | M27: - 건강보험료, 장기요양보험료950,000원 * 12월 | N27: 11400000
M28: - 국민연금보험료 700,000원 *12월 | N28: 8400000
M29: - 고용보험료 250,000원 * 12월 | N29: 3000000
M30: - 산재보험료 190,000원 * 12월 | N30: 2280000
B31: 소 계 | D31: =SUM(E31:G31) -> 15948000 | E31: =SUM(E32:E39) -> 0 | F31: =SUM(F32:F39) -> 0 | G31: =SUM(G32:G39) -> 15948000 | H31: =SUM(I31:K31) -> 15948000 | I31: - | J31: - | K31: =SUM(K32:K39) -> 15948000 | L31: =SUM(D31-H31) -> 0 | M31: =SUM(M33:M39) -> 11800000 | N31: =SUM(N32+N34+N37) -> 15948000
B32: 12 업무 추진비 | C32: 121 기관운영비 | D32: =SUM(E32+F32+G32) -> 3848000 | E32: 0 | F32: 0 | G32: =N32 -> 3848000 | H32: =SUM(I32:K32) -> 3848000 | I32: - | J32: - | K32: 3848000 | L32: =SUM(D32-H32) -> 0 | M32: * 기관운영비 계 | N32: =SUM(N33:N33) -> 3848000
M33: - 기관운영비및 유관기관과 업무협의 등 각종경비 | N33: 3848000
C34: 122 직책보조비 | D34: =SUM(E34+F34+G34) -> 11800000 | E34: 0 | F34: 0 | G34: =N34 -> 11800000 | H34: =SUM(I34:K34) -> 11800000 | I34: - | J34: - | K34: 11800000 | L34: =SUM(D34-H34) -> 0 | M34: * 직책보조비 계 | N34: =SUM(N35:N36) -> 11800000
M35: 11800000 | N35: 11800000
C37: 123 회의비 | D37: =SUM(E37+F37+G37) -> 300000 | E37: 0 | F37: 0 | G37: =N37 -> 300000 | H37: =SUM(I37:K38) -> 300000 | I37: - | J37: - | K37: 300000 | L37: =SUM(D37-H37) -> 0 | M37: * 회의비 계 | N37: =SUM(N38:N39) -> 300000
M38: - 회의비(보호자,운영위원 간담회) 2회*150,000원 | N38: 300000
B40: 소 계 | D40: =SUM(E40:G40) -> 37146000 | E40: =SUM(E41:E63) -> 0 | F40: =SUM(F41:F63) -> 200000 | G40: =SUM(G41:G63) -> 36946000 | H40: =SUM(I40:K40) -> 35046000 | I40: - | J40: =J41+J44+J48+J54+J57+J60 -> 1200000 | K40: =SUM(K41:K63) -> 33846000 | L40: =SUM(D40-H40) -> 2100000 | N40: =SUM(N41+N44+N48+N54+N57+N60) -> 37146000
B41: 13 운영비 | C41: 131 여비 | D41: =SUM(E41+F41+G41) -> 2436000 | E41: 0 | F41: 0 | G41: =N41 -> 2436000 | H41: =SUM(I41:K41) -> 336000 | I41: - | J41: 0 | K41: 336000 | L41: =SUM(D41-H41) -> 2100000 | M41: * 여비 계 | N41: =N42+N43 -> 2436000
M42: -직원국내출장28,000원*12월 | N42: 336000
M43: -직원해외연수700,000*3명 | N43: 2100000
C44: 132 수용비및수수료 | D44: =SUM(E44+F44+G44) -> 4650000 | E44: 0 | F44: =N47 -> 200000 | G44: =SUM(N45:N46) -> 4450000 | H44: =SUM(I44:K44) -> 4650000 | I44: - | J44: 1200000 | K44: 3450000 | L44: =SUM(D44-H44) -> 0 | M44: * 수용비 및 수수료 계 | N44: =SUM(N45:N47) -> 4650000
M45: - 집기 및 사무용품구입비 | N45: 2450000
M46: - 각종사용료, 수수료(자부담) | N46: 2000000
M47: - 각종사용료, 수수료(후원금) | N47: 200000
C48: 133 공공요금 및 제세공과금 | D48: =SUM(E48+F48+G48) -> 16160000 | E48: 0 | F48: 0 | G48: =N48 -> 16160000 | H48: =SUM(I48:K48) -> 16160000 | I48: - | J48: 0 | K48: 16160000 | L48: =SUM(D48-H48) -> 0 | M48: * 공공요금, 제세공과금 계 | N48: =SUM(N49:N53) -> 16160000
M49: - 전기요금 약700,000원 * 12월 | N49: 8400000
M50: - 상하수도요금 약 100,000원 * 12월 | N50: 1200000
M51: - 인터넷/전화요금 약80,000원* 12월 | N51: 960000
M52: - TV수신요금 약 50,000원 * 12월 | N52: 600000
M53: - 각종제세공과금(각종 보험료 등) | N53: 5000000
C54: 135 | D54: =SUM(E54+F54+G54) -> 2900000 | E54: 0 | F54: 0 | G54: =N54 -> 2900000 | H54: =SUM(I54:K54) -> 2900000 | I54: 0 | J54: 0 | K54: 2900000 | L54: =SUM(D54-H54) -> 0 | M54: * 차량비 계 | N54: =SUM(N55:N56) -> 2900000
C55: 차량비 | M55: - 유류대200,000원*12월 | N55: 2400000
M56: -차량정비 250,000원*2회 | N56: 500000
C57: 136 | D57: =SUM(E57+F57+G57) -> 0 | E57: 0 | F57: 0 | G57: 0 | H57: =SUM(I57:K57) -> 0 | I57: 0 | J57: 0 | K57: 0 | L57: =SUM(D57-H57) -> 0 | N57: =N58+N59 -> 0
C58: 임차료 | N58: 0
N59: 0
C60: 137 기타운영비 | D60: =SUM(E60+F60+G60) -> 11000000 | E60: 0 | F60: 0 | G60: =N60 -> 11000000 | H60: =SUM(I60:K60) -> 11000000 | I60: 0 | J60: 0 | K60: 11000000 | L60: =SUM(D60-H60) -> 0 | M60: * 기타운영비 계 | N60: =SUM(N61:N63) -> 11000000
M61: -기타후생경비(직원회식200,000*12회) =2,400,000원 직원특수진단비(50,000원*7명) =4,200,000원 기타복리후생비(50,000원*12) = 600,000원 외기타경비=3,800,000원 | N61: 11000000
N63: 0
A64: 02 재산 조성비 | B64: 소 계 | D64: =SUM(E64:G64) -> 20300000 | E64: =SUM(E65:E74) -> 0 | F64: =SUM(F65:F74) -> 0 | G64: =SUM(G65:G74) -> 20300000 | H64: =SUM(I64:K64) -> 21500000 | I64: =SUM(I65:I74) -> 0 | J64: 0 | K64: =SUM(K65:K74) -> 21500000 | L64: =SUM(D64-H64) -> -1200000 | N64: =SUM(N65,N69,N73) -> 20300000
B65: 21 시설비 | C65: 211 시설비 | D65: =SUM(E65+F65+G65) -> 5000000 | E65: 0 | F65: 0 | G65: =N65+N68 -> 5000000 | H65: =SUM(I65:K65) -> 5000000 | I65: 0 | J65: - | K65: 5000000 | L65: =SUM(D65-H65) -> 0 | M65: * 시설비 자부담) 계 | N65: 5000000
M66: - 시설비(시설 증축 및 부대경비 5,000,000원 | N66: 5000000
N67: 0
M68: 0 | N68: 0
C69: 212 자산취득비 | D69: =SUM(E69+F69+G69) -> 8800000 | E69: 0 | F69: 0 | G69: =N69 -> 8800000 | H69: =SUM(I69:K69) -> 10000000 | I69: 0 | J69: 0 | K69: 10000000 | L69: =SUM(D69-H69) -> -1200000 | M69: *자산취득비 (자부담) 계 | N69: =SUM(N70:N72) -> 8800000
M70: -자산취득비(에어컨 구입대금 활부금, 각종직기구입드등 ) | N70: 8800000
N71: 0
K72: - | N72: 0
C73: 213 시설장비유지비 | D73: =SUM(E73+F73+G73) -> 6500000 | E73: 0 | F73: 0 | G73: =N73 -> 6500000 | H73: =SUM(I73:K73) -> 6500000 | I73: - | J73: - | K73: 6500000 | L73: =SUM(D73-H73) -> 0 | M73: * 시설장비유지비 계 | N73: =N74 -> 6500000
M74: - 각종시설유지보수비6,500,000원 | N74: 6500000
A75: 03 사업비 | B75: 소계 | D75: =SUM(E75:G75) -> 114788453 | E75: =SUM(E76:E86) -> 20856000 | F75: =SUM(F76:F86) -> 1410570 | G75: =SUM(G76:G86) -> 92521883 | H75: =SUM(I75:K75) -> 103788842 | I75: =SUM(I76:I86) -> 20856000 | J75: =SUM(J76:J86) -> 2410959 | K75: =SUM(K76:K86) -> 80521883 | L75: =SUM(D75-H75) -> 10999611 | N75: =SUM(N76+N79+N83+N85) -> 114788453
B76: 31 운영비 | C76: 311 생계비 | D76: =SUM(E76+F76+G76) -> 104628000 | E76: =N78 -> 20628000 | F76: 0 | G76: =N77 -> 84000000 | H76: =SUM(I76:K76) -> 92628000 | I76: 20628000 | J76: 0 | K76: 72000000 | L76: =SUM(D76-H76) -> 12000000 | M76: * 생계비 계 | N76: =SUM(N77:N78) -> 104628000
M77: - 주식및부식비(자부담)7,000,000*12 | N77: 84000000
M78: - 생계비1700,000(6명)*12 ,특별위로금38,000원*6명*1회(보조금) | N78: 20628000
C79: 312 수용기관경비 | D79: =SUM(E79+F79+G79) -> 7638570 | E79: =N82 -> 228000 | F79: =N81 -> 1410570 | G79: =N80 -> 6000000 | H79: =SUM(I79:K79) -> 8638959 | I79: 228000 | J79: 2410959 | K79: 6000000 | L79: =SUM(D79-H79) -> -1000389 | M79: * 수용기관경비 계 | N79: =SUM(N80:N82) -> 7638570
M80: -개인위생용품,생필품(자부담) 500,000*12 | N80: 6000000
M81: -개인위생용품,생필품(후원금) | N81: 1410570
M82: -활동대첵비(보조금) 38,000원*6*1회 | N82: 228000
C83: 314 의료비 | D83: =SUM(E83+F83+G83) -> 2021883 | E83: 0 | F83: 0 | G83: =N83 -> 2021883 | H83: =SUM(I83:K83) -> 2021883 | I83: 0 | K83: 2021883 | L83: =SUM(D83-H83) -> 0 | M83: * 의료비 계 | N83: =SUM(N84:N84) -> 2021883
M84: 비상상비약 * 50000원*12월=600,000원 의료페기물 * 30,000원*12월=360,000원 정기소독 * 70,000원*4회 =280,000원외 코로나방역 예비비= 781,883원 | N84: 2021883
C85: 315 장의비 | D85: =SUM(E85+F85+G85) -> 500000 | E85: 0 | G85: =N85 -> 500000 | H85: =SUM(I85:K85) -> 500000 | I85: 0 | J85: 0 | K85: 500000 | L85: =L83 -> 0 | M85: * 장의비 계 | N85: =SUM(N86:N86) -> 500000
M86: -입소자 장의비 500,000원 | N86: 500000
A87: 03 사업비 | B87: 소계 | D87: =SUM(E87:G87) -> 450000 | E87: =SUM(E88:E90) -> 0 | F87: =SUM(F88:F90) -> 0 | G87: =SUM(G88:G90) -> 450000 | H87: =SUM(I87:K87) -> 450000 | I87: 0 | J87: 0 | K87: =SUM(K88:K90) -> 450000 | L87: =SUM(D87-H87) -> 0 | N87: =N88 -> 450000
B88: 33 운영비 | C88: 331 프로그램 사업비 | D88: =SUM(E88+F88+G88) -> 450000 | E88: 0 | F88: 0 | G88: =N88 -> 450000 | H88: =SUM(I88:K88) -> 450000 | I88: - | J88: 0 | K88: 450000 | L88: =SUM(D88-H88) -> 0 | M88: * 프로그램사업비 계 | N88: =SUM(N89:N90) -> 450000
M89: *2,500원*15명*12월=450,000원 | N89: 450000
A91: 04 전출금 | B91: 소계 | D91: =SUM(E91:G91) -> 0 | E91: =SUM(E92:E94) -> 0 | F91: =SUM(F92:F94) -> 0 | G91: =N91 -> 0 | H91: =SUM(I91:K91) -> 0 | I91: - | J91: - | K91: - | N91: =SUM(N92) -> 0
B92: 41 전출금 | C92: 411 기타전출금 | D92: =SUM(E92+F92+G92) -> 0 | E92: 0 | F92: 0 | G92: =N92 -> 0 | H92: - | I92: - | J92: - | K92: -
A95: 05 과년도 지출 | B95: 소계 | D95: =SUM(E95:G95) -> 0 | E95: =SUM(E96:E97) -> 0 | F95: =SUM(F96:F97) -> 0 | G95: =SUM(G96:G97) -> 0 | H95: 0 | I95: - | J95: - | K95: =SUM(K96:K97) -> 0 | N95: =SUM(N96:N96) -> 0
B96: 51 과년도 | C96: 511 | D96: =SUM(E96+F96+G96) -> 0 | E96: 0 | F96: 0 | G96: =N96 -> 0 | H96: 0 | I96: 0 | J96: 0 | K96: 0 | L96: =SUM(D96-H96) -> 0 | N96: 0
C97: 과년도지출 | N97: 0
A98: 06 상환금 | B98: 소계 | D98: =SUM(D99:D101) -> 0 | E98: =SUM(E99:E101) -> 0 | F98: =SUM(F99:F101) -> 0 | G98: =SUM(G99:G101) -> 0 | H98: - | I98: - | J98: - | K98: - | N98: =SUM(N99) -> 0
B99: 61 부채 상환금 | C99: 611 | D99: =SUM(G99) -> 0 | E99: 0 | F99: 0 | G99: 0 | H99: - | I99: - | J99: - | K99: - | N99: =SUM(N100:N101) -> 0
C100: 원금상환금 | N100: 0
A102: 07 잡지출 | B102: 소계 | D102: =SUM(E102:G102) -> 4004537 | E102: =SUM(E103:E105) -> 0 | F102: =SUM(F103:F105) -> 0 | G102: =SUM(G103:G105) -> 4004537 | H102: =SUM(I102:K102) -> 2040000 | I102: - | J102: - | K102: =SUM(K103:K105) -> 2040000 | L102: =SUM(D102-H102) -> 1964537 | N102: =SUM(N103,N110) -> 4004537
B103: 71 잡지출 | C103: 711 잡지출 | D103: =SUM(E103+F103+G103) -> 4004537 | E103: 0 | F103: 0 | G103: =N103 -> 4004537 | H103: =SUM(I103:K103) -> 2040000 | I103: - | J103: - | K103: 2040000 | L103: =D103-H103 -> 1964537 | M103: * 잡지출 계 | N103: =SUM(N104:N105) -> 4004537
M104: - 입소자 의료·약제비 대납금 및 건강검진비외기타 잡지출 | N104: 4004537
M105: - 의료비 부담금 청구금 200,000원 * 12월=2,400,000원 - 입소자 건강건진비외 기타예비비 = 1,604,537원 | N105: 0
A106: 08 예비비 및 기타 | B106: 소계 | D106: =SUM(E106:G106) -> 5353 | E106: =SUM(E107:E108) -> 5353 | F106: =SUM(F107:F108) -> 0 | G106: =SUM(G107:G108) -> 0 | H106: =SUM(I106:K106) -> 5248 | I106: =SUM(I107) -> 5248 | J106: - | K106: - | L106: 4718 | N106: =SUM(N107,N113) -> 5353
B107: 81 예비비 및기타 | C107: 812 반환금 | D107: =SUM(E107+F107+G107) -> 5353 | E107: =N108 -> 5353 | F107: 0 | G107: 0 | H107: =SUM(I107:K107) -> 5248 | I107: 5248 | J107: - | L107: =D107-H107 -> 105 | M107: * 반환금 계 | N107: =SUM(N108) -> 5353
M108: - 보조금 이자반환금 및 이자수입 5,248원 | N108: 5353
