Workbook

Sheet 예산총칙

Sheet 세입세출총괄표
B2: Ｉ. 2021년 고은노인요양원 세입.세출총괄표 | K2: (단위:원)
B3: 세 입 | G3: 세 출
B4: 관 | C4: 항 | D4: 2021년당초 추경 | E4: 2020년 4회추경 | F4: 증감(▲/▽) | G4: 관 | H4: 항 | I4: 2021년 당초추경 | J4: 2020년 4회추경 | K4: 증감(▲/▽)
B5: 총 계 | D5: =D6+D8+D9+D10+D11+D12+D13+D14+D15 -> 539669923 | E5: ='20201년당초추경 세입'!H7 -> 534141670 | F5: =D5-E5 -> 5528253 | G5: 총 계 | I5: ='2021년당초추경 세출'!D8 -> 539669923 | J5: ='2021년당초추경 세출'!H8 -> 534141670 | K5: =I5-J5 -> 5528253 | L5: =D5-I5 -> 0
B6: 01 입소자 (이용자) 부담금수입 | C6: 11 입소(이용) 비용수입 | D6: ='20201년당초추경 세입'!D8 -> 50088000 | E6: ='20201년당초추경 세입'!H8 -> 47688000 | F6: =D6-E6 -> 2400000 | G6: 01 사무비 | H6: 11 인건비 | I6: ='2021년당초추경 세출'!D9 -> 347027580 | J6: ='2021년당초추경 세출'!H9 -> 355363580 | K6: =I6-J6 -> -8336000
B7: 02 사업수입 | C7: 21 사업수입 | D7: 0 | E7: 0 | F7: - | H7: 12 업무추진비 | I7: ='2021년당초추경 세출'!D31 -> 15948000 | J7: ='2021년당초추경 세출'!H31 -> 15948000 | K7: =I7-J7 -> 0
B8: 03 과년도수입 | C8: 31 과년도수입 | D8: =0/1000 -> 0 | E8: 0 | F8: -
B9: 04 보조금수입 | C9: 41 보조금수입 | D9: ='20201년당초추경 세입'!D17 -> 20856000 | E9: ='20201년당초추경 세입'!H17 -> 20856000 | F9: =D9-E9 -> 0 | H9: 13 운영비 | I9: ='2021년당초추경 세출'!D40 -> 37146000 | J9: ='2021년당초추경 세출'!H40 -> 35046000 | K9: =I9-J9 -> 2100000
B10: 05 후원금수입 | C10: 51 후원금수입 | D10: ='20201년당초추경 세입'!D22 -> 1600000 | E10: ='20201년당초추경 세입'!H22 -> 3600000 | F10: =D10-E10 -> -2000000 | G10: 02 재산조성비 | H10: 21 시설비 | I10: ='2021년당초추경 세출'!D64 -> 20300000 | J10: ='2021년당초추경 세출'!H64 -> 21500000 | K10: =I10-J10 -> -1200000
B11: 06 요양급여수입 | C11: 61 요양급여수입 | D11: ='20201년당초추경 세입'!D27 -> 418800000 | E11: ='20201년당초추경 세입'!H27 -> 394800000 | F11: =D11-E11 -> 24000000 | G11: 03 사업비 | H11: 31 운영비 | I11: ='2021년당초추경 세출'!D75 -> 114788453 | J11: ='2021년당초추경 세출'!H75 -> 103788842 | K11: =I11-J11 -> 10999611
B12: 07 차입금 | C12: 71 차입금 | D12: =0/1000 -> 0 | E12: 0 | F12: - | H12: 33 일반사업비 | I12: ='2021년당초추경 세출'!D87 -> 450000 | J12: ='2021년당초추경 세출'!H87 -> 450000 | K12: =I12-J12 -> 0
B13: 08 전입금 | C13: 81 전입금 | D13: ='20201년당초추경 세입'!D38 -> 0 | E13: ='20201년당초추경 세입'!H38 -> 0 | F13: =D13-E13 -> 0 | G13: 04 전출금 | H13: 41 전출금 | I13: ='2021년당초추경 세출'!D91 -> 0 | J13: ='2021년당초추경 세출'!H91 -> 0 | K13: -
B14: 09 이월금 | C14: 91 이월금 | D14: ='20201년당초추경 세입'!D43 -> 25005923 | E14: ='20201년당초추경 세입'!H43 -> 42855670 | F14: =D14-E14 -> -17849747 | G14: 05 과년도지출 | H14: 05 과년도지출 | I14: ='2021년당초추경 세출'!D95 -> 0 | J14: ='2021년당초추경 세출'!H95 -> 0 | K14: =I14-J14 -> 0
B15: 10 잡수입 | C15: 101 잡수입 | D15: ='20201년당초추경 세입'!D48 -> 23320000 | E15: ='20201년당초추경 세입'!H48 -> 24342000 | F15: =D15-E15 -> -1022000 | G15: 06 상환금 | H15: 61 부채상환금 | I15: =0/1000 -> 0 | J15: 0 | K15: -
B16: 11 적립금 및 준비금(특별회계) | C16: 111 운영충당 적립금 및 환경개선준비금 | D16: 0 | E16: 0 | F16: 0 | G16: 07 잡지출 | H16: 71 잡지출 | I16: ='2021년당초추경 세출'!D102 -> 4004537 | J16: ='2021년당초추경 세출'!H102 -> 2040000 | K16: =I16-J16 -> 1964537
G17: 08 예비비및기타 | H17: 81 예비비및기타 | I17: ='2021년당초추경 세출'!D106 -> 5353 | J17: ='2021년당초추경 세출'!H106 -> 5248 | K17: =I17-J17 -> 105
G18: 10 운영충당적립금 | H18: 92 운영충당적립금 | I18: =0/1000 -> 0 | J18: =0/1000 -> 0
G19: 10 준비금 | H19: 101 환경개선준비금 | I19: =0/1000 -> 0 | J19: =0/1000 -> 0

Sheet 20201년당초추경 세입
A1: 2021년 고은노인요양원 당초예산 (안)
A2: □□ 2021년도 국민복지재단 고은노인요양원 세입예산(안)
M4: ( 단위 :원 )
A5: 과 목 | D5: 예산액 | E5: 재원구분(2021.당초 예산) | H5: 예산액 | I5: 재원구분(2020. 4회 추경) | L5: 증감 | M5: 산출기초
A6: 관 | B6: 항 | C6: 목 | E6: 보조금 | F6: 후원금 | G6: 자부담 | I6: 보조금 | J6: 후원금 | K6: 자부담
A7: 총 계 | D7: =SUM(D8+D13+D17+D22+D27+D33+D38+D43+D48) -> 539669923 | E7: =SUM(E8+E13+E17+E22+E27+E33+E38+E43+E48) -> 20861353 | F7: =SUM(F8+F13+F17+F22+F27+F33+F38+F43+F48) -> 1610570 | G7: =SUM(G8+G13+G17+G22+G27+G33+G38+G43+G48) -> 517198000 | H7: =SUM(I7:K7) -> 534141670 | I7: =I17+I43+I48 -> 20861248 | J7: =J22+J38+J43+J48 -> 3610959 | K7: =K8+K27+K38+K43+K48 -> 509669463 | L7: =SUM(D7-H7) -> 5528253 | N7: =SUM(N8+N13+N17+N22+N27+N33+N38+N43+N48) -> 539669923
A8: 01 입소자 부담금 수입 | B8: 소 계 | D8: =SUM(E8:G8) -> 50088000 | E8: =SUM(E9:E12) -> 0 | F8: =SUM(F9:F12) -> 0 | G8: =SUM(G9:G12) -> 50088000 | H8: =SUM(I8:K8) -> 47688000 | I8: 0 | J8: 0 | K8: =SUM(K9:K12) -> 47688000 | L8: =SUM(D8-H8) -> 2400000 | N8: =N9+N11 -> 50088000
B9: 11 입소비용 수입 | C9: 112 본인부담금 수입 | D9: =SUM(E9:G9) -> 30000000 | G9: =N9 -> 30000000 | H9: =SUM(I9:K9) -> 27600000 | K9: 27600000 | L9: =SUM(D9-H9) -> 2400000 | M9: *본인부담금수입 | N9: =N10 -> 30000000
M10: -2,500,000(9명 월평균)*12월 = | N10: 30000000
C11: 113 식재료비수입 | D11: =SUM(E11:G11) -> 20088000 | G11: =N11 -> 20088000 | H11: =SUM(I11:K11) -> 20088000 | K11: 20088000 | L11: =SUM(D11-H11) -> 0 | M11: *식재료비수입 | N11: =N12 -> 20088000
M12: -6.000원*31일* 9명 * 12회 | N12: 20088000
A13: 03 과년도 수입 | B13: 소 계 | D13: =SUM(E13:G13) -> 0 | E13: =SUM(E14:E16) -> 0 | F13: =SUM(F14:F16) -> 0 | G13: =SUM(G14:G16) -> 0 | H13: 0 | I13: 0 | J13: 0 | K13: 0 | L13: =SUM(D13-H13) -> 0 | N13: =N14 -> 0
B14: 31 과년도 수입 | C14: 311 과년도 수입 | D14: =SUM(E14:G14) -> 0 | E14: 0 | F14: 0 | G14: 0 | H14: =SUM(I14:K14) -> 0 | I14: 0 | J14: 0 | K14: 0 | N14: 0
A17: 04 보조금 수입 | B17: 소 계 | D17: =SUM(E17:G17) -> 20856000 | E17: =SUM(E18:E21) -> 20856000 | F17: =SUM(F18:F21) -> 0 | G17: =SUM(G18:G21) -> 0 | H17: =SUM(I17:K17) -> 20856000 | I17: =SUM(I18:I21) -> 20856000 | J17: 0 | K17: 0 | L17: =SUM(D17-H17) -> 0 | N17: =N18 -> 20856000
B18: 41 보조금 수입 | C18: 413 시군구보조금 수입 | D18: =SUM(E18:G18) -> 20856000 | E18: =N19+N20 -> 20856000 | F18: 0 | G18: =N21 | H18: =SUM(I18:K18) -> 20856000 | I18: 20856000 | J18: 0 | K18: 0 | L18: =SUM(D18-H18) -> 0 | M18: *경상보조금수입 | N18: =SUM(N19:N21) -> 20856000
M19: * 주부식비6명*30* 1700,000 * 12월 | N19: 20400000
M20: *활동대책비 3,8000원 * 6명 *1회, 특별위로금 38,000원* 6명*1회 | N20: 456000
A22: 05 후원금 수입 | B22: 소 계 | D22: =SUM(E22:G22) -> 1600000 | E22: =SUM(E23+E25) -> 0 | F22: =SUM(F23+F25) -> 1600000 | G22: =SUM(G23+G25) -> 0 | H22: =SUM(I22:K22) -> 3600000 | I22: 0 | J22: =SUM(J23:J26) -> 3600000 | K22: 0 | L22: =SUM(D22-H22) -> -2000000 | N22: =N23+N25 -> 1600000
B23: 51 후원금 수입 | C23: 511 지정후원금 | D23: =SUM(E23:G23) -> 1000000 | E23: 0 | F23: =N23 -> 1000000 | G23: 0 | H23: 0 | I23: 0 | J23: 1000000 | K23: 0 | M23: *지정후원금 | N23: 1000000
H24: 0 | M24: *500,000*2회 | N24: 1000000
C25: 512 비지정후원금 | D25: =SUM(E25:G25) -> 600000 | E25: 0 | F25: =N25 -> 600000 | G25: 0 | H25: =SUM(I25:K25) -> 2600000 | I25: 0 | J25: 2600000 | K25: 0 | L25: =SUM(D25-H25) -> -2000000 | M25: *비지정후원금 | N25: 600000
H26: 0 | M26: *지역사회 후원금 평균50,000원 * 12회 | N26: 600000
A27: 06 요양 급여 수입 | B27: 소 계 | D27: =SUM(E27:G27) -> 418800000 | E27: =SUM(E28:E32) -> 0 | F27: =SUM(F28:F32) -> 0 | G27: =SUM(G28:G32) -> 418800000 | H27: =SUM(I27:K27) -> 394800000 | I27: =SUM(I28:I32) -> 0 | J27: =SUM(J28:J32) -> 0 | K27: =SUM(K28:K32) -> 394800000 | L27: =SUM(D27-H27) -> 24000000 | N27: =N28+N31 -> 418800000
B28: 61 요양급여 수입 | C28: 611 장기요양급여 수입 | D28: =SUM(E28:G28) -> 360000000 | E28: 0 | F28: 0 | G28: =N28 -> 360000000 | H28: =SUM(I28:K28) -> 336000000 | I28: 0 | J28: 0 | K28: 336000000 | L28: =SUM(D28-H28) -> 24000000 | M28: *장기요양수가수입 | N28: =N29 -> 360000000
M29: 기초*6명,일반*2명,경감(8%)*5명,경감(12%)*1명,의료급여(10%)*1명 | N29: 360000000
M30: 장가근속수당
C31: 612 가산금 수입 | D31: =SUM(E31:G31) -> 58800000 | G31: =N31 -> 58800000 | H31: =SUM(I31:K31) -> 58800000 | I31: 0 | J31: 0 | K31: 58800000 | L31: =SUM(D31-H31) -> 0 | M31: *가산금 수입 | N31: =N32 -> 58800000
M32: 약4900,000원 *12= | N32: 58800000
A33: 07 차입금 | B33: 소계 | D33: =SUM(E33:G33) -> 0 | E33: =SUM(E34:E37) -> 0 | F33: =SUM(F34:F37) -> 0 | G33: =SUM(G34:G37) -> 0 | H33: =SUM(I33:K33) -> 0 | I33: =SUM(I34:I37) -> 0 | J33: =SUM(J34:J37) -> 0 | K33: =SUM(K34:K37) -> 0 | L33: =SUM(D33-H33) -> 0 | N33: =N36 -> 0
B34: 71 차입금 | C34: 711 금융기관차입 | D34: =SUM(E34:G34) -> 0 | E34: 0 | F34: 0 | G34: 0 | H34: =SUM(I34:K34) -> 0 | I34: 0 | J34: 0 | K34: 0 | N34: 0
C36: 712 기타차입금 | D36: =SUM(E36:G36) -> 0 | E36: 0 | F36: 0 | G36: 0 | H36: =SUM(I36:K36) -> 0 | I36: 0 | J36: 0 | K36: 0 | N36: =SUM(N37) -> 0
N37: 0
A38: 08 전입금 | B38: 소계 | D38: =SUM(E38:G38) -> 0 | E38: =SUM(E39:E42) -> 0 | F38: =SUM(F39:F42) -> 0 | G38: =G39 -> 0 | H38: =SUM(I38:K38) -> 0 | I38: =I39+I41 -> 0 | J38: =J39+J41 -> 0 | K38: =K39+K41 -> 0 | L38: =SUM(D38-H38) -> 0 | N38: =N39+N41 -> 0
B39: 81 전입금 | C39: 811 전입금 | D39: =E39+F39+G39 -> 0 | E39: 0 | F39: 0 | G39: =N40 -> 0 | H39: =SUM(I39:K39) -> 0 | I39: 0 | J39: 0 | K39: 0 | L39: - | N39: =N40 -> 0
N40: 0
C41: 812 전입후원금 (후원금) | D41: =SUM(E41:G41) -> 0 | E41: 0 | F41: =N41 -> 0 | G41: 0 | H41: =SUM(I41:K41) -> 0 | I41: 0 | J41: 0 | K41: 0 | L41: =SUM(D41-H41) -> 0 | N41: =N42 -> 0
M42: 0 | N42: 0
A43: 09 이월금 | B43: 소계 | D43: =SUM(E43:G43) -> 25005923 | E43: =SUM(E44:E47) -> 353 | F43: =SUM(F44:F47) -> 5570 | G43: =SUM(G44:G47) -> 25000000 | H43: =SUM(I43:K43) -> 42855670 | I43: =SUM(I44:I47) -> 248 | J43: =SUM(J44:J47) -> 5959 | K43: =SUM(K44:K47) -> 42849463 | L43: =SUM(D43-H43) -> -17849747 | N43: =SUM(N44:N47) -> 25005923
B44: 91 이월금 | C44: 911 전년도이월금 | D44: =SUM(E44:G45) -> 25000353 | E44: =N45 -> 353 | F44: 0 | G44: =N44 -> 25000000 | H44: =SUM(I44:K45) -> 42849711 | I44: 248 | J44: 0 | K44: 42849463 | L44: =SUM(D44-H44) -> -17849358 | M44: *전년도 이월금(자부담) | N44: 25000000
M45: *전년도 이월금(보조금)-예금이자수입 | N45: 353
...

Sheet 2021년당초추경 세출
A1: 2021년 고은노인요양원 당초예산 (안)
A3: □□ 2021년도 국민복지재단 고은노인요양원 세출예산(안)
G5: ='20201년당초추경 세입'!D7-'2021년당초추경 세출'!D8 -> 0 | M5: ( 단위 : 원 )
A6: 과 목 | D6: 예산액 | E6: 재원구분(2021. 당초 예산) | H6: 예산액 | I6: 재원구분(2020. 4회추경) | L6: 증감 | M6: 산출기초
A7: 관 | B7: 항 | C7: 목 | E7: 보조금 | F7: 후원금 | G7: 자부담 | I7: 보조금 | J7: 후원금 | K7: 자부담
A8: 총 계 | D8: =SUM(D9+D31+D40+D64+D75+D87+D91+D95+D98+D102+D106) -> 539669923 | E8: =SUM(E9+E31+E40+E64+E75+E87+E91+E95+E98+E102+E106) -> 20861353 | F8: =SUM(F9+F31+F40+F64+F75+F87+F91+F95+F98+F102+F106) -> 1610570 | G8: =SUM(G9+G31+G40+G64+G75+G87+G91+G95+G98+G102+G106) -> 517198000 | H8: =SUM(I8:K8) -> 534141670 | I8: =I64+I75+I106 -> 20861248 | J8: =J40+J75 -> 3610959 | K8: =K9+K31+K40+K64+K75+K87+K96+K102 -> 509669463 | L8: =D8-H8 -> 5528253 | N8: =SUM(N9+N31+N40+N64+N75+N87+N95+N98+N102+N106) -> 539669923
A9: 01 사무비 | B9: 소 계 | D9: =SUM(E9:G9) -> 347027580 | E9: =SUM(E10:E30) -> 0 | F9: =SUM(F10:F30) -> 0 | G9: =SUM(G10:G30) -> 347027580 | H9: =SUM(I9:K9) -> 355363580 | I9: - | J9: - | K9: =SUM(K10:K30) -> 355363580 | L9: =D9-H9 -> -8336000 | N9: =SUM(N10+N17+N23+N26) -> 347027580
B10: 11 인건비 | C10: 111 급여 | D10: =SUM(E10+F10+G10) -> 244108000 | E10: 0 | F10: 0 | G10: =N10 -> 244108000 | H10: =SUM(I10:K10) -> 256704000 | I10: - | J10: - | K10: 256704000 | L10: =SUM(D10-H10) -> -12596000 | M10: * 급여 계 | N10: =SUM(N11:N16) -> 244108000
M11: - 원장 | N11: 31156000
M12: - 사회복지사 | N12: 23916000
M13: - 간호조무사 | N13: 24420000
M14: - 요양보호사 | N14: 144264000
M15: -조리원 | N15: 20352000
M16: 0 | N16: 0
C17: 112 각종수당 | D17: =SUM(E17+F17+G17) -> 49039580 | E17: 0 | F17: 0 | G17: =N17 -> 49039580 | H17: =SUM(I17:K17) -> 48619580 | I17: - | J17: - | K17: 48619580 | L17: =SUM(D17-H17) -> 420000 | M17: * 각종수당(보수일람표에 준함) 계 | N17: =SUM(N18:N22) -> 49039580
M18: - 야간수당, 시간외수당 *종사자 복지수당(군수당) - | N18: 12939420
M19: - 처우개선비8*100,000*12,장기근속수당6*12,자체수당1*200,000*12 | N19: 16896000
M20: - 휴일수당 | N20: 13904160
M21: - 직원성과급(명절위로금(설,추석),특별포상 외) | N21: 5300000
M22: 0 | N22: 0
C23: 115 | D23: =SUM(E23+F23+G23) -> 28800000 | E23: 0 | F23: 0 | G23: =N23 -> 28800000 | H23: =SUM(I23:K24) -> 26400000 | I23: - | J23: - | K23: 26400000 | L23: =SUM(D23-H23) -> 2400000 | M23: * 퇴직적립금(1/12) 계 | N23: =SUM(N24:N25) -> 28800000
C24: 퇴직금 및 퇴직적립금 | M24: - 퇴직연금적립금 약2,400,000원 * 12월 | N24: 28800000
N25: 0
C26: 116 | D26: =SUM(E26+F26+G26) -> 25080000 | E26: 0 | F26: 0 | G26: =N26 -> 25080000 | H26: =SUM(I26:K26) -> 23640000 | I26: - | J26: - | K26: 23640000 | L26: =SUM(D26-H26) -> 1440000 | M26: * 사회보험부담비용 계 | N26: =SUM(N27:N30) -> 25080000
C27: 사회보험 부담비용 | M27: - 건강보험료, 장기요양보험료950,000원 * 12월 | N27: 11400000
M28: - 국민연금보험료 700,000원 *12월 | N28: 8400000
M29: - 고용보험료 250,000원 * 12월 | N29: 3000000
M30: - 산재보험료 190,000원 * 12월 | N30: 2280000
B31: 소 계 | D31: =SUM(E31:G31) -> 15948000 | E31: =SUM(E32:E39) -> 0 | F31: =SUM(F32:F39) -> 0 | G31: =SUM(G32:G39) -> 15948000 | H31: =SUM(I31:K31) -> 15948000 | I31: - | J31: - | K31: =SUM(K32:K39) -> 15948000 | L31: =SUM(D31-H31) -> 0 | M31: =SUM(M33:M39) -> 11800000 | N31: =SUM(N32+N34+N37) -> 15948000
B32: 12 업무 추진비 | C32: 121 기관운영비 | D32: =SUM(E32+F32+G32) -> 3848000 | E32: 0 | F32: 0 | G32: =N32 -> 3848000 | H32: =SUM(I32:K32) -> 3848000 | I32: - | J32: - | K32: 3848000 | L32: =SUM(D32-H32) -> 0 | M32: * 기관운영비 계 | N32: =SUM(N33:N33) -> 3848000
M33: - 기관운영비및 유관기관과 업무협의 등 각종경비 | N33: 3848000
C34: 122 직책보조비 | D34: =SUM(E34+F34+G34) -> 11800000 | E34: 0 | F34: 0 | G34: =N34 -> 11800000 | H34: =SUM(I34:K34) -> 11800000 | I34: - | J34: - | K34: 11800000 | L34: =SUM(D34-H34) -> 0 | M34: * 직책보조비 계 | N34: =SUM(N35:N36) -> 11800000
M35: 11800000 | N35: 11800000
C37: 123 회의비 | D37: =SUM(E37+F37+G37) -> 300000 | E37: 0 | F37: 0 | G37: =N37 -> 300000 | H37: =SUM(I37:K38) -> 300000 | I37: - | J37: - | K37: 300000 | L37: =SUM(D37-H37) -> 0 | M37: * 회의비 계 | N37: =SUM(N38:N39) -> 300000
M38: - 회의비(보호자,운영위원 간담회) 2회*150,000원 | N38: 300000
B40: 소 계 | D40: =SUM(E40:G40) -> 37146000 | E40: =SUM(E41:E63) -> 0 | F40: =SUM(F41:F63) -> 200000 | G40: =SUM(G41:G63) -> 36946000 | H40: =SUM(I40:K40) -> 35046000 | I40: - | J40: =J41+J44+J48+J54+J57+J60 -> 1200000 | K40: =SUM(K41:K63) -> 33846000 | L40: =SUM(D40-H40) -> 2100000 | N40: =SUM(N41+N44+N48+N54+N57+N60) -> 37146000
B41: 13 운영비 | C41: 131 여비 | D41: =SUM(E41+F41+G41) -> 2436000 | E41: 0 | F41: 0 | G41: =N41 -> 2436000 | H41: =SUM(I41:K41) -> 336000 | I41: - | J41: 0 | K41: 336000 | L41: =SUM(D41-H41) -> 2100000 | M41: * 여비 계 | N41: =N42+N43 -> 2436000
M42: -직원국내출장28,000원*12월 | N42: 336000
M43: -직원해외연수700,000*3명 | N43: 2100000
C44: 132 수용비및수수료 | D44: =SUM(E44+F44+G44) -> 4650000 | E44: 0 | F44: =N47 -> 200000 | G44: =SUM(N45:N46) -> 4450000 | H44: =SUM(I44:K44) -> 4650000 | I44: - | J44: 1200000 | K44: 3450000 | L44: =SUM(D44-H44) -> 0 | M44: * 수용비 및 수수료 계 | N44: =SUM(N45:N47) -> 4650000
...
