Workbook
Name 요양보호사1급: 기초자료!$V$3:$V$18
Name 직종: 기초자료!$V$3:$V$17

Sheet 기초자료
A1: 주야간전용 | B1: 노란색 부분만 입력해주세요 *직종별 급여는 통일 하여 작성 해주시길 바랍니다.
A2: 시설명 | B2: VIP재가노인복지센터 | H2: 직원명부 | I2: 인건비 지급비율 예시 | J2: ='세출안(산출내역)2022'!E71/'세입안(산출내역)2022'!E57 -> 0.48952144 | V2: =B3/2.5 -> 12.8
A3: 정원 | B3: 32 | H3: 이름 | I3: 직종 | J3: 주민번호 | K3: 급여 | V3: 선택 | Z3: 비고
A4: 수급자 | C4: 0.15 | D4: 0.09 | E4: 0.06 | F4: 기초 | H4: 신광철 | I4: 시설장(관리책임자) | J4: 700502-1341913 | K4: 3000000 | V4: 치과위생사 | W4: =COUNTIF($I$3:$I$199,V4) -> 0 | Y4: =IFERROR(AVERAGEIF($I$4:$I$200,V4,$K$4:$K$200),0) -> 0
B5: 1등급 | H5: 신지혜 | I5: 사회복지사 | J5: 740211-2109516 | K5: 2500000 | V5: 요양보호사 1급 | W5: =COUNTIF($I$3:$I$199,V5) -> 4 | Y5: =IFERROR(AVERAGEIF($I$4:$I$200,V5,$K$4:$K$200),0) -> 2300000 | Z5: 1인 이상 (직종) 2,000,000만원 2,100,000만원 2,200,000만원 3가지 급여가 있다고 하여도 직종 별 평균임금으로 한가지 2,100,000원으로만 입력바랍니다. 인건비 지급비율 예시를 확인하시면서 임금 변경 해주시길 바랍니다. ※ 주야간보호 (2022년 직접 인건비 48.7%) 간호(조무)사 물리(작업)치료사 사회복지사 요양보호사 ※ 2022년 최저임금(9,160원) 주5일 8시간근로 기준 월급여: 1,914,440원 ※정원기준 요양보호사(필수인력) 공생 3명당 1명으로 계산 ex) 9인공생 3명 ex) 7인공생 2.3명 = 2명 시설 2.5명당 1명으로 계산 ex) 29인시설 11.6명 = 12명 주야간 7명당 1명으로 계산 ex) 29인주야간 4.1명 = 5명 | AA5: =Y5*12 -> 27600000
B6: 2등급 | H6: 박신아 | I6: 사회복지사 | J6: 971013-2023315 | K6: 2500000 | V6: 사회복지사 | W6: =COUNTIF($I$3:$I$199,V6) -> 2 | Y6: =IFERROR(AVERAGEIF($I$4:$I$200,V6,$K$4:$K$200),0) -> 2500000
B7: 3등급 | C7: 3 | D7: 1 | H7: 신경화 | I7: 요양보호사 1급 | J7: 670309-2565912 | K7: 2300000 | V7: 간호사 | W7: =COUNTIF($I$3:$I$199,V7) -> 0 | Y7: =IFERROR(AVERAGEIF($I$4:$I$200,V7,$K$4:$K$200),0) -> 0
B8: 4등급 | C8: 6 | D8: 4 | E8: 3 | F8: 1 | H8: 최지원 | I8: 요양보호사 1급 | J8: 710828-2899919 | K8: 2300000 | V8: 간호조무사 | W8: =COUNTIF($I$3:$I$199,V8) -> 1 | Y8: =IFERROR(AVERAGEIF($I$4:$I$200,V8,$K$4:$K$200),0) -> 2300000
B9: 5등급 | C9: 8 | D9: 2 | E9: 3 | F9: 1 | H9: 오재정 | I9: 요양보호사 1급 | J9: 680802-2774526 | K9: 2300000 | V9: 물리치료사 | W9: =COUNTIF($I$3:$I$199,V9) -> 0 | Y9: =IFERROR(AVERAGEIF($I$4:$I$200,V9,$K$4:$K$200),0) -> 0
A10: 가산금 | B10: 토요일가산인원수(1주일당) | D10: 1주기준 | H10: 이종욱 | I10: 요양보호사 1급 | J10: 621210-1914226 | K10: 2300000 | V10: 작업치료사 | W10: =COUNTIF($I$3:$I$199,V10) -> 0 | Y10: =IFERROR(AVERAGEIF($I$4:$I$200,V10,$K$4:$K$200),0) -> 0
B11: 인력추가배치가산금액 | C11: 5000000 | D11: 1달기준 | H11: 조미영 | I11: 간호조무사 | J11: 670818-2918716 | K11: 2300000 | V11: 시설장(관리책임자) | W11: =COUNTIF($I$3:$I$199,V11) -> 1 | Y11: =IFERROR(AVERAGEIF($I$4:$I$200,V11,$K$4:$K$200),0) -> 3000000
B12: 송영차량지원비인원수 | C12: 0 | H12: 박종한 | I12: 사무원 | J12: 650817-1117921 | K12: 2150000 | V12: 사무국장 | W12: =COUNTIF($I$3:$I$199,V12) -> 0 | Y12: =IFERROR(AVERAGEIF($I$4:$I$200,V12,$K$4:$K$200),0) -> 0
A13: 식사재료비 | B13: 한끼식사비용 | C13: 2000 | H13: 박태숙 | I13: 조리원 | J13: 670226-2389917 | K13: 2150000 | V13: 사무원 | W13: =COUNTIF($I$3:$I$199,V13) -> 1 | Y13: =IFERROR(AVERAGEIF($I$4:$I$200,V13,$K$4:$K$200),0) -> 2150000
B14: 하루간식비 | C14: 500 | H14: 이문규 | I14: 보조원 운전사 | J14: 700305-1109429 | K14: 2400000 | V14: 영양사 | W14: =COUNTIF($I$3:$I$199,V14) -> 0 | Y14: =IFERROR(AVERAGEIF($I$4:$I$200,V14,$K$4:$K$200),0) -> 0
A15: 후원금 | B15: 비지정후원금 | V15: 조리원 | W15: =COUNTIF($I$3:$I$199,V15) -> 1 | Y15: =IFERROR(AVERAGEIF($I$4:$I$200,V15,$K$4:$K$200),0) -> 2150000
B16: 지정후원금 | V16: 위생원 | W16: =COUNTIF($I$3:$I$199,V16) -> 0 | Y16: =IFERROR(AVERAGEIF($I$4:$I$200,V16,$K$4:$K$200),0) -> 0
A17: 2021년도 예상비용 | B17: 2021년도 예상 배상책임보험료 | C17: 3000000 | D17: 1년기준 | V17: 관리인 | W17: =COUNTIF($I$3:$I$199,V17) -> 0 | Y17: =IFERROR(AVERAGEIF($I$4:$I$200,V17,$K$4:$K$200),0) -> 0
B18: 2021년도 예상 시설공사비용 | D18: 1년기준 | V18: 보조원 운전사 | W18: =COUNTIF($I$3:$I$199,V18) -> 1 | Y18: =IFERROR(AVERAGEIF($I$4:$I$200,V18,$K$4:$K$200),0) -> 2400000
B19: 2021년도 예상 자산취득비용(TV등) | D19: 1년기준 | V19: 일용직 | W19: =COUNTIF($I$3:$I$199,V19) -> 0 | Y19: =IFERROR(AVERAGEIF($I$4:$I$200,V19,$K$4:$K$200),0) -> 0
B20: 프로그램사업비 월평균예상금액 | C20: 800000 | D20: 1달기준
B21: 임대료 | C21: 5000000 | D21: 1달기준
A23: 명절상여금 | B23: 설날 | C23: 0 | D23: 1회기준
B24: 추석 | C24: 0 | D24: 1회기준

Sheet 보수일람표
A1: 인건비구분/급여유형 별 선택 가능 직종 정보( * 개인정보 보호를 위하여 주민등록번호는 마스킹 처리되어 있습니다. 주민등록번호는 입력/수정 안하셔도 됩니다. )
A2: 직접비 | B2: 주야간보호 | E2: 요양보호사1급, 요양보호사2급, 사회복지사, 간호사, 간호조무사, 물리치료사, 작업치료사
B3: 방문요양, 방문목욕 | E3: 요양보호사1급, 요양보호사2급, 사회복지사(방문요양만 해당)
B4: 단기보호 | E4: 요양보호사1급, 요양보호사2급, 사회복지사, 간호사, 간호조무사
B5: 방문간호 | E5: 간호사, 간호조무사, 치과위생사
A6: 간접비 | B6: 주야간보호, 단기보호, 방문간호 | E6: 시설장(관리책임자), 사무국장, 사무원, 영양사, 조리원, 위생원, 관리인, 보조원 운전사, 기타
B7: 방문요양, 방문목욕 | E7: 시설장(관리책임자), 사무국장, 사무원, 영양사, 조리원, 위생원, 관리인, 보조원 운전사, 사회복지사(방문목욕만 해당), 기타
B8: 복지용구제공사업소 | E8: 시설장(관리책임자), 사무국장, 사무원, 보조원 운전사, 기타
A9: 사업코드 | B9: 사업명 | C9: 성명 | D9: 직종 | E9: 급여유형 | F9: 인건비구분 | G9: 주민등록번호 | H9: 급여 | I9: 각종수당 | J9: 일용잡급 | K9: 퇴직금 및 퇴직적립금 | L9: 사회보험 부담금 | T9: 노인요양시설(개정법)
C10: =기초자료!H4 -> 신광철 | D10: =기초자료!I4 -> 시설장(관리책임자) | F10: =IFERROR(VLOOKUP(D10,$O$10:$P$25,2,),"") -> 간접비 | G10: =기초자료!J4 -> 700502-1341913 | H10: =IFERROR(VLOOKUP(C10,기초자료!$H$4:$K$999,4,0)*12,"") -> 36000000 | I10: =IFERROR(IF(D10=0,0,SUM(기초자료!$C$23:$C$24)),) -> 0 | K10: =IFERROR(IF(D10=$O$17,0,ROUNDDOWN(H10/12,0)),) -> 0 | L10: =IFERROR(ROUNDDOWN((H10+I10)*3.495%,-1)+ROUNDDOWN((H10+I10)*4.5%,-1)+ROUNDDOWN((H10+I10)*1.15%,-1)+ROUNDDOWN((H10+I10)*0.85%,-1)+ROUNDDOWN((H10+I10)*3.495%*12.27%,-1),"") -> 3752580 | M10: =SUMIF($F$10:$F$999,P10,$K$10:$K$999) -> 6700000 | N10: 퇴직간접 | O10: 치과위생사 | P10: 간접비 | S10: =기초자료!H4 -> 신광철 | T10: =기초자료!I4 -> 시설장(관리책임자)
C11: =기초자료!H5 -> 신지혜 | D11: =기초자료!I5 -> 사회복지사 | F11: =IFERROR(VLOOKUP(D11,$O$10:$P$25,2,),"") -> 직접비 | G11: =기초자료!J5 -> 740211-2109516 | H11: =IFERROR(VLOOKUP(C11,기초자료!$H$4:$K$999,4,0)*12,"") -> 30000000 | I11: =IFERROR(IF(D11=0,0,SUM(기초자료!$C$23:$C$24)),) -> 0 | K11: =IFERROR(IF(D11=$O$17,0,ROUNDDOWN(H11/12,0)),) -> 2500000 | L11: =IFERROR(ROUNDDOWN((H11+I11)*3.495%,-1)+ROUNDDOWN((H11+I11)*4.5%,-1)+ROUNDDOWN((H11+I11)*1.15%,-1)+ROUNDDOWN((H11+I11)*0.85%,-1)+ROUNDDOWN((H11+I11)*3.495%*12.27%,-1),"") -> 3127150 | M11: =SUMIF($F$10:$F$999,P11,$K$10:$K$999) -> 16500000 | N11: 퇴직직접 | O11: 요양보호사 1급 | P11: 직접비 | S11: =기초자료!H5 -> 신지혜 | T11: =기초자료!I5 -> 사회복지사
C12: =기초자료!H6 -> 박신아 | D12: =기초자료!I6 -> 사회복지사 | F12: =IFERROR(VLOOKUP(D12,$O$10:$P$25,2,),"") -> 직접비 | G12: =기초자료!J6 -> 971013-2023315 | H12: =IFERROR(VLOOKUP(C12,기초자료!$H$4:$K$999,4,0)*12,"") -> 30000000 | I12: =IFERROR(IF(D12=0,0,SUM(기초자료!$C$23:$C$24)),) -> 0 | K12: =IFERROR(IF(D12=$O$17,0,ROUNDDOWN(H12/12,0)),) -> 2500000 | L12: =IFERROR(ROUNDDOWN((H12+I12)*3.495%,-1)+ROUNDDOWN((H12+I12)*4.5%,-1)+ROUNDDOWN((H12+I12)*1.15%,-1)+ROUNDDOWN((H12+I12)*0.85%,-1)+ROUNDDOWN((H12+I12)*3.495%*12.27%,-1),"") -> 3127150 | O12: 사회복지사 | P12: 직접비 | S12: =기초자료!H6 -> 박신아 | T12: =기초자료!I6 -> 사회복지사
C13: =기초자료!H7 -> 신경화 | D13: =기초자료!I7 -> 요양보호사 1급 | F13: =IFERROR(VLOOKUP(D13,$O$10:$P$25,2,),"") -> 직접비 | G13: =기초자료!J7 -> 670309-2565912 | H13: =IFERROR(VLOOKUP(C13,기초자료!$H$4:$K$999,4,0)*12,"") -> 27600000 | I13: =IFERROR(IF(D13=0,0,SUM(기초자료!$C$23:$C$24)),) -> 0 | K13: =IFERROR(IF(D13=$O$17,0,ROUNDDOWN(H13/12,0)),) -> 2300000 | L13: =IFERROR(ROUNDDOWN((H13+I13)*3.495%,-1)+ROUNDDOWN((H13+I13)*4.5%,-1)+ROUNDDOWN((H13+I13)*1.15%,-1)+ROUNDDOWN((H13+I13)*0.85%,-1)+ROUNDDOWN((H13+I13)*3.495%*12.27%,-1),"") -> 2876970 | M13: =SUMIF($F$10:$F$999,P10,I10:I999) -> 0 | N13: 명절간접 | O13: 간호사 | P13: 직접비 | S13: =기초자료!H7 -> 신경화 | T13: =기초자료!I7 -> 요양보호사 1급
C14: =기초자료!H8 -> 최지원 | D14: =기초자료!I8 -> 요양보호사 1급 | F14: =IFERROR(VLOOKUP(D14,$O$10:$P$25,2,),"") -> 직접비 | G14: =기초자료!J8 -> 710828-2899919 | H14: =IFERROR(VLOOKUP(C14,기초자료!$H$4:$K$999,4,0)*12,"") -> 27600000 | I14: =IFERROR(IF(D14=0,0,SUM(기초자료!$C$23:$C$24)),) -> 0 | K14: =IFERROR(IF(D14=$O$17,0,ROUNDDOWN(H14/12,0)),) -> 2300000 | L14: =IFERROR(ROUNDDOWN((H14+I14)*3.495%,-1)+ROUNDDOWN((H14+I14)*4.5%,-1)+ROUNDDOWN((H14+I14)*1.15%,-1)+ROUNDDOWN((H14+I14)*0.85%,-1)+ROUNDDOWN((H14+I14)*3.495%*12.27%,-1),"") -> 2876970 | M14: =SUMIF($F$10:$F$999,P11,I11:I1000) -> 0 | N14: 명절직접 | O14: 간호조무사 | P14: 직접비 | S14: =기초자료!H8 -> 최지원 | T14: =기초자료!I8 -> 요양보호사 1급
C15: =기초자료!H9 -> 오재정 | D15: =기초자료!I9 -> 요양보호사 1급 | F15: =IFERROR(VLOOKUP(D15,$O$10:$P$25,2,),"") -> 직접비 | G15: =기초자료!J9 -> 680802-2774526 | H15: =IFERROR(VLOOKUP(C15,기초자료!$H$4:$K$999,4,0)*12,"") -> 27600000 | I15: =IFERROR(IF(D15=0,0,SUM(기초자료!$C$23:$C$24)),) -> 0 | K15: =IFERROR(IF(D15=$O$17,0,ROUNDDOWN(H15/12,0)),) -> 2300000 | L15: =IFERROR(ROUNDDOWN((H15+I15)*3.495%,-1)+ROUNDDOWN((H15+I15)*4.5%,-1)+ROUNDDOWN((H15+I15)*1.15%,-1)+ROUNDDOWN((H15+I15)*0.85%,-1)+ROUNDDOWN((H15+I15)*3.495%*12.27%,-1),"") -> 2876970 | O15: 물리치료사 | P15: 직접비 | S15: =기초자료!H9 -> 오재정 | T15: =기초자료!I9 -> 요양보호사 1급
C16: =기초자료!H10 -> 이종욱 | D16: =기초자료!I10 -> 요양보호사 1급 | F16: =IFERROR(VLOOKUP(D16,$O$10:$P$25,2,),"") -> 직접비 | G16: =기초자료!J10 -> 621210-1914226 | H16: =IFERROR(VLOOKUP(C16,기초자료!$H$4:$K$999,4,0)*12,"") -> 27600000 | I16: =IFERROR(IF(D16=0,0,SUM(기초자료!$C$23:$C$24)),) -> 0 | K16: =IFERROR(IF(D16=$O$17,0,ROUNDDOWN(H16/12,0)),) -> 2300000 | L16: =IFERROR(ROUNDDOWN((H16+I16)*3.495%,-1)+ROUNDDOWN((H16+I16)*4.5%,-1)+ROUNDDOWN((H16+I16)*1.15%,-1)+ROUNDDOWN((H16+I16)*0.85%,-1)+ROUNDDOWN((H16+I16)*3.495%*12.27%,-1),"") -> 2876970 | M16: =SUMIF($F$10:$F$999,P10,$L$10:$L$999) -> 12133320 | N16: 사대보험간접 | O16: 작업치료사 | P16: 직접비 | S16: =기초자료!H10 -> 이종욱 | T16: =기초자료!I10 -> 요양보호사 1급
C17: =기초자료!H11 -> 조미영 | D17: =기초자료!I11 -> 간호조무사 | F17: =IFERROR(VLOOKUP(D17,$O$10:$P$25,2,),"") -> 직접비 | G17: =기초자료!J11 -> 670818-2918716 | H17: =IFERROR(VLOOKUP(C17,기초자료!$H$4:$K$999,4,0)*12,"") -> 27600000 | I17: =IFERROR(IF(D17=0,0,SUM(기초자료!$C$23:$C$24)),) -> 0 | K17: =IFERROR(IF(D17=$O$17,0,ROUNDDOWN(H17/12,0)),) -> 2300000 | L17: =IFERROR(ROUNDDOWN((H17+I17)*3.495%,-1)+ROUNDDOWN((H17+I17)*4.5%,-1)+ROUNDDOWN((H17+I17)*1.15%,-1)+ROUNDDOWN((H17+I17)*0.85%,-1)+ROUNDDOWN((H17+I17)*3.495%*12.27%,-1),"") -> 2876970 | M17: =SUMIF($F$10:$F$999,P11,$L$10:$L$999) -> 20639150 | N17: 사대보험직접 | O17: 시설장(관리책임자) | P17: 간접비 | S17: =기초자료!H11 -> 조미영 | T17: =기초자료!I11 -> 간호조무사
C18: =기초자료!H12 -> 박종한 | D18: =기초자료!I12 -> 사무원 | F18: =IFERROR(VLOOKUP(D18,$O$10:$P$25,2,),"") -> 간접비 | G18: =기초자료!J12 -> 650817-1117921 | H18: =IFERROR(VLOOKUP(C18,기초자료!$H$4:$K$999,4,0)*12,"") -> 25800000 | I18: =IFERROR(IF(D18=0,0,SUM(기초자료!$C$23:$C$24)),) -> 0 | K18: =IFERROR(IF(D18=$O$17,0,ROUNDDOWN(H18/12,0)),) -> 2150000 | L18: =IFERROR(ROUNDDOWN((H18+I18)*3.495%,-1)+ROUNDDOWN((H18+I18)*4.5%,-1)+ROUNDDOWN((H18+I18)*1.15%,-1)+ROUNDDOWN((H18+I18)*0.85%,-1)+ROUNDDOWN((H18+I18)*3.495%*12.27%,-1),"") -> 2689340 | O18: 사무국장 | P18: 간접비 | S18: =기초자료!H12 -> 박종한 | T18: =기초자료!I12 -> 사무원
C19: =기초자료!H13 -> 박태숙 | D19: =기초자료!I13 -> 조리원 | F19: =IFERROR(VLOOKUP(D19,$O$10:$P$25,2,),"") -> 간접비 | G19: =기초자료!J13 -> 670226-2389917 | H19: =IFERROR(VLOOKUP(C19,기초자료!$H$4:$K$999,4,0)*12,"") -> 25800000 | I19: =IFERROR(IF(D19=0,0,SUM(기초자료!$C$23:$C$24)),) -> 0 | K19: =IFERROR(IF(D19=$O$17,0,ROUNDDOWN(H19/12,0)),) -> 2150000 | L19: =IFERROR(ROUNDDOWN((H19+I19)*3.495%,-1)+ROUNDDOWN((H19+I19)*4.5%,-1)+ROUNDDOWN((H19+I19)*1.15%,-1)+ROUNDDOWN((H19+I19)*0.85%,-1)+ROUNDDOWN((H19+I19)*3.495%*12.27%,-1),"") -> 2689340 | O19: 사무원 | P19: 간접비 | S19: =기초자료!H13 -> 박태숙 | T19: =기초자료!I13 -> 조리원
C20: =기초자료!H14 -> 이문규 | D20: =기초자료!I14 -> 보조원 운전사 | F20: =IFERROR(VLOOKUP(D20,$O$10:$P$25,2,),"") -> 간접비 | G20: =기초자료!J14 -> 700305-1109429 | H20: =IFERROR(VLOOKUP(C20,기초자료!$H$4:$K$999,4,0)*12,"") -> 28800000 | I20: =IFERROR(IF(D20=0,0,SUM(기초자료!$C$23:$C$24)),) -> 0 | K20: =IFERROR(IF(D20=$O$17,0,ROUNDDOWN(H20/12,0)),) -> 2400000 | L20: =IFERROR(ROUNDDOWN((H20+I20)*3.495%,-1)+ROUNDDOWN((H20+I20)*4.5%,-1)+ROUNDDOWN((H20+I20)*1.15%,-1)+ROUNDDOWN((H20+I20)*0.85%,-1)+ROUNDDOWN((H20+I20)*3.495%*12.27%,-1),"") -> 3002060 | O20: 영양사 | P20: 간접비 | S20: =기초자료!H14 -> 이문규 | T20: =기초자료!I14 -> 보조원 운전사
C21: =기초자료!H15 -> 0 | D21: =기초자료!I15 -> 0 | F21: =IFERROR(VLOOKUP(D21,$O$10:$P$25,2,),"") | G21: =기초자료!J15 -> 0 | H21: =IFERROR(VLOOKUP(C21,기초자료!$H$4:$K$999,4,0)*12,"") | I21: =IFERROR(IF(D21=0,0,SUM(기초자료!$C$23:$C$24)),) -> 0 | K21: =IFERROR(IF(D21=$O$17,0,ROUNDDOWN(H21/12,0)),) -> 0 | L21: =IFERROR(ROUNDDOWN((H21+I21)*3.495%,-1)+ROUNDDOWN((H21+I21)*4.5%,-1)+ROUNDDOWN((H21+I21)*1.15%,-1)+ROUNDDOWN((H21+I21)*0.85%,-1)+ROUNDDOWN((H21+I21)*3.495%*12.27%,-1),"") | O21: 조리원 | P21: 간접비 | S21: =기초자료!H15 -> 0 | T21: =기초자료!I15 -> 0
C22: =기초자료!H16 -> 0 | D22: =기초자료!I16 -> 0 | F22: =IFERROR(VLOOKUP(D22,$O$10:$P$25,2,),"") | G22: =기초자료!J16 -> 0 | H22: =IFERROR(VLOOKUP(C22,기초자료!$H$4:$K$999,4,0)*12,"") | I22: =IFERROR(IF(D22=0,0,SUM(기초자료!$C$23:$C$24)),) -> 0 | K22: =IFERROR(IF(D22=$O$17,0,ROUNDDOWN(H22/12,0)),) -> 0 | L22: =IFERROR(ROUNDDOWN((H22+I22)*3.495%,-1)+ROUNDDOWN((H22+I22)*4.5%,-1)+ROUNDDOWN((H22+I22)*1.15%,-1)+ROUNDDOWN((H22+I22)*0.85%,-1)+ROUNDDOWN((H22+I22)*3.495%*12.27%,-1),"") | O22: 위생원 | P22: 간접비 | S22: =기초자료!H16 -> 0 | T22: =기초자료!I16 -> 0
C23: =기초자료!H17 -> 0 | D23: =기초자료!I17 -> 0 | F23: =IFERROR(VLOOKUP(D23,$O$10:$P$25,2,),"") | G23: =기초자료!J17 -> 0 | H23: =IFERROR(VLOOKUP(C23,기초자료!$H$4:$K$999,4,0)*12,"") | I23: =IFERROR(IF(D23=0,0,SUM(기초자료!$C$23:$C$24)),) -> 0 | K23: =IFERROR(IF(D23=$O$17,0,ROUNDDOWN(H23/12,0)),) -> 0 | L23: =IFERROR(ROUNDDOWN((H23+I23)*3.495%,-1)+ROUNDDOWN((H23+I23)*4.5%,-1)+ROUNDDOWN((H23+I23)*1.15%,-1)+ROUNDDOWN((H23+I23)*0.85%,-1)+ROUNDDOWN((H23+I23)*3.495%*12.27%,-1),"") | O23: 관리인 | P23: 간접비 | S23: =기초자료!H17 -> 0 | T23: =기초자료!I17 -> 0
C24: =기초자료!H18 -> 0 | D24: =기초자료!I18 -> 0 | F24: =IFERROR(VLOOKUP(D24,$O$10:$P$25,2,),"") | G24: =기초자료!J18 -> 0 | H24: =IFERROR(VLOOKUP(C24,기초자료!$H$4:$K$999,4,0)*12,"") | I24: =IFERROR(IF(D24=0,0,SUM(기초자료!$C$23:$C$24)),) -> 0 | K24: =IFERROR(IF(D24=$O$17,0,ROUNDDOWN(H24/12,0)),) -> 0 | L24: =IFERROR(ROUNDDOWN((H24+I24)*3.495%,-1)+ROUNDDOWN((H24+I24)*4.5%,-1)+ROUNDDOWN((H24+I24)*1.15%,-1)+ROUNDDOWN((H24+I24)*0.85%,-1)+ROUNDDOWN((H24+I24)*3.495%*12.27%,-1),"") | O24: 보조원 운전사 | P24: 간접비 | S24: =기초자료!H18 -> 0 | T24: =기초자료!I18 -> 0
C25: =기초자료!H19 -> 0 | D25: =기초자료!I19 -> 0 | F25: =IFERROR(VLOOKUP(D25,$O$10:$P$25,2,),"") | G25: =기초자료!J19 -> 0 | H25: =IFERROR(VLOOKUP(C25,기초자료!$H$4:$K$999,4,0)*12,"") | I25: =IFERROR(IF(D25=0,0,SUM(기초자료!$C$23:$C$24)),) -> 0 | K25: =IFERROR(IF(D25=$O$17,0,ROUNDDOWN(H25/12,0)),) -> 0 | L25: =IFERROR(ROUNDDOWN((H25+I25)*3.495%,-1)+ROUNDDOWN((H25+I25)*4.5%,-1)+ROUNDDOWN((H25+I25)*1.15%,-1)+ROUNDDOWN((H25+I25)*0.85%,-1)+ROUNDDOWN((H25+I25)*3.495%*12.27%,-1),"") | O25: 일용직 | P25: 간접비 | S25: =기초자료!H19 -> 0 | T25: =기초자료!I19 -> 0
C26: =기초자료!H20 -> 0 | D26: =기초자료!I20 -> 0 | F26: =IFERROR(VLOOKUP(D26,$O$10:$P$25,2,),"") | G26: =기초자료!J20 -> 0 | H26: =IFERROR(VLOOKUP(C26,기초자료!$H$4:$K$999,4,0)*12,"") | I26: =IFERROR(IF(D26=0,0,SUM(기초자료!$C$23:$C$24)),) -> 0 | K26: =IFERROR(IF(D26=$O$17,0,ROUNDDOWN(H26/12,0)),) -> 0 | L26: =IFERROR(ROUNDDOWN((H26+I26)*3.495%,-1)+ROUNDDOWN((H26+I26)*4.5%,-1)+ROUNDDOWN((H26+I26)*1.15%,-1)+ROUNDDOWN((H26+I26)*0.85%,-1)+ROUNDDOWN((H26+I26)*3.495%*12.27%,-1),"") | S26: =기초자료!H20 -> 0 | T26: =기초자료!I20 -> 0
C27: =기초자료!H21 -> 0 | D27: =기초자료!I21 -> 0 | F27: =IFERROR(VLOOKUP(D27,$O$10:$P$25,2,),"") | G27: =기초자료!J21 -> 0 | H27: =IFERROR(VLOOKUP(C27,기초자료!$H$4:$K$999,4,0)*12,"") | I27: =IFERROR(IF(D27=0,0,SUM(기초자료!$C$23:$C$24)),) -> 0 | K27: =IFERROR(IF(D27=$O$17,0,ROUNDDOWN(H27/12,0)),) -> 0 | L27: =IFERROR(ROUNDDOWN((H27+I27)*3.495%,-1)+ROUNDDOWN((H27+I27)*4.5%,-1)+ROUNDDOWN((H27+I27)*1.15%,-1)+ROUNDDOWN((H27+I27)*0.85%,-1)+ROUNDDOWN((H27+I27)*3.495%*12.27%,-1),"") | S27: =기초자료!H21 -> 0 | T27: =기초자료!I21 -> 0
C28: =기초자료!H22 -> 0 | D28: =기초자료!I22 -> 0 | F28: =IFERROR(VLOOKUP(D28,$O$10:$P$25,2,),"") | G28: =기초자료!J22 -> 0 | H28: =IFERROR(VLOOKUP(C28,기초자료!$H$4:$K$999,4,0)*12,"") | I28: =IFERROR(IF(D28=0,0,SUM(기초자료!$C$23:$C$24)),) -> 0 | K28: =IFERROR(IF(D28=$O$17,0,ROUNDDOWN(H28/12,0)),) -> 0 | L28: =IFERROR(ROUNDDOWN((H28+I28)*3.495%,-1)+ROUNDDOWN((H28+I28)*4.5%,-1)+ROUNDDOWN((H28+I28)*1.15%,-1)+ROUNDDOWN((H28+I28)*0.85%,-1)+ROUNDDOWN((H28+I28)*3.495%*12.27%,-1),"") | S28: =기초자료!H22 -> 0 | T28: =기초자료!I22 -> 0
C29: =기초자료!H23 -> 0 | D29: =기초자료!I23 -> 0 | F29: =IFERROR(VLOOKUP(D29,$O$10:$P$25,2,),"") | G29: =기초자료!J23 -> 0 | H29: =IFERROR(VLOOKUP(C29,기초자료!$H$4:$K$999,4,0)*12,"") | I29: =IFERROR(IF(D29=0,0,SUM(기초자료!$C$23:$C$24)),) -> 0 | K29: =IFERROR(IF(D29=$O$17,0,ROUNDDOWN(H29/12,0)),) -> 0 | L29: =IFERROR(ROUNDDOWN((H29+I29)*3.495%,-1)+ROUNDDOWN((H29+I29)*4.5%,-1)+ROUNDDOWN((H29+I29)*1.15%,-1)+ROUNDDOWN((H29+I29)*0.85%,-1)+ROUNDDOWN((H29+I29)*3.495%*12.27%,-1),"") | S29: =기초자료!H23 -> 0 | T29: =기초자료!I23 -> 0
C30: =기초자료!H24 -> 0 | D30: =기초자료!I24 -> 0 | F30: =IFERROR(VLOOKUP(D30,$O$10:$P$25,2,),"") | G30: =기초자료!J24 -> 0 | H30: =IFERROR(VLOOKUP(C30,기초자료!$H$4:$K$999,4,0)*12,"") | I30: =IFERROR(IF(D30=0,0,SUM(기초자료!$C$23:$C$24)),) -> 0 | K30: =IFERROR(IF(D30=$O$17,0,ROUNDDOWN(H30/12,0)),) -> 0 | L30: =IFERROR(ROUNDDOWN((H30+I30)*3.495%,-1)+ROUNDDOWN((H30+I30)*4.5%,-1)+ROUNDDOWN((H30+I30)*1.15%,-1)+ROUNDDOWN((H30+I30)*0.85%,-1)+ROUNDDOWN((H30+I30)*3.495%*12.27%,-1),"") | S30: =기초자료!H24 -> 0 | T30: =기초자료!I24 -> 0
C31: =기초자료!H25 -> 0 | D31: =기초자료!I25 -> 0 | F31: =IFERROR(VLOOKUP(D31,$O$10:$P$25,2,),"") | G31: =기초자료!J25 -> 0 | H31: =IFERROR(VLOOKUP(C31,기초자료!$H$4:$K$999,4,0)*12,"") | I31: =IFERROR(IF(D31=0,0,SUM(기초자료!$C$23:$C$24)),) -> 0 | K31: =IFERROR(IF(D31=$O$17,0,ROUNDDOWN(H31/12,0)),) -> 0 | L31: =IFERROR(ROUNDDOWN((H31+I31)*3.495%,-1)+ROUNDDOWN((H31+I31)*4.5%,-1)+ROUNDDOWN((H31+I31)*1.15%,-1)+ROUNDDOWN((H31+I31)*0.85%,-1)+ROUNDDOWN((H31+I31)*3.495%*12.27%,-1),"") | S31: =기초자료!H25 -> 0 | T31: =기초자료!I25 -> 0
C32: =기초자료!H26 -> 0 | D32: =기초자료!I26 -> 0 | F32: =IFERROR(VLOOKUP(D32,$O$10:$P$25,2,),"") | G32: =기초자료!J26 -> 0 | H32: =IFERROR(VLOOKUP(C32,기초자료!$H$4:$K$999,4,0)*12,"") | I32: =IFERROR(IF(D32=0,0,SUM(기초자료!$C$23:$C$24)),) -> 0 | K32: =IFERROR(IF(D32=$O$17,0,ROUNDDOWN(H32/12,0)),) -> 0 | L32: =IFERROR(ROUNDDOWN((H32+I32)*3.495%,-1)+ROUNDDOWN((H32+I32)*4.5%,-1)+ROUNDDOWN((H32+I32)*1.15%,-1)+ROUNDDOWN((H32+I32)*0.85%,-1)+ROUNDDOWN((H32+I32)*3.495%*12.27%,-1),"") | S32: =기초자료!H26 -> 0 | T32: =기초자료!I26 -> 0
C33: =기초자료!H27 -> 0 | D33: =기초자료!I27 -> 0 | F33: =IFERROR(VLOOKUP(D33,$O$10:$P$25,2,),"") | G33: =기초자료!J27 -> 0 | H33: =IFERROR(VLOOKUP(C33,기초자료!$H$4:$K$999,4,0)*12,"") | I33: =IFERROR(IF(D33=0,0,SUM(기초자료!$C$23:$C$24)),) -> 0 | K33: =IFERROR(IF(D33=$O$17,0,ROUNDDOWN(H33/12,0)),) -> 0 | L33: =IFERROR(ROUNDDOWN((H33+I33)*3.495%,-1)+ROUNDDOWN((H33+I33)*4.5%,-1)+ROUNDDOWN((H33+I33)*1.15%,-1)+ROUNDDOWN((H33+I33)*0.85%,-1)+ROUNDDOWN((H33+I33)*3.495%*12.27%,-1),"") | S33: =기초자료!H27 -> 0 | T33: =기초자료!I27 -> 0
C34: =기초자료!H28 -> 0 | D34: =기초자료!I28 -> 0 | F34: =IFERROR(VLOOKUP(D34,$O$10:$P$25,2,),"") | G34: =기초자료!J28 -> 0 | H34: =IFERROR(VLOOKUP(C34,기초자료!$H$4:$K$999,4,0)*12,"") | I34: =IFERROR(IF(D34=0,0,SUM(기초자료!$C$23:$C$24)),) -> 0 | K34: =IFERROR(IF(D34=$O$17,0,ROUNDDOWN(H34/12,0)),) -> 0 | L34: =IFERROR(ROUNDDOWN((H34+I34)*3.495%,-1)+ROUNDDOWN((H34+I34)*4.5%,-1)+ROUNDDOWN((H34+I34)*1.15%,-1)+ROUNDDOWN((H34+I34)*0.85%,-1)+ROUNDDOWN((H34+I34)*3.495%*12.27%,-1),"") | S34: =기초자료!H28 -> 0 | T34: =기초자료!I28 -> 0
C35: =기초자료!H29 -> 0 | D35: =기초자료!I29 -> 0 | F35: =IFERROR(VLOOKUP(D35,$O$10:$P$25,2,),"") | G35: =기초자료!J29 -> 0 | H35: =IFERROR(VLOOKUP(C35,기초자료!$H$4:$K$999,4,0)*12,"") | I35: =IFERROR(IF(D35=0,0,SUM(기초자료!$C$23:$C$24)),) -> 0 | K35: =IFERROR(IF(D35=$O$17,0,ROUNDDOWN(H35/12,0)),) -> 0 | L35: =IFERROR(ROUNDDOWN((H35+I35)*3.495%,-1)+ROUNDDOWN((H35+I35)*4.5%,-1)+ROUNDDOWN((H35+I35)*1.15%,-1)+ROUNDDOWN((H35+I35)*0.85%,-1)+ROUNDDOWN((H35+I35)*3.495%*12.27%,-1),"") | S35: =기초자료!H29 -> 0 | T35: =기초자료!I29 -> 0
C36: =기초자료!H30 -> 0 | D36: =기초자료!I30 -> 0 | F36: =IFERROR(VLOOKUP(D36,$O$10:$P$25,2,),"") | G36: =기초자료!J30 -> 0 | H36: =IFERROR(VLOOKUP(C36,기초자료!$H$4:$K$999,4,0)*12,"") | I36: =IFERROR(IF(D36=0,0,SUM(기초자료!$C$23:$C$24)),) -> 0 | K36: =IFERROR(IF(D36=$O$17,0,ROUNDDOWN(H36/12,0)),) -> 0 | L36: =IFERROR(ROUNDDOWN((H36+I36)*3.495%,-1)+ROUNDDOWN((H36+I36)*4.5%,-1)+ROUNDDOWN((H36+I36)*1.15%,-1)+ROUNDDOWN((H36+I36)*0.85%,-1)+ROUNDDOWN((H36+I36)*3.495%*12.27%,-1),"") | S36: =기초자료!H30 -> 0 | T36: =기초자료!I30 -> 0
C37: =기초자료!H31 -> 0 | D37: =기초자료!I31 -> 0 | F37: =IFERROR(VLOOKUP(D37,$O$10:$P$25,2,),"") | G37: =기초자료!J31 -> 0 | H37: =IFERROR(VLOOKUP(C37,기초자료!$H$4:$K$999,4,0)*12,"") | I37: =IFERROR(IF(D37=0,0,SUM(기초자료!$C$23:$C$24)),) -> 0 | K37: =IFERROR(IF(D37=$O$17,0,ROUNDDOWN(H37/12,0)),) -> 0 | L37: =IFERROR(ROUNDDOWN((H37+I37)*3.495%,-1)+ROUNDDOWN((H37+I37)*4.5%,-1)+ROUNDDOWN((H37+I37)*1.15%,-1)+ROUNDDOWN((H37+I37)*0.85%,-1)+ROUNDDOWN((H37+I37)*3.495%*12.27%,-1),"") | S37: =기초자료!H31 -> 0 | T37: =기초자료!I31 -> 0
... C137: =기초자료!H131 -> 0 | D137: =기초자료!I131 -> 0 | F137: =IFERROR(VLOOKUP(D137,$O$10:$P$25,2,),"") | G137: =기초자료!J131 -> 0 | H137: =IFERROR(VLOOKUP(C137,기초자료!$H$4:$K$999,4,0)*12,"") | I137: =IFERROR(IF(D137=0,0,SUM(기초자료!$C$23:$C$24)),) -> 0 | K137: =IFERROR(IF(D137=$O$17,0,ROUNDDOWN(H137/12,0)),) -> 0 | L137: =IFERROR(ROUNDDOWN((H137+I137)*3.495%,-1)+ROUNDDOWN((H137+I137)*4.5%,-1)+ROUNDDOWN((H137+I137)*1.15%,-1)+ROUNDDOWN((H137+I137)*0.85%,-1)+ROUNDDOWN((H137+I137)*3.495%*12.27%,-1),"") | S137: =기초자료!H131 -> 0 | T137: =기초자료!I131 -> 0
R138: =기초자료!H134 -> 0 | S138: =기초자료!I134 -> 0
R139: =기초자료!H135 -> 0 | S139: =기초자료!I135 -> 0
R140: =기초자료!H136 -> 0 | S140: =기초자료!I136 -> 0
R141: =기초자료!H137 -> 0 | S141: =기초자료!I137 -> 0
R142: =기초자료!H138 -> 0 | S142: =기초자료!I138 -> 0
R143: =기초자료!H139 -> 0 | S143: =기초자료!I139 -> 0
R144: =기초자료!H140 -> 0 | S144: =기초자료!I140 -> 0
R145: =기초자료!H141 -> 0 | S145: =기초자료!I141 -> 0
R146: =기초자료!H142 -> 0 | S146: =기초자료!I142 -> 0
R147: =기초자료!H143 -> 0 | S147: =기초자료!I143 -> 0
R148: =기초자료!H144 -> 0 | S148: =기초자료!I144 -> 0
R149: =기초자료!H145 -> 0 | S149: =기초자료!I145 -> 0
... R205: =기초자료!H201 -> 0 | S205: =기초자료!I201 -> 0
S206: =기초자료!I202 -> 0
S207: =기초자료!I203 -> 0

Sheet 총괄
A1: VIP재가노인복지센터 | D1: 32 | E1: 인 | F1: 2022년도 예산총칙
A2: 제1조. 2022년 | B2: VIP재가노인복지센터 | C2: 세입총액은 | D2: 519567870 | E2: 원 이며, | F2: 세출총액은 | G2: 519567870 | H2: 원으로 정한다.
B3: 제2조. 세입과 세출의 세부 내역은 산출내역과 같다.
H4: (단위:원)
A5: 세 입 | D5: 세 출 | H5: 잔 액
A6: 519567870 | D6: 519567870 | H6: 0

Sheet 세입안(산출내역)2022
A1: 2022년도 세입 예산안
A2: 과 목 | E2: 2022년도 예산액 | F2: 산출근거
A3: 관 | B3: 항 | C3: 목 | D3: 세목
A4: 입소자 (이용자) 부담금수입 | B4: 입소(이용) 비용수입 | C4: 본인부담금 수입 | D4: 본인부담금 수입 | E4: 46600570 | F4: 9240 | G4: * | H4: 0 | I4: 명 | J4: * | K4: 259 | L4: 일 | M4: = | N4: 0 | O4: 1등급(일반-공단의 본인부담금15% 청구비용)
F5: 8560.5 | G5: * | H5: 0 | I5: 명 | J5: * | K5: 259 | L5: 일 | M5: = | N5: 0 | O5: 2등급(일반-공단의 본인부담금15% 청구비용)
F6: 7903.5 | G6: * | H6: 3 | I6: 명 | J6: * | K6: 259 | L6: 일 | M6: = | N6: 6141019.5 | O6: 3등급(일반-공단의 본인부담금15% 청구비용)
F7: 7687.5 | G7: * | H7: 6 | I7: 명 | J7: * | K7: 259 | L7: 일 | M7: = | N7: 11946375 | O7: 4등급(일반-공단의 본인부담금15% 청구비용)
F8: 7468.5 | G8: * | H8: 8 | I8: 명 | J8: * | K8: 259 | L8: 일 | M8: = | N8: 15474732 | O8: 5등급(일반-공단의 본인부담금15% 청구비용)
F9: 5544 | G9: * | H9: 0 | I9: 명 | J9: * | K9: 259 | L9: 일 | M9: = | N9: 0 | O9: 1등급(일반-공단의 본인부담금9% 청구비용)
F10: 5136.3 | G10: * | H10: 0 | I10: 명 | J10: * | K10: 259 | L10: 일 | M10: = | N10: 0 | O10: 2등급(일반-공단의 본인부담금9% 청구비용)
F11: 4742.1 | G11: * | H11: 1 | I11: 명 | J11: * | K11: 259 | L11: 일 | M11: = | N11: 1228203.9 | O11: 3등급(일반-공단의 본인부담금9% 청구비용)
F12: 4612.5 | G12: * | H12: 4 | I12: 명 | J12: * | K12: 259 | L12: 일 | M12: = | N12: 4778550 | O12: 4등급(일반-공단의 본인부담금9% 청구비용)
F13: 4481.1 | G13: * | H13: 2 | I13: 명 | J13: * | K13: 259 | L13: 일 | M13: = | N13: 2321209.8 | O13: 5등급(일반-공단의 본인부담금9% 청구비용)
F14: 3696 | G14: * | H14: 0 | I14: 명 | J14: * | K14: 259 | L14: 일 | M14: = | N14: 0 | O14: 1등급(일반-공단의 본인부담금6% 청구비용)
F15: 3424.2 | G15: * | H15: 0 | I15: 명 | J15: * | K15: 259 | L15: 일 | M15: = | N15: 0 | O15: 2등급(일반-공단의 본인부담금6% 청구비용)
F16: 3161.4 | G16: * | H16: 0 | I16: 명 | J16: * | K16: 259 | L16: 일 | M16: = | N16: 0 | O16: 3등급(일반-공단의 본인부담금6% 청구비용)
... F18: 2987.4 | G18: * | H18: 3 | I18: 명 | J18: * | K18: 259 | L18: 일 | M18: = | N18: 2321209.8 | O18: 5등급(일반-공단의 본인부담금6% 청구비용)
C19: 식재료비수입 | D19: 식재료비수입 | E19: 23400000 | F19: 2500 | G19: * | H19: 30 | I19: 명 | J19: * | K19: 312 | L19: 일 | M19: = | N19: 23400000 | O19: 비급여비용 일반1, 2, 3등급(하루식비 3,000원 +간식비 1,000원 = 하루 4,000원)
E20: 0 | F20: 9709.05 | G20: * | H20: 0 | I20: 명 | J20: * | K20: 53 | L20: 일 | M20: = | N20: 0 | O20: 본인부담금 (토요일)
A21: 사업수입 | B21: 사업수입 | C21: 사업수입 | D21: 사업수입 | E21: 0 | J21: * | L21: 월 | M21: = | N21: 0
A22: 보조금수입 | B22: 보조금수입 | C22: 시군구보조금 | D22: 시군구보조금 | E22: 0 | J22: * | L22: 월 | M22: = | N22: 0
C23: 기타보조금 | D23: 기타보조금 | E23: 0 | J23: * | L23: 월 | M23: = | N23: 0
A24: 후원금수입 | B24: 후원금수입 | C24: 지정후원금 | D24: 지정후원금 | E24: 0 | J24: * | L24: 월 | M24: = | N24: 0
C25: 비지정후원금 | D25: 비지정후원금 | E25: 0 | J25: * | L25: 월 | M25: = | N25: 0
A26: 요양급여수입 | B26: 요양급여 수입 | C26: 장기요양급여수입 | D26: 장기요양급여수입 | E26: 374357300 | F26: 52360 | G26: * | H26: 0 | I26: 명 | J26: * | K26: 259 | L26: 일 | M26: = | N26: 0 | O26: 1등급(일반85%-공단수가비용)
F27: 48509.5 | G27: * | H27: 0 | I27: 명 | J27: * | K27: 259 | L27: 일 | M27: = | N27: 0 | O27: 2등급(일반85%-공단수가비용)
F28: 44786.5 | G28: * | H28: 3 | I28: 명 | J28: * | K28: 259 | L28: 일 | M28: = | N28: 34799110 | O28: 3등급(일반85%-공단수가비용)
F29: 43562.5 | G29: * | H29: 6 | I29: 명 | J29: * | K29: 259 | L29: 일 | M29: = | N29: 67696125 | O29: 4등급(일반85%-공단수가비용)
F30: 42321.5 | G30: * | H30: 8 | I30: 명 | J30: * | K30: 259 | L30: 일 | M30: = | N30: 87690148 | O30: 5등급(일반85%-공단수가비용)
F31: 56056 | G31: * | H31: 0 | I31: 명 | J31: * | K31: 259 | L31: 일 | M31: = | N31: 0 | O31: 1등급(경감대상자 91%-공단수가비용)
F32: 51933.7 | G32: * | H32: 0 | I32: 명 | J32: * | K32: 259 | L32: 일 | M32: = | N32: 0 | O32: 2등급(경감대상자 91%-공단수가비용)
F33: 47947.9 | G33: * | H33: 1 | I33: 명 | J33: * | K33: 259 | L33: 일 | M33: = | N33: 12418506 | O33: 3등급(경감대상자 91%-공단수가비용)
F34: 46637.5 | G34: * | H34: 4 | I34: 명 | J34: * | K34: 259 | L34: 일 | M34: = | N34: 48316450 | O34: 4등급(경감대상자 91%-공단수가비용)
F35: 45308.9 | G35: * | H35: 2 | I35: 명 | J35: * | K35: 259 | L35: 일 | M35: = | N35: 23470010 | O35: 5등급(경감대상자 91%-공단수가비용)
F36: 57904 | G36: * | H36: 0 | I36: 명 | J36: * | K36: 259 | L36: 일 | M36: = | N36: 0 | O36: 1등급(경감대상자 94%-공단수가비용)
F37: 53645.8 | G37: * | H37: 0 | I37: 명 | J37: * | K37: 259 | L37: 일 | M37: = | N37: 0 | O37: 2등급(경감대상자 94%-공단수가비용)
F38: 49528.6 | G38: * | H38: 0 | I38: 명 | J38: * | K38: 259 | L38: 일 | M38: = | N38: 0 | O38: 3등급(경감대상자 94%-공단수가비용)
... F45: 49790 | G45: * | H45: 1 | I45: 명 | J45: * | K45: 259 | L45: 일 | M45: = | N45: 12895610 | O45: 5등급(국기초100%-공단수가비용)
D46: 가산금수입 | E46: 60000000 | F46: 64727 | G46: * | H46: 0 | I46: 명 | J46: * | K46: 53 | L46: 일 | M46: = | N46: 0 | O46: 공단부담금(토요일)(30%가산)
F47: 2200 | G47: * | H47: 0 | I47: 명 | J47: * | K47: 259 | L47: 일 | M47: = | N47: 0 | O47: 송영차랑지원비(왕복)
F48: 5000000 | J48: * | K48: 12 | L48: 월 | M48: = | N48: 60000000 | O48: 인력추가배치가산(사회복지사.요양보호사 등)
A49: 차입금 | B49: 차입금 | C49: 금융기관차입금 | D49: 금융기관차입금 | E49: 0
C50: 기타전입금 | D50: 기타전입금 | E50: 10000000
A51: 이월금 | B51: 이월금 | C51: 전년도이월금 | D51: 전년도이월금 | E51: 1000000
A52: 잡수입 | B52: 잡수입 | C52: 기타예금이자수입 | D52: 기타예금이자수입 | E52: 10000
C53: 직원식재료비수입 | D53: 직원식재료비수입 | E53: 1200000
C54: 기타잡수입 | D54: 기타잡수입 | E54: 3000000
A55: 세 입 계 | E55: 519567870
E57: =E4+E26+E46 -> 480957870

Sheet 세출안(산출내역)2022
A1: 2022년도 세출 예산안 | P1: 수입과차액
P2: 12700000
A3: 과 목 | E3: 2022년도예산액 | F3: 산출근거 | P3: 0
A4: 관 | B4: 항 | C4: 목 | D4: 세목
A5: 사무비 | B5: 인건비 (48.7%) | C5: 급여 | D5: 급여 (직접비) | E5: 198000000 | F5: 0 | G5: * | H5: 0 | I5: 명 | J5: * | K5: 12 | L5: 월 | M5: = | N5: 0 | O5: 치과위생사
F6: 2300000 | G6: * | H6: 4 | I6: 명 | J6: * | K6: 12 | L6: 월 | M6: = | N6: 110400000 | O6: 요양보호사 1급
F7: 2500000 | G7: * | H7: 2 | I7: 명 | J7: * | K7: 12 | L7: 월 | M7: = | N7: 60000000 | O7: 사회복지사
F8: 0 | G8: * | H8: 0 | I8: 명 | J8: * | K8: 12 | L8: 월 | M8: = | N8: 0 | O8: 간호사
F9: 2300000 | G9: * | H9: 1 | I9: 명 | J9: * | K9: 12 | L9: 월 | M9: = | N9: 27600000 | O9: 간호조무사
F10: 0 | G10: * | H10: 0 | I10: 명 | J10: * | K10: 12 | L10: 월 | M10: = | N10: 0 | O10: 물리치료사
F11: 0 | G11: * | H11: 0 | I11: 명 | J11: * | K11: 12 | L11: 월 | M11: = | N11: 0 | O11: 작업치료사
D12: 급여 (간접비) | E12: 116400000 | F12: 3000000 | G12: * | H12: 1 | I12: 명 | J12: * | K12: 12 | L12: 월 | M12: = | N12: 36000000 | O12: 시설장(관리책임자)
F13: 0 | G13: * | H13: 0 | I13: 명 | J13: * | K13: 12 | L13: 월 | M13: = | N13: 0 | O13: 사무국장
F14: 2150000 | G14: * | H14: 1 | I14: 명 | J14: * | K14: 12 | L14: 월 | M14: = | N14: 25800000 | O14: 사무원
F15: 0 | G15: * | H15: 0 | I15: 명 | J15: * | K15: 12 | L15: 월 | M15: = | N15: 0 | O15: 영양사
F16: 2150000 | G16: * | H16: 1 | I16: 명 | J16: * | K16: 12 | L16: 월 | M16: = | N16: 25800000 | O16: 조리원
F17: 0 | G17: * | H17: 0 | I17: 명 | J17: * | K17: 12 | L17: 월 | M17: = | N17: 0 | O17: 위생원
F18: 0 | G18: * | H18: 0 | I18: 명 | J18: * | K18: 12 | L18: 월 | M18: = | N18: 0 | O18: 관리인
F19: 2400000 | G19: * | H19: 1 | I19: 명 | J19: * | K19: 12 | L19: 월 | M19: = | N19: 28800000 | O19: 보조원 운전사
C20: 상여금 | D20: 상여금(직접비) | E20: 0 | F20: 0 | G20: * | H20: 7 | I20: 명 | J20: * | K20: 0 | L20: 회 | M20: = | N20: 0 | O20: 명절상여금
D21: 상여금(간접비) | E21: 0 | F21: 0 | G21: * | H21: 4 | I21: 명 | J21: * | K21: 0 | L21: 회 | M21: = | N21: 0
C22: 일용잡급 | D22: 일용잡급(직접비) | E22: 0 | G22: * | I22: 명 | J22: * | K22: 12 | L22: 월 | M22: = | N22: 0 | O22: 일용직 급여, 아르바이트 비용 등
D23: 일용잡급(간접비) | E23: 0 | G23: * | I23: 명 | J23: * | K23: 12 | L23: 월 | M23: = | N23: 0
C24: 각종수당 | D24: 각종수당(직접비) | E24: 0 | G24: * | I24: 명 | J24: * | K24: 12 | L24: 월 | M24: = | N24: 0 | O24: 시설직원에 대한 각종 수당 (직종ㆍ직급별로 일정액을 지급하는 수당과 시간외근무수당ㆍ 야간근무수당ㆍ휴일근무수당 등) 및 그 밖의 수당
D25: 각종수당(간접비) | E25: 0 | G25: * | I25: 명 | J25: * | K25: 12 | L25: 월 | M25: = | N25: 0
C26: 퇴직금 및 퇴직적립금 | D26: 퇴직금 및 퇴직적립금 (직접비) | E26: 16800000 | F26: 1400000 | G26: * | K26: 12 | L26: 월 | M26: = | N26: 16800000 | O26: 직접비 시설직원의 퇴직적립금(총급여의 1/12)
D27: 퇴직금 및 퇴직적립금 (간접비) | E27: 6700080 | F27: 558340 | G27: * | K27: 12 | L27: 월 | M27: = | N27: 6700080 | O27: 간접비 시설직원의 퇴직적립금(총급여의 1/12)
C28: 사회보험부담금 | D28: 사회보험부담금 (직접비-사업주부담분) | E28: 20639190 | F28: 198000000 | G28: * | K28: 4.5 | L28: % | M28: = | N28: 8910000 | O28: 연금보험료(급여의 4.5%)
F29: 198000000 | G29: * | K29: 3.495 | L29: % | M29: = | N29: 6920100 | O29: 건강보험료(급여의 3.495%)
F30: 6920100 | G30: * | K30: 12.27 | L30: % | M30: = | N30: 849090 | O30: 장기요양보험료(건강보험료의 12.27%)
F31: 198000000 | G31: * | K31: 1.15 | L31: % | M31: = | N31: 2277000 | O31: 고용보험료(급여의 1.15%)
F32: 198000000 | G32: * | K32: 0.85 | L32: % | M32: = | N32: 1683000 | O32: 산재보험료(급여의 0.85%)
D33: 사회보험부담금 (간접비-사업주부담분) | E33: 11413340 | F33: 116400000 | G33: * | K33: 4.5 | L33: % | M33: = | N33: 5238000 | O33: 연금보험료(급여의 4.5%)
F34: 116400000 | G34: * | K34: 3.495 | L34: % | M34: = | N34: 4068180 | O34: 건강보험료(급여의 3.495%)
F35: 4068180 | G35: * | K35: 12.27 | L35: % | M35: = | N35: 499160 | O35: 장기요양보험료(건강보험료의 12.27%)
F36: 80400000 | G36: * | K36: 1.15 | L36: % | M36: = | N36: 924600 | O36: 고용보험료(급여의 1.15%)
F37: 80400000 | G37: * | K37: 0.85 | L37: % | M37: = | N37: 683400 | O37: 산재보험료(급여의 0.85%)
B38: 업무추진비 | C38: 기관운영비 | D38: 기관운영비 | E38: 2400000 | F38: 200000 | G38: * | K38: 12 | L38: 월 | M38: = | N38: 2400000 | O38: 기관운영 및 유관기관과의 업무형의 등에 소요되는 경비 (협회비, 기관광고비,접대비 등)
C39: 직책보조비 | D39: 직책보조비 | E39: 0 | G39: * | K39: 12 | L39: 월 | M39: = | N39: 0 | O39: 직책보조비 및 시설장핸드폰요금
C40: 회의비 | D40: 회의비 | E40: 0 | G40: * | K40: 12 | L40: 월 | M40: = | N40: 0 | O40: 후원회 및 각종회의 다과비등에 소요되는 경비
B41: 운영비 | C41: 여비 | D41: 여비 | E41: 180000 | F41: 15000 | G41: * | K41: 12 | L41: 월 | M41: = | N41: 180000 | O41: 출장교통비
C42: 수용비및수수료 | D42: 수용비 및 수수료 | E42: 24000000 | F42: 2000000 | G42: * | K42: 12 | L42: 월 | M42: = | N42: 24000000 | O42: 사무용품 및 인쇄비 등 소규모 수수료 등 (등기우편,배송비, 기장료 등 )
C43: 공공요금 및 제세공과금 | D43: 공공요금 및 제세공과금 | E43: 6000000 | F43: 500000 | G43: * | K43: 12 | L43: 월 | M43: = | N43: 6000000 | O43: 전기,가스,통신요금 및 법령에 의하여 지급하는 제세 (화재 및 자동차 , 배상책임 보험료 등)
C44: 차량비 | D44: 차량비 | E44: 3600000 | F44: 300000 | G44: * | K44: 12 | L44: 월 | M44: = | N44: 3600000 | O44: 차량주유 및 정비유지비
C45: 임차료 | D45: 임차료 | E45: 60000000 | F45: 5000000 | G45: * | K45: 12 | L45: 월 | M45: = | N45: 60000000 | O45: 사무실임대료 등
C46: 기타운영비 | D46: 기타운영비 | E46: 3600000 | F46: 300000 | G46: * | K46: 12 | L46: 월 | M46: = | N46: 3600000 | O46: 차량렌트비,직원식대,포상금 등
A47: 사 무 비 | C47: 소 계 | E47: 469732610
A48: 재산조성비 | B48: 시설비 | C48: 시설비 | D48: 시설비 | E48: 0 | F48: 0 | K48: 1 | L48: 회 | M48: = | N48: 0 | O48: 시설 신.증축비 및 부대경비
C49: 자산취득비 | D49: 자산취득비 | E49: 12000000 | F49: 1000000 | K49: 12 | L49: 회 | M49: = | N49: 12000000 | O49: 운영에 필요한 비품 및 자산의 취득비
C50: 시설장비유지비 | D50: 시설장비유지비 | E50: 0 | K50: 1 | L50: 회 | M50: = | N50: 0 | O50: 승강기,소방설비 등 시설물 유지관리비
A51: 재 산 조 성 비 | C51: 소 계 | E51: 12000000
A52: 사업비 | B52: 운영비 | C52: 생계비 | D52: 생계비 | E52: 23400000 | F52: 2500 | G52: 30 | K52: 312 | L52: 일 | M52: = | N52: 23400000 | O52: 주식비, 부식비, 특별부식비, 장유비, 월동용 김장비
C53: 수용기관경비 | D53: 수용기관경비 | E53: 2400000 | F53: 200000 | K53: 12 | L53: 월 | M53: = | N53: 2400000 | O53: 입소자를 위한 수용비(치약ㆍ칫솔ㆍ수건 구입비 등)
C54: 의료비 | D54: 의료비 | E54: 2400000 | F54: 200000 | K54: 12 | L54: 월 | M54: = | N54: 2400000 | O54: 입소자의 진료약제비 및 의료소모품
C55: 장의비 | D55: 장의비 | E55: 0 | K55: 12 | L55: 월 | M55: = | N55: 0 | O55: 입소자(이용자) 중 사망자의 장의비
B56: 사업비 | C56: 프로그램 사업비 | D56: 프로그램 사업비 | E56: 9600000 | F56: 800000 | K56: 12 | L56: 월 | M56: = | N56: 9600000 | O56: 사회심리재활 등 입소자를 위한 프로그램운영비
A57: 사 업 비 | C57: 소 계 | E57: 37800000
A58: 전출금 | B58: 전출금 | C58: 법인회계전출금 | D58: 법인회계전출금 | E58: 0 | K58: 12 | L58: 월 | M58: = | N58: 0
C59: 기타전출금 | D59: 기타전출금 | E59: 0 | K59: 12 | L59: 월 | M59: = | N59: 0 | O59: 대표자 전출금
A60: 상환금 | B60: 부채상환금 | C60: 원금상환금 | D60: 원금상환금 | E60: 0 | K60: 12 | L60: 월 | M60: = | N60: 0 | O60: 차입에 대한 원금 상환금
C61: 이자지불금 | D61: 이자지불금 | E61: 0 | K61: 12 | L61: 월 | M61: = | N61: 0 | O61: 차입금 이자지급금
A62: 잡지출 | B62: 잡지출 | C62: 잡지출 | D62: 잡지출 | E62: 0 | K62: 12 | L62: 월 | M62: = | N62: 0 | O62: 보상금, 사례금, 소송경비 등
A63: 예비비 및 기타 | B63: 예비비 및 기타 | C63: 예비비 | D63: 예비비 | E63: 35260 | O63: 예비비
C64: 반환금 | D64: 반환금 | E64: 0 | O64: 반환금
A65: 적립금 및 준비금 | B65: 운영충당적립금 및 환경개선부담금 | C65: 운영충당적립금 | D65: 운영충당적립금 | E65: 0 | K65: 12 | L65: 월 | M65: = | N65: 0 | O65: 요양기관의 안정적인 기관운영을 위한 적립금
C66: 시설환경 개선준비금 | D66: 시설환경 개선준비금 | E66: 0 | K66: 12 | L66: 월 | M66: = | N66: 0 | O66: 시설이미지 개선을위한 시설환경개선준비금
A67: 전 출 금 외 | C67: 소 계 | E67: 35260
A68: 세 출 계 | E68: 519567870
E71: =E5+E20+E22+E24+E26+E28 -> 235439190 | F71: ='세입안(산출내역)2022'!E57*48.7% -> 2.3422648e+08 | H71: =E71-F71 -> 1212707.3
