Workbook

Sheet 표제
A10: 2020년 | F10: 세입·세출 예산서
A42: YJ주야간보호센터

Sheet 예산총칙
A1: 예 산 총 칙
A4: 제1조 사회복지시설 | D4: =표제!A42 -> YJ주야간보호센터 | F4: =표제!A10 -> 2020년 | G4: 예산은 일반회계 세입.세출
A5: 예산 총액은 각각 | D5: =세입예산서!E5 -> 108276200 | E5: 천원으로 한다
A7: 제2조
A8: 1) | B8: 세입 재원은 세입명세서와 같다.
A9: 2) | B9: 세출의 재원은 세출명세서와 같다.
A11: 제3조 | B11: =F4 -> 2020년 | C11: 도 명시 이월사업은 명시 이월사업비 명세서와 같다.
A13: 제4조 | B13: =B11 -> 2020년 | C13: 도 계속비 사업은 계속비 조서와 같다
A15: 제5조 | B15: 국가 또는 지방자치단체로부터 교부된 보조금 및 지정후원금,법인전입금 등은
A16: 추가경정예산의 성립 이전이라도 보조 및 후원목적에 적절할 경우 먼저사용할수
A17: 있으며, 이는 차기 추가정정예산에 반영하여야 한다.

Sheet 총괄표
A1: 2020년도 세입.세출 총괄표
A2: 1.세입.세출 총괄표 | H2: 금액단위:원
A3: 세 입 | F3: 세 출
A4: 과 목 | B4: 당해년도 예산액 (A) | C4: 당해년도 예산액 (B) | D4: 증 감(B-A) | F4: 과 목 | G4: 당해년도 예산액 (A) | H4: 당해년도 예산액 (B) | I4: 증 감(B-A)
D5: 금액 | E5: 비율(%) | I5: 금액 | J5: 비율(%)
A6: 입소자부담금 | B6: 0 | C6: =세입예산서!Q6 -> 16378362 | D6: =C6-B6 -> 16378362 | F6: 사 무 비 | G6: 0 | H6: =세출예산서!E6 -> 86581021 | I6: =H6-G6 -> 86581021
A7: 사업수입 | B7: 0 | C7: =세입예산서!Q42 -> 0 | D7: =C7-B7 -> 0 | F7: 재산조성비 | G7: 0 | H7: =세출예산서!E104 -> 0 | I7: =H7-G7 -> 0
A8: 과년도 수입 | B8: 0 | C8: =세입예산서!Q46 -> 0 | D8: =C8-B8 -> 0 | F8: 사 업 비 | G8: 0 | H8: =세출예산서!E113 -> 11688000 | I8: =H8-G8 -> 11688000
A9: 보조금 수입 | B9: 0 | C9: =세입예산서!Q50 -> 0 | D9: =C9-B9 -> 0 | F9: 전출금 | G9: 0 | H9: =세출예산서!E138 -> 9000000 | I9: =H9-G9 -> 9000000
A10: 후원금 수입 | B10: 0 | C10: =세입예산서!E64 -> 0 | D10: =C10-B10 -> 0 | F10: 과년도 지출 | G10: 0 | H10: =세출예산서!E142 -> 0 | I10: =H10-G10 -> 0
A11: 요양급여 수입 | B11: 0 | C11: =세입예산서!N68 -> 64752798 | D11: =C11-B11 -> 64752798 | F11: 상환금 | G11: 0 | H11: =세출예산서!E145 -> 0 | I11: =H11-G11 -> 0
A12: 차 입 금 | B12: 0 | C12: =세입예산서!Q97 -> 0 | D12: =C12-B12 -> 0 | F12: 잡 지 출 | G12: 0 | H12: =세출예산서!E152 -> 1007179 | I12: =H12-G12 -> 1007179
A13: 전 입 금 | B13: 0 | C13: =세입예산서!Q103 -> 25200000 | D13: =C13-B13 -> 25200000 | F13: 예비비 및 기타 | G13: 0 | H13: =세출예산서!E155 -> 0 | I13: =H13-G13 -> 0
A14: 이 월 금 | B14: 0 | C14: =세입예산서!Q113 -> 0 | D14: =C14-B14 -> 0 | F14: 적립금 및 준비금 | G14: 0 | H14: =세출예산서!E159 -> 0 | I14: =H14-G14 -> 0
A15: 잡 수 입 | B15: 0 | C15: =세입예산서!Q121 -> 1945040 | D15: =C15-B15 -> 1945040 | F15: 적립금 및 준비금 (특별회계) | G15: 0 | H15: =세출예산서!Q149 -> 0 | I15: =H15-G15 -> 0
A16: 적립금 및 준비금(특별회계) | B16: 0 | C16: =세입예산서!E132 -> 0 | D16: =C16-B16 -> 0
A17: 합 계 | B17: =SUM(B6:B15) -> 0 | C17: =SUM(C6:C15) -> 108276200 | D17: =C17-B17 -> 108276200 | F17: 합 계 | G17: =SUM(G6:G15) -> 0 | H17: =SUM(H6:H15) -> 1.082762e+08 | I17: =H17-G17 -> 1.082762e+08
H18: =표제!A42 -> YJ주야간보호센터

Sheet 보수일람표
A1: 직 원 보 수 일 람 표
A2: 2.보수일람표 | H2: 금액단위:원 | I2: 직종별 급여합계 | J2: 직종별 퇴직금 | K2: 직종별 4대보험
A3: 순번 | B3: 인적사항 | E3: 기 본 급 여 및 제 수 당 | I3: =SUBTOTAL(9,H5:H10) -> 47700000 | J3: =SUBTOTAL(9,J5:J10) -> 3975000 | K3: =SUBTOTAL(9,K5:K10) -> 4716022
B4: 성명 | C4: 구분 | D4: 직종 | E4: 기본급 | F4: 고정연장수당 | G4: 고정휴일수당 | H4: 지급총액 | J4: 퇴직금 | K4: 사회보험
A5: 1 | C5: 직접비 | D5: 요양보호사 | E5: =1800000*6 -> 10800000 | F5: 0 | G5: 0 | H5: =SUM(E5,F5,G5) -> 10800000 | J5: =H5/12 -> 900000 | K5: =H5*9.7% -> 1047600
A6: 2 | C6: 직접비 | D6: 요양보호사 | E6: =1800000*6 -> 10800000 | H6: =SUM(E6,F6,G6) -> 10800000 | J6: =H6/12 -> 900000 | K6: =H6*9.7% -> 1047600
A7: 3 | C7: 직접비 | D7: 간호조무사 | E7: =1850000*6 -> 11100000 | F7: 0 | G7: 0 | H7: =SUM(E7,F7,G7) -> 11100000 | J7: =H7/12 -> 925000 | K7: 1137796
A8: 4 | C8: 직접비 | D8: 사회복지사 | E8: 0 | H8: =SUM(E8,F8,G8) -> 0 | J8: =H8/12 -> 0 | K8: =H8*10.13% -> 0
A9: 5 | C9: 간접비 | D9: 조리사 | E9: 0 | F9: 0 | G9: 0 | H9: =SUM(E9,F9,G9) -> 0 | J9: =H9/12 -> 0 | K9: =H9*10.13% -> 0
A10: 6 | C10: 간접비 | D10: 시설장 | E10: =2500000*6 -> 15000000 | H10: =SUM(E10,F10,G10) -> 15000000 | J10: =H10/12 -> 1250000 | K10: 1483026
A11: 합 계 | E11: =SUM(E5:E10) -> 47700000 | F11: =SUM(F5:F10) -> 0 | G11: =SUM(G5:G10) -> 0 | H11: =SUM(H5:H10) -> 47700000

Sheet 세입예산서
A1: 2020년도 세입예산서
A2: 3.세입 명세서 | D2: (금액단위: 원) | I2: =표제!A42 -> YJ주야간보호센터 | R2: 자금원천
A3: 계 정 과 목 | D3: 2020년 예산액 (A) | E3: 2020년 예산액 (B) | F3: 증 감 (B-A) | G3: 산 출 기 초 | Q3: (단위:원) | R3: 보조금 | S3: 수익사업 (자부담) | T3: 후원금
A4: 관 | B4: 항 | C4: 목
A5: 총 계 | D5: 0 | E5: =E6+E42+E46+E50+E68+E64+E97+E103+E113+E121+E132 -> 108276200 | F5: =E5-D5 -> 108276200 | N5: =Q6+Q42+Q46+Q50+N68+Q64+Q97+Q103+Q113+Q121+Q132 -> 108276200
A6: 01 입소자부담금 수입 | D6: 0 | E6: =E7+E37 -> 16378362 | F6: =E6-D6 -> 16378362 | Q6: =Q7+Q37 -> 16378362
B7: 11 입소비용수입 | D7: 0 | E7: =E8+E34 -> 16378362 | F7: =E7-D7 -> 16378362 | Q7: =Q8+Q34+Q37 -> 16378362
C8: 111 본인부담금수입 | D8: 0 | E8: =Q8 -> 8890362 | F8: =E8-D8 -> 8890362 | G8: ㅇ 본인부담금수입 | J8: 8 | Q8: =SUM(Q9:Q33) -> 8890362 | S8: =Q8 -> 8890362
G9: - 1등급(일반) | H9: =64350*0.15 -> 9652.5 | I9: 원 | J9: x | K9: 0 | L9: 명 | M9: x | N9: 156 | O9: 일 | P9: = | Q9: =(H9*K9)*N9 -> 0
G10: - 1등급(9%) | H10: =64350*0.09 -> 5791.5 | I10: 원 | J10: x | K10: 0 | L10: 명 | M10: x | N10: 156 | O10: 일 | P10: = | Q10: =(H10*K10)*N10 -> 0
G11: - 1등급(6%) | H11: =64350*0.06 -> 3861 | I11: 원 | J11: x | K11: 0 | L11: 명 | M11: x | N11: 156 | O11: 일 | P11: = | Q11: =(H11*K11)*N11 -> 0
G12: - 1등급 (기초수급) | H12: 0 | I12: 원 | J12: x | K12: 0 | L12: 명 | M12: x | N12: 156 | O12: 일 | P12: = | Q12: =(H12*K12)*N12 -> 0
G13: - 2등급(일반) | H13: =59610*0.15 -> 8941.5 | I13: 원 | J13: x | K13: 0 | L13: 명 | M13: x | N13: 156 | O13: 일 | P13: = | Q13: =(H13*K13)*N13 -> 0
G14: - 2등급(9%) | H14: =59610*0.09 -> 5364.9 | I14: 원 | J14: x | K14: 0 | L14: 명 | M14: x | N14: 156 | O14: 일 | P14: = | Q14: =(H14*K14)*N14 -> 0
G15: - 2등급(6%) | H15: =59610*0.06 -> 3576.6 | I15: 원 | J15: x | K15: 0 | L15: 명 | M15: x | N15: 156 | O15: 일 | P15: = | Q15: =(H15*K15)*N15 -> 0
G16: - 2등급 (기초수급) | H16: 0 | I16: 원 | J16: x | K16: 0 | L16: 명 | M16: x | N16: 156 | O16: 일 | P16: = | Q16: =(H16*K16)*N16 -> 0
G17: - 3등급(일반) | H17: =55070*0.15 -> 8260.5 | I17: 원 | J17: x | K17: 3 | L17: 명 | M17: x | N17: 156 | O17: 일 | P17: = | Q17: =(H17*K17)*N17 -> 3865914
G18: - 3등급(9%) | H18: =55070*0.09 -> 4956.3 | I18: 원 | J18: x | K18: 0 | L18: 명 | M18: x | N18: 156 | O18: 일 | P18: = | Q18: =(H18*K18)*N18 -> 0
G19: - 3등급(6%) | H19: =55070*0.06 -> 3304.2 | I19: 원 | J19: x | K19: 0 | L19: 명 | M19: x | N19: 156 | O19: 일 | P19: = | Q19: =(H19*K19)*N19 -> 0
G20: - 3등급 (기초수급) | H20: 0 | I20: 원 | J20: x | K20: 0 | L20: 명 | M20: x | N20: 156 | O20: 일 | P20: = | Q20: =(H20*K20)*N20 -> 0
G21: - 4등급(일반) | H21: =53680*0.15 -> 8052 | I21: 원 | J21: x | K21: 3 | L21: 명 | M21: x | N21: 156 | O21: 일 | P21: = | Q21: =(H21*K21)*N21 -> 3768336
G22: - 4등급(9%) | H22: =53680*0.09 -> 4831.2 | I22: 원 | J22: x | K22: 1 | L22: 명 | M22: x | N22: 156 | O22: 일 | P22: = | Q22: =(H22*K22)*N22 -> 753667.2
G23: - 4등급(6%) | H23: =53680*0.06 -> 3220.8 | I23: 원 | J23: x | K23: 1 | L23: 명 | M23: x | N23: 156 | O23: 일 | P23: = | Q23: =(H23*K23)*N23 -> 502444.8
G24: - 4등급 (기초수급) | H24: 0 | I24: 원 | J24: x | K24: 0 | L24: 명 | M24: x | N24: 156 | O24: 일 | P24: = | Q24: =(H24*K24)*N24 -> 0
G25: - 5등급(일반) | H25: =52320*0.15 -> 7848 | I25: 원 | J25: x | K25: 0 | L25: 명 | M25: x | N25: 156 | O25: 일 | P25: = | Q25: =(H25*K25)*N25 -> 0
G26: - 5등급(9%) | H26: =52320*0.09 -> 4708.8 | I26: 원 | J26: x | K26: 0 | L26: 명 | M26: x | N26: 156 | O26: 일 | P26: = | Q26: =(H26*K26)*N26 -> 0
G27: - 5등급(6%) | H27: =52320*0.06 -> 3139.2 | I27: 원 | J27: x | K27: 0 | L27: 명 | M27: x | N27: 156 | O27: 일 | P27: = | Q27: =(H27*K27)*N27 -> 0
G28: - 5등급 (기초수급) | H28: 0 | I28: 원 | J28: x | K28: 0 | L28: 명 | M28: x | N28: 156 | O28: 일 | P28: = | Q28: =(H28*K28)*N28 -> 0
G29: - 인지지원 (일반) | H29: =47210*15% -> 7081.5 | I29: 원 | J29: x | K29: 0 | L29: 명 | M29: x | N29: 156 | O29: 일 | P29: = | Q29: =(H29*K29)*N29 -> 0
G30: - 인지지원 (9%) | H30: =47210*0.09 -> 4248.9 | I30: 원 | J30: x | K30: 0 | L30: 명 | M30: x | N30: 156 | O30: 일 | P30: = | Q30: =(H30*K30)*N30 -> 0
G31: - 인지지원 (6%) | H31: =47210*0.06 -> 2832.6 | I31: 원 | J31: x | K31: 0 | L31: 명 | M31: x | N31: 72 | O31: 일 | P31: = | Q31: =(H31*K31)*N31 -> 0
G32: - 인지지원 (기초수급) | H32: 0 | I32: 원 | J32: x | K32: 0 | L32: 명 | M32: x | N32: 72 | O32: 일 | P32: = | Q32: =(H32*K32)*N32 -> 0
G33: - 등급외 (단기입소자) | H33: 0 | I33: 원ⅹ | K33: 0 | L33: 명 | M33: x | N33: 0 | O33: 일 | P33: = | Q33: =(H33*K33)*N33 -> 0
C34: 112 식재료비수입 | D34: 0 | E34: =Q34 -> 7488000 | F34: =E34-D34 -> 7488000 | G34: ㅇ식재료비 수입 | P34: = | Q34: =Q36+Q35 -> 7488000 | S34: =Q34 -> 7488000
G35: -식재료비 수입 | H35: 6000 | I35: 원 | J35: x | K35: 8 | L35: 명 | M35: x | N35: 156 | O35: 일 | P35: = | Q35: =(H35*K35)*N35 -> 7488000
G36: -간식비 수입 | H36: 0 | I36: 원 | J36: x | K36: 8 | L36: 명 | M36: x | N36: 156 | O36: 일 | P36: = | Q36: =(H36*K36)*N36 -> 0
B37: 12 부담금 | D37: 0 | E37: =E38+E40 -> 0 | F37: =E37-D37 -> 0 | Q37: =Q38+Q40 -> 0 | S37: =Q37 -> 0
C38: 121 상급침실이용료 | D38: 0 | E38: =Q38 -> 0 | F38: =E38-D38 -> 0 | G38: ㅇ 상급침실이용료 | P38: = | Q38: =Q39 -> 0
G39: - 상급침실이용료 | H39: 0 | I39: 원 | J39: x | K39: 0 | L39: 명 | M39: x | N39: 0 | O39: 월 | P39: = | Q39: =(H39*K39)*N39 -> 0
C40: 122 기타 비급여 | D40: 0 | E40: =Q40 -> 0 | F40: =E40-D40 -> 0 | G40: ㅇ 비급여 | P40: = | Q40: =Q41 -> 0
G41: - 이미용료 | H41: 0 | I41: 원 | J41: x | K41: 0 | L41: 명 | M41: x | N41: 0 | O41: 월 | P41: = | Q41: =(H41*K41)*N41 -> 0
A42: 02 사업수입 | D42: 0 | E42: =E43 -> 0 | F42: =E42-D42 -> 0 | Q42: =Q43 -> 0
B43: 21 사업수입 | D43: 0 | E43: =E44 -> 0 | F43: =E43-D43 -> 0 | Q43: =Q44 -> 0
C44: 211 운영사업수입 | D44: 0 | E44: =Q44 -> 0 | F44: =E44-D44 -> 0 | G44: ㅇ 사업운영수입 | P44: = | Q44: =Q45 -> 0
G45: - 사업운영수입 | H45: 0 | I45: 원 | J45: x | K45: 0 | L45: 명 | M45: x | N45: 0 | O45: 월 | P45: = | Q45: =(H45*K45)*N45 -> 0
A46: 03 과년도 수입 | D46: 0 | E46: =E47 -> 0 | F46: =E46-D46 -> 0 | Q46: =Q47 -> 0 | S46: =Q46 -> 0
B47: 31 과년도 수입 | D47: 0 | E47: =E48 -> 0 | F47: =E47-D47 -> 0 | Q47: =Q48 -> 0
C48: 311 과년도 수입 | D48: 0 | E48: =Q48 -> 0 | F48: =E48-D48 -> 0 | G48: ㅇ 과년도수입 | P48: = | Q48: =Q49 -> 0
G49: - 과년도수입 | H49: 0 | I49: 원 | P49: = | Q49: =H49 -> 0
A50: 04 보조금수입 | D50: 0 | E50: =E51 -> 0 | F50: =E50-D50 -> 0 | Q50: =Q51 -> 0
B51: 41 보조금 수입 | D51: 0 | E51: =E52+E54+E59+E61 -> 0 | F51: =E51-D51 -> 0 | Q51: =Q52+Q54+Q59+Q61 -> 0
C52: 411 국고 보조금 | D52: 0 | E52: =Q52 -> 0 | F52: =E52-D52 -> 0 | G52: ㅇ 국고보조금 | Q52: =Q53 -> 0 | R52: =Q52 -> 0
G53: - 국고보조금 | H53: 0 | I53: 원 | J53: x | K53: 0 | L53: 명 | M53: x | N53: 0 | O53: 회 | P53: = | Q53: =(H53*K53)*N53 -> 0
C54: 412 시,도 보조금 | D54: 0 | E54: =Q54 -> 0 | F54: =E54-D54 -> 0 | G54: ㅇ시,도 보조금 | Q54: =SUM(Q55:Q58) -> 0 | R54: =Q54 -> 0
G55: - 생계비보조 (식재료비) | H55: 0 | I55: 원 | J55: x | K55: 0 | L55: 명 | M55: x | N55: 0 | O55: 월 | P55: = | Q55: =(H55*K55)*N55 -> 0
G56: - 생계비보조 (간식비) | H56: 0 | I56: 원 | J56: x | K56: 0 | L56: 명 | M56: x | N56: 0 | O56: 월 | P56: = | Q56: =(H56*K56)*N56 -> 0
G57: - 특별위로금 | H57: 0 | I57: 원 | J57: x | K57: 0 | L57: 명 | M57: x | N57: 0 | O57: 월 | P57: = | Q57: =(H57*K57)*N57 -> 0
G58: - 월동대책비, 동내의비 | H58: 0 | I58: 원 | J58: x | K58: 0 | L58: 명 | M58: x | N58: 0 | O58: 월 | P58: = | Q58: =(H58*K58)*N58 -> 0
C59: 413 시군구 보조금 | D59: 0 | E59: =Q59 -> 0 | F59: =E59-D59 -> 0 | G59: ㅇ 시군구 보조금 | Q59: =Q60 -> 0 | R59: =Q59 -> 0
G60: - 시군구보조금 | H60: 0 | I60: 원 | P60: = | Q60: =H60 -> 0
C61: 414 기타 보조금 | D61: 0 | E61: =Q61 -> 0 | F61: =E61-D61 -> 0 | G61: ㅇ 기타 보조금 | Q61: =Q63+Q62 -> 0
G62: - 프로그램 | H62: 0 | I62: 원 | J62: x | K62: 0 | L62: 명 | M62: x | N62: 0 | O62: 월 | P62: = | Q62: =(H62*K62)*N62 -> 0
G63: - 추가인력 | H63: 0 | I63: 원 | J63: x | K63: 0 | L63: 명 | M63: x | N63: 0 | O63: 월 | P63: = | Q63: =(H63*K63)*N63 -> 0
A64: 05 후원금 수입 | D64: 0 | E64: =E65 -> 0 | F64: =E64-D64 -> 0 | Q64: =Q65 -> 0
B65: 51 후원금 수입 | D65: 0 | E65: =E66 -> 0 | F65: =E65-D65 -> 0 | Q65: =Q66 -> 0
C66: 511 후원금 수입 | D66: 0 | E66: =Q66 -> 0 | F66: =E66-D66 -> 0 | G66: ㅇ 후원금수입 | P66: = | Q66: =Q67 -> 0 | T66: =Q589 -> 0
G67: - 후원금 수입 | H67: 0 | I67: 원 | P67: = | Q67: =H67 -> 0
A68: 06 요양급여수입 | D68: 0 | E68: =E69 -> 64752798 | F68: =E68-D68 -> 64752798 | N68: =N69 -> 64752798
B69: 61 요양급여수입 | D69: 0 | E69: =E70+E95 -> 64752798 | F69: =E69-D69 -> 64752798 | N69: =N70+N95 -> 64752798
C70: 611 장기요양급여 수입 | D70: 0 | E70: =N70 -> 58752798 | F70: =E70-D70 -> 58752798 | G70: ㅇ 장기요양급여수입 | K70: 8 | N70: =SUM(Q71:Q94) -> 58752798 | S70: =N70 -> 58752798 | U70: =S70/12 -> 4896066.5
G71: - 1등급(일반) | H71: =64350*0.85 -> 54697.5 | I71: 원 | J71: x | K71: 0 | L71: 명 | M71: x | N71: 156 | O71: 일 | P71: = | Q71: =(H71*K71)*N71 -> 0
G72: - 1등급(91%) | H72: =64350*0.91 -> 58558.5 | I72: 원 | J72: x | K72: 0 | L72: 명 | M72: x | N72: 156 | O72: 일 | P72: = | Q72: =(H72*K72)*N72 -> 0
G73: - 1등급(94%) | H73: =64350*0.94 -> 60489 | I73: 원 | J73: x | K73: 0 | L73: 명 | M73: x | N73: 156 | O73: 일 | P73: = | Q73: =(H73*K73)*N73 -> 0
G74: - 1등급 (기초수급) | H74: 64350 | I74: 원 | J74: x | K74: 0 | L74: 명 | M74: x | N74: 156 | O74: 일 | P74: = | Q74: =(H74*K74)*N74 -> 0
G75: - 2등급(일반) | H75: =59610*0.85 -> 50668.5 | I75: 원 | J75: x | K75: 0 | L75: 명 | M75: x | N75: 156 | O75: 일 | P75: = | Q75: =(H75*K75)*N75 -> 0
G76: - 2등급(91%) | H76: =59610*0.91 -> 54245.1 | I76: 원 | J76: x | K76: 0 | L76: 명 | M76: x | N76: 156 | O76: 일 | P76: = | Q76: =(H76*K76)*N76 -> 0
G77: - 2등급(94%) | H77: =59610*0.94 -> 56033.4 | I77: 원 | J77: x | K77: 0 | L77: 명 | M77: x | N77: 156 | O77: 일 | P77: = | Q77: =(H77*K77)*N77 -> 0
G78: - 2등급 (기초수급) | H78: 59610 | I78: 원 | J78: x | K78: 0 | L78: 명 | M78: x | N78: 156 | O78: 일 | P78: = | Q78: =(H78*K78)*N78 -> 0
G79: - 3등급(일반) | H79: =55070*0.85 -> 46809.5 | I79: 원 | J79: x | K79: 3 | L79: 명 | M79: x | N79: 156 | O79: 일 | P79: = | Q79: =(H79*K79)*N79 -> 21906846
G80: - 3등급(91%) | H80: =55070*0.91 -> 50113.7 | I80: 원 | J80: x | K80: 0 | L80: 명 | M80: x | N80: 156 | O80: 일 | P80: = | Q80: =(H80*K80)*N80 -> 0
G81: - 3등급(94%) | H81: =55070*0.94 -> 51765.8 | I81: 원 | J81: x | K81: 0 | L81: 명 | M81: x | N81: 156 | O81: 일 | P81: = | Q81: =(H81*K81)*N81 -> 0
G82: - 3등급 (기초수급) | H82: 55070 | I82: 원 | J82: x | K82: 0 | L82: 명 | M82: x | N82: 156 | O82: 일 | P82: = | Q82: =(H82*K82)*N82 -> 0
G83: - 4등급(일반) | H83: =53680*0.85 -> 45628 | I83: 원 | J83: x | K83: 3 | L83: 명 | M83: x | N83: 156 | O83: 일 | P83: = | Q83: =(H83*K83)*N83 -> 21353904
G84: - 4등급(91%) | H84: =53680*0.91 -> 48848.8 | I84: 원 | J84: x | K84: 1 | L84: 명 | M84: x | N84: 156 | O84: 일 | P84: = | Q84: =(H84*K84)*N84 -> 7620412.8
G85: - 4등급(94%) | H85: =53680*0.94 -> 50459.2 | I85: 원 | J85: x | K85: 1 | L85: 명 | M85: x | N85: 156 | O85: 일 | P85: = | Q85: =(H85*K85)*N85 -> 7871635.2
G86: - 4등급 (기초수급) | H86: 53680 | I86: 원 | J86: x | K86: 0 | L86: 명 | M86: x | N86: 156 | O86: 일 | P86: = | Q86: =(H86*K86)*N86 -> 0
G87: - 5등급(일반) | H87: =52320*0.85 -> 44472 | I87: 원 | J87: x | K87: 0 | L87: 명 | M87: x | N87: 156 | O87: 일 | P87: = | Q87: =(H87*K87)*N87 -> 0
G88: - 5등급(91%) | H88: =52320*0.91 -> 47611.2 | I88: 원 | J88: x | K88: 0 | L88: 명 | M88: x | N88: 156 | O88: 일 | P88: = | Q88: =(H88*K88)*N88 -> 0
G89: - 5등급(94%) | H89: =52320*0.94 -> 49180.8 | I89: 원 | J89: x | K89: 0 | L89: 명 | M89: x | N89: 156 | O89: 일 | P89: = | Q89: =(H89*K89)*N89 -> 0
G90: - 5등급 (기초수급) | H90: 52320 | I90: 원 | J90: x | K90: 0 | L90: 명 | M90: x | N90: 156 | O90: 일 | P90: = | Q90: =(H90*K90)*N90 -> 0
G91: - 인지지원 (일반) | H91: =47210*85% -> 40128.5 | I91: 원 | J91: x | K91: 0 | L91: 명 | M91: x | N91: 72 | O91: 일 | P91: = | Q91: =(H91*K91)*N91 -> 0
G92: - 인지지원 (91%) | H92: =47210*0.91 -> 42961.1 | I92: 원 | J92: x | K92: 0 | L92: 명 | M92: x | N92: 72 | O92: 일 | P92: = | Q92: =(H92*K92)*N92 -> 0
G93: - 인지지원 (94%) | H93: =47210*0.94 -> 44377.4 | I93: 원 | J93: x | K93: 0 | L93: 명 | M93: x | N93: 72 | O93: 일 | P93: = | Q93: =(H93*K93)*N93 -> 0
G94: - 인지지원 (기초수급) | H94: =47210 -> 47210 | I94: 원 | J94: x | K94: 0 | L94: 명 | M94: x | N94: 72 | O94: 일 | P94: = | Q94: =(H94*K94)*N94 -> 0
C95: 612 가산금수입 | D95: 0 | E95: =N95 -> 6000000 | F95: =E95-D95 -> 6000000 | G95: ㅇ 가산금수입 | N95: =Q96 -> 6000000 | S95: =N95 -> 6000000
G96: - 가산금수입 | H96: 1500000 | I96: 원 | J96: x | K96: 1 | L96: 명 | M96: x | N96: 4 | O96: 월 | P96: = | Q96: =(H96*K96)*N96 -> 6000000
A97: 07 차입금 | D97: 0 | E97: =E98 -> 0 | F97: =E97-D97 -> 0 | Q97: =Q98 -> 0 | S97: =Q97 -> 0
B98: 71 차입금 | D98: 0 | E98: =E99+E101 -> 0 | F98: =E98-D98 -> 0 | Q98: =Q99+Q101 -> 0
C99: 711 금융기관 차입금 | D99: 0 | E99: =Q99 -> 0 | F99: =E99-D99 -> 0 | G99: ㅇ 금융기관차입금 | P99: = | Q99: =Q100 -> 0
G100: - 금융기관차입금 | H100: 0 | I100: 원 | P100: = | Q100: =H100 -> 0
...

Sheet 세출예산서
A1: 2020년도 세출예산서
A2: 4. 세출 명세서 | D2: (금액단위: 원) | H2: =표제!A42 -> YJ주야간보호센터 | R2: 잔액 | S2: =세입예산서!R139-R5-S5 -> -0.4875 | U2: 인건비 비율
A3: 계정과목 | D3: 2020년 예산액 (A) | E3: 2020년 예산액 (B) | F3: 증 감 (B-A) | G3: 산 출 기 초 | Q3: 단위(원) | R3: 자금원천 | U3: 장기요양요원 인건비 | V3: =Q15+Q27+Q30 -> 38657996
A4: 관 | B4: 항 | C4: 목 | R4: 보조금 | S4: 수익사업 | T4: 후원금 | U4: 본인+공단 | V4: =세입예산서!Q8+세입예산서!N70+세입예산서!N95 -> 73643160
A5: 총 계 | D5: 0 | E5: =E6+E104+E113+E138+E142+E145+E152+E155+E159+E163 -> 1.082762e+08 | F5: =E5-D5 -> 1.082762e+08 | O5: =O6+Q104+O113+Q138+Q142+O145+Q152+Q155+P159+Q163 -> 1.082762e+08 | R5: =SUM(R8:R162) -> 0 | S5: =SUM(S7:S163) -> 1.082762e+08 | T5: =SUM(T8:T162) -> 0 | V5: =V3/V4 -> 0.52493668
A6: 01 사무비 | D6: 0 | E6: =E7+E53+E62 -> 86581021 | F6: =E6-D6 -> 86581021 | O6: =O7+Q53+O62 -> 86581021 | R6: =[1]세입예산서!R248-R7 -> 0 | T6: =T7-[1]세입예산서!T248 -> 0
B7: 11 인건비 | D7: 0 | E7: =E8+E21+E23+E25+E28 -> 56391021 | F7: =E7-D7 -> 56391021 | O7: =Q8+Q21+Q23+Q28+Q25 -> 56391021 | R7: =SUM(R8:R162) -> 0 | T7: =SUM(T8:T162) -> 0
C8: 111 급여 | D8: 0 | E8: =Q8 -> 47700000 | F8: =E8-D8 -> 47700000 | G8: ㅇ 급여 | P8: = | Q8: =Q9+Q15 -> 47700000 | S8: =Q8 -> 47700000
G9: 간접비 | Q9: =SUM(Q10:Q14) -> 15000000
G10: - 센터장 | H10: 2500000 | I10: 원 | J10: x | K10: 1 | L10: 명 | M10: x | N10: 6 | O10: 월 | P10: = | Q10: =(H10*K10)*N10 -> 15000000
G11: - 사무원 | H11: 0 | I11: 원 | J11: x | K11: 0 | L11: 명 | M11: x | N11: 0 | O11: 월 | P11: = | Q11: =H11*K11*N11 -> 0
G12: - 운전보조원 | H12: 0 | I12: 원 | J12: x | K12: 0 | L12: 명 | M12: x | N12: 0 | O12: 월 | P12: = | Q12: =H12*K12*N12 -> 0
G13: - 보조원 | H13: 0 | I13: 원 | J13: x | K13: 0 | L13: 명 | M13: x | N13: 0 | O13: 월 | P13: = | Q13: =H13*K13*N13 -> 0
G14: - 조리원 | H14: 0 | I14: 원 | J14: x | K14: 1 | L14: 명 | M14: x | N14: 6 | O14: 월 | P14: = | Q14: =H14*K14*N14 -> 0
G15: 직접비 | Q15: =SUM(Q16:Q20) -> 32700000
G16: - 간호조무사 | H16: 1850000 | I16: 원 | J16: x | K16: 1 | L16: 명 | M16: x | N16: 6 | O16: 월 | P16: = | Q16: =H16*K16*N16 -> 11100000
G17: - 사회복지사 | H17: 0 | I17: 원 | J17: x | K17: 1 | L17: 명 | M17: x | N17: 6 | O17: 월 | P17: = | Q17: =H17*K17*N17 -> 0
G18: - 요양보호사 평균 | H18: 1800000 | I18: 원 | J18: x | K18: 2 | L18: 명 | M18: x | N18: 6 | O18: 월 | P18: = | Q18: =H18*K18*N18 -> 21600000
G19: - 기타 | H19: 0 | I19: 원 | J19: x | K19: 0 | L19: 명 | M19: x | N19: 0 | O19: 월 | P19: = | Q19: =H19*K19*N19 -> 0
G20: - 기타종사자 | H20: 0 | I20: 원 | J20: x | K20: 0 | L20: 명 | M20: x | N20: 0 | O20: 월 | P20: = | Q20: =H20*K20*N20 -> 0
C21: 112 각종수당 | D21: 0 | E21: =Q21 -> 0 | F21: =E21-D21 -> 0 | G21: ㅇ 각종수당 | P21: = | Q21: =SUM(Q22:Q22) -> 0 | S21: =Q21 -> 0
G22: - 제수당 | H22: 0 | I22: 원 | J22: x | K22: 0 | L22: 명 | M22: x | N22: 0 | O22: 회 | P22: = | Q22: =H22*K22*N22 -> 0
C23: 113 일용잡금 | D23: 0 | E23: =Q23 -> 0 | F23: =E23-D23 -> 0 | G23: ㅇ 일용잡금 | P23: = | Q23: =SUM(Q24:Q24) -> 0 | S23: =Q23 -> 0
G24: - 일용잡금 | H24: 0 | I24: 원 | J24: x | K24: 0 | L24: 명 | M24: x | N24: 0 | O24: 월 | P24: = | Q24: =H24*K24*N24 -> 0
C25: 115 퇴직금 및 퇴직적립금 | D25: 0 | E25: =Q25 -> 3975000 | F25: =E25-D25 -> 3975000 | G25: ㅇ 퇴직적립금 | Q25: =Q26+Q27 -> 3975000 | S25: =Q25 -> 3975000
D26: 0 | G26: ㅇ 퇴직적립금 간접비 | H26: =Q9/6/12 -> 208333.33 | I26: 원 | J26: x | K26: 1 | M26: x | N26: 6 | O26: 월 | P26: = | Q26: =N26*H26 -> 1250000
D27: 0 | G27: ㅇ 퇴직적립금 직접비 | H27: =Q15/6/12 -> 454166.67 | I27: 원 | J27: x | K27: 1 | M27: x | N27: 6 | O27: 월 | P27: = | Q27: =N27*H27 -> 2725000
C28: 116 사회보험 부담비용 | D28: 0 | E28: =Q28 -> 4716021.5 | F28: =E28-D28 -> 4716021.5 | G28: ㅇ 사회보험 부담비용 | Q28: =Q29+Q30 -> 4716021.5 | S28: =Q28 -> 4716021.5
D29: 0 | G29: 간접비 | Q29: =Q32+Q33+Q36+Q39+Q40+Q44+Q49+Q45+Q50 -> 1483025.6
D30: 0 | G30: 직접비 | Q30: =Q34+Q37+Q41+Q46+Q51 -> 3232995.9
D31: 0 | G31: ㅇ 건강보험 | P31: = | Q31: =SUM(Q32:Q37) -> 1753851.5
D32: 0 | G32: - 원 장 : | H32: =H10 -> 2500000 | I32: 원 | J32: x | K32: 0.03335 | M32: x | N32: 6 | O32: 월 | P32: = | Q32: =H32*K32*N32 -> 500250
D33: 0 | G33: - 종사자 간접비 | H33: =SUM(Q11:Q14)/9 -> 0 | I33: 원 | J33: x | K33: =K32 -> 0.03335 | M33: x | N33: 6 | O33: 월 | P33: = | Q33: =H33*K33*N33 -> 0
D34: 0 | G34: - 종사자 직접비 | H34: =Q15/6 -> 5450000 | I34: 원 | J34: x | K34: =K32 -> 0.03335 | M34: x | N34: 6 | O34: 월 | P34: = | Q34: =H34*K34*N34 -> 1090545
D35: 0 | G35: - 일용직 : | H35: =Q23/12 -> 0 | I35: 원 | J35: x | K35: =K32 -> 0.03335 | N35: 0 | O35: 월 | P35: = | Q35: =H35*K35*N35 -> 0
D36: 0 | G36: - 장기요양보험 간접비 | H36: =(Q32+Q33+Q35)/6 -> 83375 | I36: 원 | J36: x | K36: 0.1025 | M36: x | N36: 6 | O36: 월 | P36: = | Q36: =H36*K36*N36 -> 51275.625
D37: 0 | G37: - 장기요양보험 직접비 | H37: =(Q34)/6 -> 181757.5 | I37: 원 | J37: x | K37: 0.1025 | M37: x | N37: 6 | O37: 월 | P37: = | Q37: =H37*K37*N37 -> 111780.86
D38: 0 | G38: ㅇ 국민연금 | P38: = | Q38: =SUM(Q39:Q42) -> 2146500
D39: 0 | G39: - 원 장 : | H39: =H32 -> 2500000 | I39: 원 | J39: x | K39: 0.045 | M39: x | N39: 6 | O39: 월 | P39: = | Q39: =H39*K39*N39 -> 675000
D40: 0 | G40: - 종사자 간접비 | H40: =H33 -> 0 | I40: 원 | J40: x | K40: 0.045 | M40: x | N40: 6 | O40: 월 | P40: = | Q40: =H40*K40*N40 -> 0
D41: 0 | G41: - 종사자 직접비 | H41: =H34 -> 5450000 | I41: 원 | J41: x | K41: 0.045 | M41: x | N41: 6 | O41: 월 | P41: = | Q41: =H41*K41*N41 -> 1471500
D42: 0 | G42: - 기타 종사자 : | H42: =H35 -> 0 | I42: 원 | J42: x | K42: 0.045 | M42: x | N42: 0 | O42: 월 | P42: = | Q42: =H42*K42*N42 -> 0
D43: 0 | G43: ㅇ 산재보험 | P43: = | Q43: =SUM(Q44:Q47) -> 434070
D44: 0 | G44: - 원 장 : | H44: 2500000 | I44: 원 | J44: x | K44: 0.0091 | M44: x | N44: 6 | O44: 월 | P44: = | Q44: =H44*K44*N44 -> 136500
D45: 0 | G45: - 종사자 간접비 | H45: =H40 -> 0 | I45: 원 | J45: x | K45: 0.0091 | M45: x | N45: 6 | O45: 월 | P45: = | Q45: =H45*K45*N45 -> 0
D46: 0 | G46: - 종사자 직접비 | H46: =H41 -> 5450000 | I46: 원 | J46: x | K46: 0.0091 | M46: x | N46: 6 | O46: 월 | P46: = | Q46: =H46*K46*N46 -> 297570
D47: 0 | G47: - 기타 종사자 : | H47: =H35 -> 0 | I47: 원 | J47: x | K47: 0.0091 | M47: x | N47: 0 | O47: 월 | P47: = | Q47: =H47*K47*N47 -> 0
D48: 0 | G48: ㅇ 고용보험 | P48: = | Q48: =SUM(Q49:Q52) -> 381600
D49: 0 | G49: - 원 장 : | H49: =H44 -> 2500000 | I49: 원 | J49: x | K49: 0.008 | M49: x | N49: 6 | O49: 월 | P49: = | Q49: =H49*K49*N49 -> 120000
D50: 0 | G50: - 종사자 간접비 | H50: =H45 -> 0 | I50: 원 | J50: x | K50: 0.008 | M50: x | N50: 6 | O50: 월 | P50: = | Q50: =H50*K50*N50 -> 0
D51: 0 | G51: - 종사자 직접비 | H51: =H46 -> 5450000 | I51: 원 | J51: x | K51: 0.008 | M51: x | N51: 6 | O51: 월 | P51: = | Q51: =H51*K51*N51 -> 261600
D52: 0 | G52: - 기타 종사자 : | H52: =H35 -> 0 | I52: 원 | J52: x | K52: 0.008 | M52: x | N52: 0 | O52: 월 | P52: = | Q52: =H52*K52*N52 -> 0
B53: 12 업무추진비 | D53: 0 | E53: =E54+E57+E59 -> 0 | F53: =E53-D53 -> 0 | Q53: =Q54+Q57+Q59 -> 0
C54: 121 기관운영비 | D54: 0 | E54: =Q54 -> 0 | F54: =E54-D54 -> 0 | G54: ㅇ 기관운영비 | P54: = | Q54: =Q55+Q56 -> 0 | S54: =Q54 -> 0
D55: 0 | G55: - 경조사비 | H55: 0 | I55: 원 | J55: x | N55: 0 | O55: 월 | P55: = | Q55: =H55*N55 -> 0
D56: 0 | G56: - 기관운영비 유관기관업무협의 | H56: 0 | I56: 원 | J56: x | N56: 0 | O56: 월 | P56: = | Q56: =H56*N56 -> 0
C57: 122 직책보조비 | D57: 0 | E57: =Q57 -> 0 | F57: =E57-D57 -> 0 | G57: ㅇ 직책보조비 | P57: = | Q57: =Q58 -> 0 | S57: =Q57 -> 0
D58: 0 | G58: - 직책보조비 | H58: 0 | I58: 원 | J58: x | K58: 0 | L58: 명 | M58: x | N58: 0 | O58: 월 | P58: = | Q58: =H58*K58*N58 -> 0
C59: 123 회의비 | D59: 0 | E59: =Q59 -> 0 | F59: =E59-D59 -> 0 | G59: ㅇ 회의비 | P59: = | Q59: =Q60+Q61 -> 0 | S59: =Q59 -> 0
D60: 0 | G60: - 운영위원회 | H60: 0 | I60: 원 | J60: x | N60: 0 | O60: 회 | P60: = | Q60: =H60*N60 -> 0
D61: 0 | G61: - 보호자회의 | H61: 0 | I61: 원 | J61: x | N61: 0 | O61: 회 | P61: = | Q61: =H61*N61 -> 0
B62: 13 운영비 | D62: 0 | E62: =E63+E65+E75+E88+E93+E95 -> 30190000 | F62: =E62-D62 -> 30190000 | O62: =Q63+Q65+Q75+Q88+Q93+Q95 -> 30190000
C63: 131 여비 | D63: 0 | E63: =Q63 -> 0 | F63: =E63-D63 -> 0 | G63: ㅇ 여비 | P63: = | Q63: =SUM(Q64) -> 0 | S63: =Q63 -> 0
D64: 0 | G64: - 여 비 | H64: 0 | I64: 원 | J64: x | N64: 0 | O64: 회 | P64: = | Q64: =H64*N64 -> 0
C65: 132 수용비 및 수수료 | D65: 0 | E65: =Q65 -> 2280000 | F65: =E65-D65 -> 2280000 | G65: ㅇ 수용비및수수료 | P65: = | Q65: =SUM(Q66:Q74) -> 2280000 | S65: =Q65 -> 2280000
D66: 0 | G66: - 사무용품비 | H66: 50000 | I66: 원 | J66: x | N66: 6 | O66: 회 | P66: = | Q66: =H66*N66 -> 300000
D67: 0 | G67: - 렌탈료 | H67: 100000 | I67: 원 | J67: x | N67: 6 | O67: 회 | P67: = | Q67: =H67*N67 -> 600000
D68: 0 | G68: - 기장대행료 | H68: 60000 | I68: 원 | J68: x | N68: 6 | O68: 회 | P68: = | Q68: =H68*N68 -> 360000
D69: 0 | G69: - 우편료 | H69: 0 | I69: 원 | J69: x | N69: 0 | O69: 회 | P69: = | Q69: =H69*N69 -> 0
D70: 0 | G70: - CCTV | H70: 0 | I70: 원 | J70: x | N70: 0 | O70: 회 | P70: = | Q70: =H70*N70 -> 0
D71: 0 | G71: - 안전점검 | H71: 300000 | I71: 원 | J71: x | N71: 1 | O71: 회 | P71: = | Q71: =H71*N71 -> 300000
D72: 0 | G72: - 음식물처리 | H72: 0 | I72: 원 | J72: x | N72: 0 | O72: 회 | P72: = | Q72: =H72*N72 -> 0
D73: 0 | G73: - 기타수용비 | H73: 20000 | I73: 원 | J73: x | N73: 6 | O73: 회 | P73: = | Q73: =H73*N73 -> 120000
D74: 0 | G74: - 케어포 | H74: 100000 | I74: 원 | J74: x | N74: 6 | O74: 회 | P74: = | Q74: =H74*N74 -> 600000
C75: 133 공공요금 및 각종 세금 공과금 | D75: 0 | E75: =Q75 -> 5750000 | F75: =E75-D75 -> 5750000 | G75: ㅇ 공공요금 및 각종세금 공과금 | P75: = | Q75: =Q76+Q82 -> 5750000 | S75: =Q75 -> 5750000
D76: 0 | G76: ㅇ 제세공과금 | P76: = | Q76: =SUM(Q77:Q81) -> 750000
D77: 0 | G77: - 자동차보험 | H77: 0 | I77: 원 | J77: x | N77: 1 | O77: 대 | P77: = | Q77: =H77*N77 -> 0
D78: 0 | G78: - 자동차세 | H78: 200000 | I78: 원 | J78: x | N78: 1 | O78: 회 | P78: = | Q78: =H78*N78 -> 200000
D79: 0 | G79: - 가스보험 | H79: 0 | I79: 원 | J79: x | N79: 1 | O79: 회 | P79: = | Q79: =H79*N79 -> 0
D80: 0 | G80: - 화재보험 | H80: 50000 | I80: 원 | J80: x | N80: 1 | O80: 회 | P80: = | Q80: =H80*N80 -> 50000
D81: 0 | G81: - 배상 책임보험 | H81: 500000 | I81: 원 | J81: x | N81: 1 | O81: 회 | P81: = | Q81: =H81*N81 -> 500000
D82: 0 | G82: ㅇ 공공요금 | P82: = | Q82: =SUM(Q83:Q87) -> 5000000
D83: 0 | G83: - 전화.통신 (인터넷) | H83: 200000 | I83: 원 | J83: x | N83: 6 | O83: 월 | P83: = | Q83: =H83*N83 -> 1200000
D84: 0 | G84: - 휴대폰 등 | H84: 100000 | I84: 원 | J84: x | N84: 6 | O84: 월 | P84: = | Q84: =H84*N84 -> 600000
D85: 0 | G85: -전기요금 | H85: 200000 | I85: 원 | J85: x | N85: 7 | O85: 월 | P85: = | Q85: =H85*N85 -> 1400000
D86: 0 | G86: -도시가스 | H86: 200000 | I86: 원 | J86: x | N86: 7 | O86: 월 | P86: = | Q86: =H86*N86 -> 1400000
D87: 0 | G87: -상하수도요금 | H87: 100000 | I87: 원 | J87: x | N87: 4 | O87: 월 | P87: = | Q87: =H87*N87 -> 400000
C88: 135 차량비 | D88: 0 | E88: =Q88 -> 3450000 | F88: =E88-D88 -> 3450000 | G88: ㅇ 차량비 | P88: = | Q88: =SUM(Q89:Q92) -> 3450000 | S88: =Q88 -> 3450000
D89: 0 | G89: - 차량유류비 | H89: 100000 | I89: 원 | J89: x | N89: 6 | O89: 월 | P89: = | Q89: =H89*N89 -> 600000
D90: 0 | G90: - 차량소모품 | H90: 0 | I90: 원 | J90: x | N90: 0 | O90: 월 | P90: = | Q90: =H90*N90 -> 0
D91: 0 | G91: - 차량수리비 | H91: 150000 | I91: 원 | J91: x | N91: 3 | O91: 월 | P91: = | Q91: =H91*N91 -> 450000
G92: - 차량할부 | H92: 400000 | I92: 원 | J92: x | N92: 6 | O92: 월 | P92: = | Q92: =H92*N92:N92 -> 2400000
C93: 136 임차료 | D93: 0 | E93: =Q93 -> 17710000 | F93: =E93-D93 -> 17710000 | G93: ㅇ 임차료 | P93: = | Q93: =SUM(Q94:Q94) -> 17710000 | S93: =Q93 -> 17710000
D94: 0 | G94: - 임차료 | H94: 2530000 | I94: 원 | J94: x | N94: 7 | O94: 월 | P94: = | Q94: =H94*N94 -> 17710000
C95: 137 기타운영비 | D95: 0 | E95: =Q95 -> 1000000 | F95: =E95-D95 -> 1000000 | G95: ㅇ 기타운영비 | P95: = | Q95: =SUM(Q96:Q103) -> 1000000 | S95: =Q95 -> 1000000
D96: 0 | G96: - 건강진단비 | H96: 0 | I96: 원 | J96: x | N96: 0 | O96: 월 | P96: = | Q96: =H96*N96 -> 0
D97: 0 | G97: - 기타행사 | H97: 100000 | I97: 원 | J97: x | K97: 1 | M97: x | N97: 3 | O97: 회 | Q97: =H97*N97*K97 -> 300000
D98: 0 | G98: - 직원포상 | H98: 0 | I98: 원 | J98: x | N98: 0 | O98: 월 | P98: = | Q98: =H98*N98 -> 0
D99: 0 | G99: - 프로그램비용 | H99: 0 | I99: 원 | J99: x | N99: 0 | O99: 월 | P99: = | Q99: =H99*N99 -> 0
D100: 0 | G100: - 회식비 | H100: 100000 | I100: 원 | J100: x | N100: 7 | O100: 월 | P100: = | Q100: =H100*N100 -> 700000
...

Sheet 추경예산총괄표
A1: 2019년도 추경예산 총괄표
A2: 2-1.추경예산총괄표 | D2: (금액단위: 천원) | L2: =표제!A42 -> YJ주야간보호센터
A3: 순번 | B3: 세입 | H3: 세출
B4: 관 | C4: 항 | D4: 목 | E4: 예산액 | H4: 관 | I4: 항 | J4: 목 | K4: 예산액
E5: 당초 | F5: 추경 | G5: 증감액 | K5: 당초 | L5: 추경 | M5: 증감액
A6: 1 | B6: 입소자부담금수입 | C6: 입소비용수입 | D6: 본인부담 비용수입 | E6: =세입예산서!Q8 -> 8890362 | F6: =추경세입예산서!Q8 -> 43958410 | G6: =F6-E6 -> 35068048 | H6: 사무비 | I6: 인건비 | J6: =세출예산서!G8 -> ㅇ 급여 | K6: =세출예산서!Q8 -> 47700000 | L6: ='추경세출예산서 '!Q8 -> 241200000 | M6: =L6-K6 -> 193500000
D7: 식재료 비용수입 | E7: =세입예산서!Q34 -> 7488000 | F7: =추경세입예산서!Q25 -> 40332500 | G7: =F7-E7 -> 32844500 | J7: =세출예산서!#REF! -> #REF! | K7: =세출예산서!#REF! -> #REF! | L7: ='추경세출예산서 '!Q20 -> 0 | M7: =L7-K7 -> #REF!
A8: 2 | B8: 사업수입 | C8: 사업수입 | D8: 사업운영수입 | E8: =세입예산서!Q42 -> 0 | F8: 0 | G8: =F8-E8 -> 0 | J8: =세출예산서!G21 -> ㅇ 각종수당 | K8: =세출예산서!Q21 -> 0 | L8: ='추경세출예산서 '!Q22 -> 0 | M8: =L8-K8 -> 0
A9: 3 | B9: 과년도수입 | C9: 과년도수입 | D9: 과년도수입 | E9: =세입예산서!Q46 -> 0 | F9: 0 | G9: =F9-E9 -> 0 | J9: =세출예산서!G23 -> ㅇ 일용잡금 | K9: =세출예산서!Q23 -> 0 | L9: ='추경세출예산서 '!Q24 -> 16600000 | M9: =L9-K9 -> 16600000
A10: 4 | B10: 보조금수입 | C10: 보조금수입 | D10: 시군구보조금 | E10: =세입예산서!Q54 -> 0 | F10: =추경세입예산서!Q45 -> 10973760 | G10: =F10-E10 -> 10973760 | J10: =세출예산서!G24 -> - 일용잡금 | K10: =세출예산서!Q24 -> 0 | L10: ='추경세출예산서 '!Q25 -> 22281377 | M10: =L10-K10 -> 22281377
A11: 5 | B11: 후원금수입 | C11: 후원금수입 | D11: 후원금수입 | E11: 0 | F11: 0 | G11: =F11-E11 -> 0 | H11: 사무비 | I11: 업무추진비 | J11: =세출예산서!G43 -> ㅇ 산재보험 | K11: =세출예산서!Q43 -> 434070 | L11: ='추경세출예산서 '!Q44 -> 0 | M11: =L11-K11 -> -434070
A12: 6 | B12: 요양급여수입 | C12: 요양급여수입 | D12: 장기요양급여수입 | E12: =세입예산서!N70 -> 58752798 | F12: =추경세입예산서!N61 -> 292108040 | G12: =F12-E12 -> 233355242 | J12: =세출예산서!G46 -> - 종사자 직접비 | K12: =세출예산서!Q46 -> 297570 | L12: ='추경세출예산서 '!Q47 -> 0 | M12: =L12-K12 -> -297570
D13: 가산금수입 | E13: =세입예산서!N95 -> 6000000 | F13: =추경세입예산서!N77 -> 11684322 | G13: =F13-E13 -> 5684321.6 | J13: =세출예산서!G48 -> ㅇ 고용보험 | K13: =세출예산서!Q48 -> 381600 | L13: ='추경세출예산서 '!Q49 -> 0 | M13: =L13-K13 -> -381600
A14: 7 | B14: 차입금 | C14: 차입금 | D14: 기타차입금 | E14: =세입예산서!Q97 -> 0 | F14: =추경세입예산서!Q81 -> 0 | G14: =F14-E14 -> 0 | H14: 사무비 | I14: 운영비 | J14: =세출예산서!G52 -> - 기타 종사자 : | K14: =세출예산서!Q52 -> 0 | L14: ='추경세출예산서 '!Q53 -> 0 | M14: =L14-K14 -> 0
A15: 8 | B15: 전입금 | C15: 전입금 | D15: 기타전입금 | E15: =세입예산서!Q103 -> 25200000 | F15: 0 | G15: =F15-E15 -> -25200000 | H15: 사무비 | I15: 운영비 | J15: =세출예산서!G54 -> ㅇ 기관운영비 | K15: =세출예산서!Q54 -> 0 | L15: ='추경세출예산서 '!Q55 -> 3041666.7 | M15: =L15-K15 -> 3041666.7
A16: 9 | B16: 이월금 | C16: 이월금 | D16: 전년도이월금 | E16: =세입예산서!Q115 -> 0 | F16: =추경세입예산서!Q96 -> 1801387 | G16: =F16-E16 -> 1801387 | J16: =세출예산서!G65 -> ㅇ 수용비및수수료 | K16: =세출예산서!Q65 -> 2280000 | L16: ='추경세출예산서 '!Q65 -> 2400000 | M16: =L16-K16 -> 120000
A17: 10 | B17: 잡수입 | C17: 잡수입 | D17: 기타잡수입 | E17: =세입예산서!Q121 -> 1945040 | F17: =추경세입예산서!Q103 -> 5000 | G17: =F17-E17 -> -1940040 | J17: =세출예산서!G71 -> - 안전점검 | K17: =세출예산서!Q71 -> 300000 | L17: ='추경세출예산서 '!Q70 -> 14700000 | M17: =L17-K17 -> 14400000
A18: 11 | B18: 적립금 및 준비금 (특별회계) | C18: 운영충당금 및 환경개선준비금 | D18: 운영충당금 | E18: =세입예산서!Q132 -> 0 | F18: =추경세입예산서!Q113 -> 0 | G18: =F18-E18 -> 0 | J18: =세출예산서!G77 -> - 자동차보험 | K18: =세출예산서!Q77 -> 0 | L18: ='추경세출예산서 '!Q75 -> 1700000 | M18: =L18-K18 -> 1700000
A19: 12 | E19: 0 | F19: 0 | G19: =F19-E19 -> 0 | J19: =세출예산서!G80 -> - 화재보험 | K19: =세출예산서!Q80 -> 50000 | L19: ='추경세출예산서 '!Q78 -> 0 | M19: =L19-K19 -> -50000
A20: 13 | E20: 0 | F20: 0 | G20: =F20-E20 -> 0 | J20: =세출예산서!G82 -> ㅇ 공공요금 | K20: =세출예산서!Q82 -> 5000000 | L20: ='추경세출예산서 '!Q80 -> 6600000 | M20: =L20-K20 -> 1600000
A21: 14 | E21: 0 | F21: 0 | G21: =F21-E21 -> 0 | H21: 재산조성비 | I21: 시설비 | J21: =세출예산서!G95 -> ㅇ 기타운영비 | K21: =세출예산서!Q94 -> 17710000 | L21: ='추경세출예산서 '!Q88 -> 0 | M21: =L21-K21 -> -17710000
A22: 15 | E22: 0 | F22: 0 | G22: =F22-E22 -> 0 | H22: 사업비 | I22: 운영비 | J22: =세출예산서!G103 -> 0 | K22: =세출예산서!Q103 -> 0 | L22: ='추경세출예산서 '!Q95 -> 17520000 | M22: =L22-K22 -> 17520000
A23: 16 | E23: 0 | F23: 0 | G23: =F23-E23 -> 0 | J23: =세출예산서!G106 -> - 강화문 | K23: =세출예산서!Q106 -> 0 | L23: ='추경세출예산서 '!Q98 -> 0 | M23: =L23-K23 -> 0
A24: 17 | E24: 0 | F24: 0 | G24: =F24-E24 -> 0 | J24: =세출예산서!G111 -> -시설장비유지비 | K24: =세출예산서!Q111 -> 0 | L24: ='추경세출예산서 '!Q101 -> 6600000 | M24: =L24-K24 -> 6600000
A25: 18 | E25: 0 | F25: 0 | G25: =F25-E25 -> 0 | J25: =세출예산서!G115 -> ㅇ 생계비 | K25: =세출예산서!Q115 -> 9768000 | L25: ='추경세출예산서 '!Q105 -> 0 | M25: =L25-K25 -> -9768000
A26: 19 | E26: 0 | F26: 0 | G26: =F26-E26 -> 0 | J26: =세출예산서!G117 -> - 생계비 | K26: =세출예산서!Q117 -> 7488000 | L26: ='추경세출예산서 '!Q107 -> 0 | M26: =L26-K26 -> -7488000
A27: 20 | G27: =F27-E27 -> 0 | H27: 00사업비 | I27: 00사업비 | J27: =세출예산서!G122 -> - 생계비(수급자) | K27: =세출예산서!Q122 -> 0 | L27: ='추경세출예산서 '!Q110 -> 0 | M27: =L27-K27 -> 0
A28: 21 | E28: 0 | F28: 0 | G28: =F28-E28 -> 0 | H28: 전출금 | I28: 전출금 | J28: =세출예산서!G127 -> - 목욕용품 | K28: =세출예산서!Q126 -> 60000 | L28: ='추경세출예산서 '!Q112 -> 25200000 | M28: =L28-K28 -> 25140000
A29: 22 | E29: 0 | F29: 0 | G29: =F29-E29 -> 0 | H29: 과년도지출 | I29: 과년도지출 | J29: =세출예산서!G132 -> 0 | K29: =세출예산서!Q130 -> 0 | L29: ='추경세출예산서 '!Q116 -> 0 | M29: =L29-K29 -> 0
A30: 23 | E30: 0 | F30: 0 | G30: =F30-E30 -> 0 | H30: 상환금 | I30: 부채상환금 | J30: =세출예산서!G135 -> 신체활동프로그램 | K30: =세출예산서!Q130 -> 0 | L30: ='추경세출예산서 '!Q121 -> 0 | M30: =L30-K30 -> 0
A31: 24 | E31: 0 | F31: 0 | G31: =F31-E31 -> 0 | J31: =세출예산서!G139 -> ㅇ 기타전출금 | K31: =세출예산서!Q139 -> 9000000 | L31: ='추경세출예산서 '!Q124 -> 0 | M31: =L31-K31 -> -9000000
A32: 25 | E32: 0 | F32: 0 | G32: =F32-E32 -> 0 | H32: 잡지출 | I32: 잡지출 | J32: =세출예산서!G143 -> 0 | K32: =세출예산서!Q141 -> 9000000 | L32: ='추경세출예산서 '!Q126 -> 870695 | M32: =L32-K32 -> -8129305
A33: 26 | E33: 0 | F33: 0 | G33: =F33-E33 -> 0 | H33: 예비비및기타 | I33: 예비비 | J33: =세출예산서!G146 -> 0 | K33: =세출예산서!Q144 -> 0 | L33: ='추경세출예산서 '!Q129 -> 8783420 | M33: =L33-K33 -> 8783420
A34: 27 | E34: 0 | F34: 0 | G34: =F34-E34 -> 0 | H34: 적립금및준비금 | I34: 운영충당적립금 | J34: =세출예산서!G150 -> ㅇ 이자지금금 | K34: 0 | L34: ='추경세출예산서 '!Q134 -> 0 | M34: =L34-K34 -> 0
A35: 28 | E35: 0 | F35: 0 | G35: =F35-E35 -> 0 | H35: 특별회계 | I35: 운영충당적립금 | J35: =세출예산서!G154 -> - 잡지출 | K35: =세출예산서!Q152 -> 1007179 | L35: ='추경세출예산서 '!Q138 -> 0 | M35: =L35-K35 -> -1007179
A36: 합계 | E36: =SUM(E6:E35) -> 108276200 | F36: =SUM(F6:F35) -> 4.0086342e+08 | G36: =SUM(G6:G35) -> 2.9258722e+08 | H36: 합계 | K36: =SUM(K6:K35) -> #REF! | L36: =SUM(L6:L35) -> 3.6749716e+08 | M36: =SUM(M6:M35) -> #REF!

Sheet 추경세입예산서
A1: 2018년도 추경세입예산서
A2: 3-1.추경세입 명세서 | D2: (금액단위: 천원) | I2: =표제!A42 -> YJ주야간보호센터 | R2: 자금원천
A3: 계 정 과 목 | D3: 당초 (A) | E3: 추경 (B) | F3: 증 감 (B-A) | G3: 산 출 기 초 | Q3: (단위:원) | R3: 보조금 | S3: 자부담 | T3: 후원금
A4: 관 | B4: 항 | C4: 목
A5: 총 계 | D5: =세입예산서!E5 -> 108276200 | E5: =E6+E33+E37+E41+E59+E55+E79+E85+E95+E103+E113 -> 389179097 | F5: =E5-D5 -> 280902897 | N5: =Q6+Q33+Q37+Q41+N59+Q55+Q79+Q85+Q95+Q103+Q113 -> 4.0086342e+08
A6: 01 입소자부담금 수입 | D6: =세입예산서!E6 -> 16378362 | E6: =E7+E28 -> 84290910 | F6: =E6-D6 -> 67912548 | Q6: =Q7+Q28 -> 84290910
B7: 11 입소비용수입 | D7: =세입예산서!E7 -> 16378362 | E7: =E8+E25 -> 84290910 | F7: =E7-D7 -> 67912548 | Q7: =Q8+Q25+Q28 -> 84290910 | S7: =Q7 -> 84290910
C8: 111 입소비용수입 | D8: =세입예산서!E8 -> 8890362 | E8: =Q8 -> 43958410 | F8: =E8-D8 -> 35068048 | G8: ㅇ 입소비용수입 | J8: =SUM(K9:K24) -> 16 | Q8: =SUM(Q9:Q24) -> 43958410
G9: - 1등급(일반) | H9: =65190*0.2 -> 13038 | I9: 원 | J9: x | K9: 0 | L9: 명 | M9: x | N9: 365 | O9: 일 | P9: = | Q9: =(H9*K9)*N9 -> 0
G10: - 1등급(경감) | H10: =H9/2 -> 6519 | I10: 원 | J10: x | K10: 1 | L10: 명 | M10: x | N10: 365 | O10: 일 | P10: = | Q10: =(H10*K10)*N10 -> 2379435
G11: - 1등급 (기초수급) | H11: 0 | I11: 원 | J11: x | K11: 0 | L11: 명 | M11: x | N11: 365 | O11: 일 | P11: = | Q11: =(H11*K11)*N11 -> 0
G12: - 2등급(일반) | H12: =60490*0.2 -> 12098 | I12: 원 | J12: x | K12: 2 | L12: 명 | M12: x | N12: 365 | O12: 일 | P12: = | Q12: =(H12*K12)*N12 -> 8831540
G13: - 2등급(경감) | H13: =H12/2 -> 6049 | I13: 원 | J13: x | K13: 1 | L13: 명 | M13: x | N13: 365 | O13: 일 | P13: = | Q13: =(H13*K13)*N13 -> 2207885
G14: - 2등급 (기초수급) | H14: 0 | I14: 원 | J14: x | K14: 1 | L14: 명 | M14: x | N14: 365 | O14: 일 | P14: = | Q14: =(H14*K14)*N14 -> 0
G15: - 3등급(일반) | H15: =55780*0.2 -> 11156 | I15: 원 | J15: x | K15: 5 | L15: 명 | M15: x | N15: 365 | O15: 일 | P15: = | Q15: =(H15*K15)*N15 -> 20359700
G16: - 3등급(경감) | H16: =H15/2 -> 5578 | I16: 원 | J16: x | K16: 0 | L16: 명 | M16: x | N16: 365 | O16: 일 | P16: = | Q16: =(H16*K16)*N16 -> 0
G17: - 3등급 (기초수급) | H17: 0 | I17: 원 | J17: x | K17: 2 | L17: 명 | M17: x | N17: 365 | O17: 일 | P17: = | Q17: =(H17*K17)*N17 -> 0
G18: - 4등급(일반) | H18: =55780*0.2 -> 11156 | I18: 원 | J18: x | K18: 1 | L18: 명 | M18: x | N18: 365 | O18: 일 | P18: = | Q18: =(H18*K18)*N18 -> 4071940
G19: - 4등급(경감) | H19: =H18/2 -> 5578 | I19: 원 | J19: x | K19: 1 | L19: 명 | M19: x | N19: 365 | O19: 일 | P19: = | Q19: =(H19*K19)*N19 -> 2035970
G20: - 4등급 (기초수급) | H20: 0 | I20: 원 | J20: x | K20: 1 | L20: 명 | M20: x | N20: 365 | O20: 일 | P20: = | Q20: =(H20*K20)*N20 -> 0
G21: - 5등급(일반) | H21: =55780*0.2 -> 11156 | I21: 원 | J21: x | K21: 1 | L21: 명 | M21: x | N21: 365 | O21: 일 | P21: = | Q21: =(H21*K21)*N21 -> 4071940
G22: - 5등급(경감) | H22: =H21/2 -> 5578 | I22: 원 | J22: x | K22: 0 | L22: 명 | M22: x | N22: 365 | O22: 일 | P22: = | Q22: =(H22*K22)*N22 -> 0
G23: - 5등급 (기초수급) | H23: 0 | I23: 원 | J23: x | K23: 0 | L23: 명 | M23: x | N23: 365 | O23: 일 | P23: = | Q23: =(H23*K23)*N23 -> 0
G24: - 등급외 (단기입소자) | H24: 0 | I24: 원ⅹ | K24: 0 | L24: 명 | M24: x | N24: 12 | O24: 일 | P24: = | Q24: =(H24*K24)*N24 -> 0
C25: 112 식재료비수입 | D25: =세입예산서!E34 -> 7488000 | E25: =Q25 -> 40332500 | F25: =E25-D25 -> 32844500 | G25: ㅇ식재료비 수입 | P25: = | Q25: =Q27+Q26 -> 40332500
G26: -식재료비 수입 | H26: 7500 | I26: 원 | J26: x | K26: 13 | L26: 명 | M26: x | N26: 365 | O26: 일 | P26: = | Q26: =(H26*K26)*N26 -> 35587500
G27: -간식비 수입 | H27: 1000 | I27: 원 | J27: x | K27: 13 | L27: 명 | M27: x | N27: 365 | O27: 일 | P27: = | Q27: =(H27*K27)*N27 -> 4745000
B28: 12 부담금 | D28: =세입예산서!E37 -> 0 | E28: =E29+E31 -> 0 | F28: =E28-D28 -> 0 | Q28: =Q29+Q31 -> 0 | S28: =Q28 -> 0
C29: 121 상급침실이용료 | D29: =세입예산서!E38 -> 0 | E29: =Q29 -> 0 | F29: =E29-D29 -> 0 | G29: ㅇ 상급침실이용료 | P29: = | Q29: =Q30 -> 0
G30: - 상급침실이용료 | H30: 0 | I30: 원 | J30: x | K30: 0 | L30: 명 | N30: 1 | O30: 월 | P30: = | Q30: =(H30*K30)*N30 -> 0
C31: 122 기타 비급여 | D31: =세입예산서!E40 -> 0 | E31: =Q31 -> 0 | F31: =E31-D31 -> 0 | G31: ㅇ 비급여 | P31: = | Q31: =Q32 -> 0
G32: - 이미용료 | H32: 0 | I32: 원 | J32: x | K32: 0 | L32: 명 | M32: x | N32: 12 | O32: 월 | P32: = | Q32: =(H32*K32)*N32 -> 0
A33: 02 사업수입 | D33: =세입예산서!E42 -> 0 | E33: =E34 -> 0 | F33: =E33-D33 -> 0 | Q33: =Q34 -> 0
B34: 21 사업수입 | D34: =세입예산서!E43 -> 0 | E34: =E35 -> 0 | F34: =E34-D34 -> 0 | Q34: =Q35 -> 0
C35: 211 운영사업수입 | D35: =세입예산서!E44 -> 0 | E35: =Q35 -> 0 | F35: =E35-D35 -> 0 | G35: ㅇ 사업운영수입 | P35: = | Q35: =Q36 -> 0
G36: - 사업운영수입 | H36: 0 | I36: 원 | J36: x | K36: 0 | L36: 명 | M36: x | N36: 1 | O36: 월 | P36: = | Q36: =(H36*K36)*N36 -> 0
A37: 03 과년도 수입 | D37: =세입예산서!E46 -> 0 | E37: =E38 -> 0 | F37: =E37-D37 -> 0 | Q37: =Q38 -> 0
B38: 31 과년도 수입 | D38: =세입예산서!E47 -> 0 | E38: =E39 -> 0 | F38: =E38-D38 -> 0 | Q38: =Q39 -> 0
C39: 311 과년도 수입 | D39: =세입예산서!E48 -> 0 | E39: =Q39 -> 0 | F39: =E39-D39 -> 0 | G39: ㅇ 과년도수입 | P39: = | Q39: =Q40 -> 0
G40: - 과년도수입 | H40: 0 | I40: 원 | P40: = | Q40: =H40 -> 0
A41: 04 보조금수입 | D41: =세입예산서!E50 -> 0 | E41: =E42 -> 10973760 | F41: =E41-D41 -> 10973760 | Q41: =Q42 -> 10973760
B42: 41 보조금 수입 | D42: =세입예산서!E51 -> 0 | E42: =E43+E45+E50+E52 -> 10973760 | F42: =E42-D42 -> 10973760 | Q42: =Q43+Q45+Q50+Q52 -> 10973760 | R42: =Q42 -> 10973760
C43: 411 국고 보조금 | D43: =세입예산서!E52 -> 0 | E43: =Q43 -> 0 | F43: =E43-D43 -> 0 | G43: ㅇ 국고보조금 | Q43: =Q44 -> 0
G44: - 국고보조금 | H44: 0 | I44: 원 | J44: x | K44: 0 | L44: 명 | M44: x | N44: 2 | O44: 회 | P44: = | Q44: =(H44*K44)*N44 -> 0
C45: 412 시,도 보조금 | D45: =세입예산서!E54 -> 0 | E45: =Q45 -> 10973760 | F45: =E45-D45 -> 10973760 | G45: ㅇ시,도 보조금 | Q45: =SUM(Q46:Q49) -> 10973760
G46: - 생계비보조 (식재료비) | H46: 219870 | I46: 원 | J46: x | K46: 4 | L46: 명 | M46: x | N46: 12 | O46: 월 | P46: = | Q46: =(H46*K46)*N46 -> 10553760
G47: - 생계비보조 (간식비) | H47: 0 | I47: 원 | J47: x | K47: 0 | L47: 명 | M47: x | N47: 12 | O47: 월 | P47: = | Q47: =(H47*K47)*N47 -> 0
G48: - 특별위로금 | H48: 0 | I48: 원 | J48: x | K48: 0 | L48: 명 | M48: x | N48: 1 | O48: 월 | P48: = | Q48: =(H48*K48)*N48 -> 0
G49: - 월동대책비, 동내의비 | H49: 35000 | I49: 원 | J49: x | K49: 4 | L49: 명 | M49: x | N49: 3 | O49: 월 | P49: = | Q49: =(H49*K49)*N49 -> 420000
C50: 413 시군구 보조금 | D50: =세입예산서!E59 -> 0 | E50: =Q50 -> 0 | F50: =E50-D50 -> 0 | G50: ㅇ 시군구 보조금 | Q50: =Q51 -> 0
G51: - 시군구보조금 | H51: 0 | I51: 원 | P51: = | Q51: =H51 -> 0
C52: 414 기타 보조금 | D52: =세입예산서!E61 -> 0 | E52: =Q52 -> 0 | F52: =E52-D52 -> 0 | G52: ㅇ 기타 보조금 | Q52: =Q54+Q53 -> 0
G53: - 프로그램 | H53: 0 | I53: 원 | J53: x | K53: 1 | L53: 명 | M53: x | N53: 12 | O53: 월 | P53: = | Q53: =(H53*K53)*N53 -> 0
G54: - 추가인력 | H54: 0 | I54: 원 | J54: x | K54: 1 | L54: 명 | M54: x | N54: 12 | O54: 월 | P54: = | Q54: =(H54*K54)*N54 -> 0
A55: 05 후원금 수입 | D55: =세입예산서!E64 -> 0 | E55: =E56 -> 0 | F55: =E55-D55 -> 0 | Q55: =Q56 -> 0 | T55: =Q55 -> 0
B56: 51 후원금 수입 | D56: =세입예산서!E65 -> 0 | E56: =E57 -> 0 | F56: =E56-D56 -> 0 | Q56: =Q57 -> 0
C57: 511 후원금 수입 | D57: =세입예산서!E66 -> 0 | E57: =Q57 -> 0 | F57: =E57-D57 -> 0 | G57: ㅇ 후원금수입 | P57: = | Q57: =Q58 -> 0
G58: - 후원금 수입 | H58: 0 | I58: 원 | P58: = | Q58: =H58 -> 0
A59: 06 요양급여수입 | D59: =세입예산서!E68 -> 64752798 | E59: =E60 -> 292108040 | F59: =E59-D59 -> 227355242 | N59: =N60 -> 3.0379236e+08 | R59: =N59 -> 3.0379236e+08
B60: 61 요양급여수입 | D60: =세입예산서!E69 -> 64752798 | E60: =E61+E77 -> 292108040 | F60: =E60-D60 -> 227355242 | N60: =N61+N77 -> 3.0379236e+08
C61: 611 장기요양급여 수입 | D61: =세입예산서!E70 -> 58752798 | E61: =N61 -> 292108040 | F61: =E61-D61 -> 233355242 | G61: ㅇ 장기요양급여수입 | N61: =SUM(Q62:Q76) -> 292108040
G62: - 1등급(일반) | H62: =65190*0.8 -> 52152 | I62: 원 | J62: x | K62: 0 | L62: 명 | M62: x | N62: 365 | O62: 일 | P62: = | Q62: =(H62*K62)*N62 -> 0
G63: - 1등급(경감) | H63: =65190*0.9 -> 58671 | I63: 원 | J63: x | K63: 1 | L63: 명 | M63: x | N63: 365 | O63: 일 | P63: = | Q63: =(H63*K63)*N63 -> 21414915
G64: - 1등급 (기초수급) | H64: 65190 | I64: 원 | J64: x | K64: 0 | L64: 명 | M64: x | N64: 365 | O64: 일 | P64: = | Q64: =(H64*K64)*N64 -> 0
G65: - 2등급(일반) | H65: =60490*0.8 -> 48392 | I65: 원 | J65: x | K65: 2 | L65: 명 | M65: x | N65: 365 | O65: 일 | P65: = | Q65: =(H65*K65)*N65 -> 35326160
G66: - 2등급(경감) | H66: =60490*0.9 -> 54441 | I66: 원 | J66: x | K66: 1 | L66: 명 | M66: x | N66: 365 | O66: 일 | P66: = | Q66: =(H66*K66)*N66 -> 19870965
G67: - 2등급 (기초수급) | H67: 60490 | I67: 원 | J67: x | K67: 1 | L67: 명 | M67: x | N67: 365 | O67: 일 | P67: = | Q67: =(H67*K67)*N67 -> 22078850
G68: - 3등급(일반) | H68: =55780*0.8 -> 44624 | I68: 원 | J68: x | K68: 5 | L68: 명 | M68: x | N68: 365 | O68: 일 | P68: = | Q68: =(H68*K68)*N68 -> 81438800
G69: - 3등급(경감) | H69: =55780*0.9 -> 50202 | I69: 원 | J69: x | K69: 0 | L69: 명 | M69: x | N69: 365 | O69: 일 | P69: = | Q69: =(H69*K69)*N69 -> 0
G70: - 3등급 (기초수급) | H70: 55780 | I70: 원 | J70: x | K70: 2 | L70: 명 | M70: x | N70: 365 | O70: 일 | P70: = | Q70: =(H70*K70)*N70 -> 40719400
G71: - 4등급(일반) | H71: =55780*0.8 -> 44624 | I71: 원 | J71: x | K71: 1 | L71: 명 | M71: x | N71: 365 | O71: 일 | P71: = | Q71: =(H71*K71)*N71 -> 16287760
G72: - 4등급(경감) | H72: =55780*0.9 -> 50202 | I72: 원 | J72: x | K72: 1 | L72: 명 | M72: x | N72: 365 | O72: 일 | P72: = | Q72: =(H72*K72)*N72 -> 18323730
G73: - 4등급 (기초수급) | H73: 55780 | I73: 원 | J73: x | K73: 1 | L73: 명 | M73: x | N73: 365 | O73: 일 | P73: = | Q73: =(H73*K73)*N73 -> 20359700
G74: - 5등급(일반) | H74: =55780*0.8 -> 44624 | I74: 원 | J74: x | K74: 1 | L74: 명 | M74: x | N74: 365 | O74: 일 | P74: = | Q74: =(H74*K74)*N74 -> 16287760
G75: - 5등급(경감) | H75: =55780*0.9 -> 50202 | I75: 원 | J75: x | K75: 0 | L75: 명 | M75: x | N75: 365 | O75: 일 | P75: = | Q75: =(H75*K75)*N75 -> 0
G76: - 5등급 (기초수급) | H76: 55780 | I76: 원 | J76: x | K76: 0 | L76: 명 | M76: x | N76: 365 | O76: 일 | P76: = | Q76: =(H76*K76)*N76 -> 0
C77: 612 가산금수입 | D77: =세입예산서!E95 -> 6000000 | E77: 0 | F77: =E77-D77 -> -6000000 | G77: ㅇ 가산금수입 | N77: =Q78 -> 11684322
G78: - 가산금수입 | H78: =SUM(Q58:Q76)*0.04/12 -> 973693.47 | I78: 원 | J78: x | K78: 1 | L78: 명 | M78: x | N78: 12 | O78: 월 | P78: = | Q78: =(H78*K78)*N78 -> 11684322
A79: 07 차입금 | D79: =세입예산서!E97 -> 0 | E79: =E80 -> 0 | F79: =E79-D79 -> 0 | Q79: =Q80 -> 0 | S79: =Q79 -> 0
B80: 71 차입금 | D80: =세입예산서!E98 -> 0 | E80: =E81+E83 -> 0 | F80: =E80-D80 -> 0 | Q80: =Q81+Q83 -> 0
C81: 711 금융기관 차입금 | D81: =세입예산서!E99 -> 0 | E81: =Q81 -> 0 | F81: =E81-D81 -> 0 | G81: ㅇ 금융기관차입금 | P81: = | Q81: =Q82 -> 0
G82: - 금융기관차입금 | H82: 0 | I82: 원 | P82: = | Q82: =H82 -> 0
C83: 712 기타차입금 | D83: =세입예산서!E101 -> 0 | E83: =Q83 -> 0 | F83: =E83-D83 -> 0 | G83: ㅇ 기타차입금 | P83: = | Q83: =Q84 -> 0
G84: - 기타차입금 | H84: 0 | I84: 원 | P84: = | Q84: =H84 -> 0
A85: 08 전입금 | D85: =세입예산서!E103 -> 25200000 | E85: =E86 -> 0 | F85: =E85-D85 -> -25200000 | Q85: =Q86 -> 0 | S85: =Q85 -> 0
B86: 81 전입금 | D86: =세입예산서!E104 -> 25200000 | E86: =E87 -> 0 | F86: =E86-D86 -> -25200000 | Q86: =Q87+Q89+Q91+Q93 -> 0
C87: 811 법인전입금 | D87: =세입예산서!E105 -> 0 | E87: =Q87 -> 0 | F87: =E87-D87 -> 0 | G87: ㅇ 법인전입금 | P87: = | Q87: =Q88 -> 0
G88: - 법인전입금 | H88: 0 | I88: 원 | P88: = | Q88: =H88 -> 0
C89: 812 법인전입금 (후원금) | D89: =세입예산서!E107 -> 0 | E89: =Q89 -> 0 | F89: =E89-D89 -> 0 | G89: ㅇ 법인전입금 (후원금) | P89: = | Q89: =Q90 -> 0
G90: - 법인전입금 (후원금) | H90: 0 | I90: 원 | P90: = | Q90: =H90 -> 0
C91: 813 기타전입금 | D91: =세입예산서!E109 -> 25200000 | E91: =Q91 -> 0 | F91: =E91-D91 -> -25200000 | G91: ㅇ 기타전입금 | P91: = | Q91: =Q92 -> 0
G92: - 기타전입금 | H92: 0 | I92: 원 | P92: = | Q92: =H92 -> 0
C93: 814 기타전입금 (후원금) | D93: =세입예산서!E111 -> 0 | E93: =Q93 -> 0 | F93: =E93-D93 -> 0 | G93: ㅇ 기타전입금 (후원금) | P93: = | Q93: =Q94 -> 0
G94: - 기타전입금 (후원금) | H94: 0 | I94: 원 | P94: = | Q94: =H94 -> 0
A95: 09 이월금 | D95: =세입예산서!E113 -> 0 | E95: =E96 -> 1801387 | F95: =E95-D95 -> 1801387 | Q95: =Q96 -> 1801387 | S95: =Q95 -> 1801387
B96: 91 이월금 | D96: =세입예산서!E114 -> 0 | E96: =E97+E99 -> 1801387 | F96: =E96-D96 -> 1801387 | Q96: =Q97+Q99+Q101 -> 1801387
C97: 911 전년도이월금 | D97: =세입예산서!E115 -> 0 | E97: =Q97 -> 1801387 | F97: =E97-D97 -> 1801387 | G97: ㅇ 전년도이월금 | P97: = | Q97: =Q98+Q100+Q102 -> 1801387
G98: - 전년도이월금 | H98: 1801387 | I98: 원 | P98: = | Q98: =H98 -> 1801387
C99: 912 전년도이월금 (후원금) | D99: =세입예산서!E117 -> 0 | E99: =Q99 -> 0 | F99: =E99-D99 -> 0 | G99: ㅇ전년도이월금 (후원금) | P99: = | Q99: =Q100 -> 0
G100: -전년도이월금 (후원금) | H100: 0 | I100: 원 | P100: = | Q100: =H100 -> 0
...

Sheet 추경세출예산서 
A1: 2018년도 추경세출예산서
A2: 3-2. 추경세출 명세서 | D2: (금액단위: 천원) | H2: =표제!A42 -> YJ주야간보호센터 | R2: 잔액 | S2: =추경세입예산서!N5-O5 -> 33366259 | U2: 인건비 비율
A3: 계정과목 | D3: 당초 (A) | E3: 추경 (B) | F3: 증 감 (B-A) | G3: 산 출 기 초 | Q3: 단위(원) | R3: 자금원천 | U3: 장기요양요원 인건비 | V3: =Q10+Q11+Q13+Q14+Q24+Q28+Q30+Q33+Q37+Q41 -> 2.3488098e+08
A4: 관 | B4: 항 | C4: 목 | R4: 보조금 | S4: 자부담 | T4: 후원금 | U4: 총수입 | V4: =추경세입예산서!Q8+추경세입예산서!N61+추경세입예산서!N77 -> 3.4775077e+08
A5: 총 계 | D5: =세출예산서!E5 -> 1.082762e+08 | E5: =E6+E88+E93+E112+E116+E119+E126+E129+E133+E137 -> 3.6749716e+08 | F5: =E5-D5 -> 2.5922096e+08 | O5: =O6+Q88+O93+Q112+Q116+O119+Q126+Q129+P133+Q137 -> 3.6749716e+08 | V5: =V3/V4 -> 0.67542906
A6: 01 사무비 | D6: =세출예산서!E6 -> 86581021 | E6: =E7+E43+E52 -> 3.0852304e+08 | F6: =E6-D6 -> 2.2194202e+08 | O6: =O7+Q43+O52 -> 3.0852304e+08 | R6: =추경세입예산서!R119-R7 -> 10553760 | S6: =추경세입예산서!S119-S7 -> 22812500 | T6: =T7-세입예산서!T138 -> 0
B7: 11 인건비 | D7: =세출예산서!E7 -> 56391021 | E7: =E8+E20+E22+E24+E25 -> 2.8008138e+08 | F7: =E7-D7 -> 2.2369036e+08 | O7: =Q8+Q20+Q22+Q24+Q26+Q31+Q35+Q39 -> 2.8008138e+08 | R7: =SUM(R8:R136) -> 3.0421236e+08 | S7: =SUM(S8:S136) -> 63284797 | T7: =SUM(T8:T136) -> 0
C8: 111 급여 | D8: =세출예산서!E8 -> 47700000 | E8: =Q8 -> 241200000 | F8: =E8-D8 -> 193500000 | G8: ㅇ 급여 | P8: = | Q8: =SUM(Q9:Q19) -> 241200000 | R8: =Q8 -> 241200000
G9: - 대표/원장 | H9: 3500000 | I9: 원 | J9: x | K9: 1 | L9: 명 | M9: x | N9: 12 | O9: 월 | P9: = | Q9: =(H9*K9)*N9 -> 42000000
G10: - 복지사 | H10: 1600000 | I10: 원 | J10: x | K10: 2 | L10: 명 | M10: x | N10: 12 | O10: 월 | P10: = | Q10: =H10*K10*N10 -> 38400000
G11: - 요양보호사 | H11: =10200000/6 -> 1700000 | I11: 원 | J11: x | K11: 6 | L11: 명 | M11: x | N11: 12 | O11: 월 | P11: = | Q11: =H11*K11*N11 -> 122400000 | W11: 0
G12: - 사무원 | I12: 원 | J12: x | K12: 0 | L12: 명 | M12: x | N12: 12 | O12: 월 | P12: = | Q12: =H12*K12*N12 -> 0
G13: - 조리사 | H13: 1600000 | I13: 원 | J13: x | K13: 1 | L13: 명 | M13: x | N13: 12 | O13: 월 | P13: = | Q13: =H13*K13*N13 -> 19200000
G14: - 간호사 | H14: 1600000 | I14: 원 | J14: x | K14: 1 | L14: 명 | M14: x | N14: 12 | O14: 월 | P14: = | Q14: =H14*K14*N14 -> 19200000
G15: - 촉탁의 | H15: 0 | I15: 원 | J15: x | K15: 1 | L15: 명 | M15: x | N15: 12 | O15: 월 | P15: = | Q15: =H15*K15*N15 -> 0
I16: 원 | J16: x | L16: 명 | M16: x | N16: 12 | O16: 월 | P16: = | Q16: =H16*K16*N16 -> 0
I17: 원 | J17: x | L17: 명 | M17: x | N17: 12 | O17: 월 | P17: = | Q17: =H17*K17*N17 -> 0
I18: 원 | J18: x | L18: 명 | M18: x | N18: 12 | O18: 월 | P18: = | Q18: =H18*K18*N18 -> 0
G19: - 기타종사자 | H19: 0 | I19: 원 | J19: x | K19: 1 | L19: 명 | M19: x | N19: 12 | O19: 월 | P19: = | Q19: =H19*K19*N19 -> 0
C20: 112 각종수당 | D20: =세출예산서!#REF! -> #REF! | E20: =Q20 -> 0 | F20: =E20-D20 -> #REF! | G20: ㅇ 상여금 | P20: = | Q20: =SUM(Q21:Q21) -> 0 | R20: =Q20 -> 0
G21: - 상여금 | H21: 0 | I21: 원 | J21: x | K21: 1 | L21: 명 | M21: x | N21: 12 | O21: 회 | P21: = | Q21: =H21*K21*N21 -> 0
C22: 113 일용잡금 | D22: =세출예산서!E21 -> 0 | E22: =Q22 -> 0 | F22: =E22-D22 -> 0 | G22: ㅇ 일용잡금 | P22: = | Q22: =SUM(Q23:Q23) -> 0 | R22: =Q22 -> 0
G23: - 일용잡금 | H23: 0 | I23: 원 | J23: x | K23: 1 | L23: 명 | M23: x | N23: 12 | O23: 월 | P23: = | Q23: =H23*K23*N23 -> 0
C24: 115 퇴직금 및 퇴직적립금 | D24: =세출예산서!E23 -> 0 | E24: =Q24 -> 16600000 | F24: =E24-D24 -> 16600000 | G24: ㅇ 퇴직적립금 | H24: =SUM(Q10:Q14)/12/12 -> 1383333.3 | I24: 원 | J24: x | K24: 1 | M24: x | N24: 12 | O24: 월 | P24: = | Q24: =N24*H24 -> 16600000 | R24: =Q24 -> 16600000
C25: 116 사회보험 부담비용 | D25: =세출예산서!E24 -> 0 | E25: =Q26+Q31+Q35+Q39 -> 22281377 | F25: =E25-D25 -> 22281377 | G25: ㅇ 사회보험 부담비용 | Q25: =Q26+Q31+Q35+Q39 -> 22281377 | S25: =Q25 -> 22281377
G26: ㅇ 건강보험 | P26: = | Q26: =SUM(Q27:Q30) -> 8080817.5
G27: - 원 장 : | H27: =H9 -> 3500000 | I27: 원 | J27: x | K27: =6.24%/2 -> 0.0312 | M27: x | N27: 12 | O27: 월 | P27: = | Q27: =H27*K27*N27 -> 1310400
G28: - 종사자 : | H28: =SUM(Q10:Q19)/12 -> 16600000 | I28: 원 | J28: x | K28: =6.24%/2 -> 0.0312 | M28: x | N28: 12 | O28: 월 | P28: = | Q28: =H28*K28*N28 -> 6215040
G29: - 일용직 : | H29: =Q22/12 -> 0 | I29: 원 | J29: x | K29: =6.24%/2 -> 0.0312 | N29: 12 | O29: 월 | P29: = | Q29: =H29*K29*N29 -> 0
G30: - 장기요양보험: | H30: =(Q27+Q28+Q29)/12 -> 627120 | I30: 원 | J30: x | K30: 0.0738 | M30: x | N30: 12 | O30: 월 | P30: = | Q30: =H30*K30*N30 -> 555377.47
G31: ㅇ 국민연금 | P31: = | Q31: =SUM(Q32:Q34) -> 10854000
G32: - 원 장 : | H32: =H27 -> 3500000 | I32: 원 | J32: x | K32: 0.045 | M32: x | N32: 12 | O32: 월 | P32: = | Q32: =H32*K32*N32 -> 1890000
G33: - 종사자 : | H33: =H28 -> 16600000 | I33: 원 | J33: x | K33: 0.045 | M33: x | N33: 12 | O33: 월 | P33: = | Q33: =H33*K33*N33 -> 8964000
G34: - 기타 종사자 : | H34: =H29 -> 0 | I34: 원 | J34: x | K34: 0.045 | M34: x | N34: 12 | O34: 월 | P34: = | Q34: =H34*K34*N34 -> 0
G35: ㅇ 산재보험 | P35: = | Q35: =SUM(Q36:Q38) -> 1553760
G36: - 원 장 : | H36: 0 | I36: 원 | J36: x | K36: 0.0078 | M36: x | N36: 12 | O36: 월 | P36: = | Q36: =H36*K36*N36 -> 0
G37: - 종사자 : | H37: =SUM(Q10:Q19)/12 -> 16600000 | I37: 원 | J37: x | K37: 0.0078 | M37: x | N37: 12 | O37: 월 | P37: = | Q37: =H37*K37*N37 -> 1553760
G38: - 기타 종사자 : | H38: =H29 -> 0 | I38: 원 | J38: x | K38: 0.0078 | M38: x | N38: 12 | O38: 월 | P38: = | Q38: =H38*K38*N38 -> 0
G39: ㅇ 고용보험 | P39: = | Q39: =SUM(Q40:Q42) -> 1792800
G40: - 원 장 : | H40: =H36 -> 0 | I40: 원 | J40: x | K40: 0.009 | M40: x | N40: 12 | O40: 월 | P40: = | Q40: =H40*K40*N40 -> 0
G41: - 종사자 : | H41: =H37 -> 16600000 | I41: 원 | J41: x | K41: 0.009 | M41: x | N41: 12 | O41: 월 | P41: = | Q41: =H41*K41*N41 -> 1792800
G42: - 기타 종사자 : | H42: =H29 -> 0 | I42: 원 | J42: x | K42: 0.009 | M42: x | N42: 12 | O42: 월 | P42: = | Q42: =H42*K42*N42 -> 0
B43: 12 업무추진비 | D43: =세출예산서!E42 -> 0 | E43: =E44+E47+E49 -> 0 | F43: =E43-D43 -> 0 | Q43: =Q44+Q47+Q49 -> 0
C44: 121 기관운영비 | D44: =세출예산서!E43 -> 0 | E44: =Q44 -> 0 | F44: =E44-D44 -> 0 | G44: ㅇ 기관운영비 | P44: = | Q44: =Q45+Q46 -> 0 | S44: =Q44 -> 0
G45: - 경조사비 | H45: 0 | I45: 원 | J45: x | N45: 12 | O45: 월 | P45: = | Q45: =H45*N45 -> 0
G46: - 기타행사 | H46: 0 | I46: 원 | J46: x | N46: 1 | O46: 월 | P46: = | Q46: =H46*N46 -> 0
C47: 122 직책보조비 | D47: =세출예산서!E46 -> 0 | E47: =Q47 -> 0 | F47: =E47-D47 -> 0 | G47: ㅇ 직책보조비 | P47: = | Q47: =Q48 -> 0 | S47: =Q47 -> 0
G48: - 직책보조비 | H48: 0 | I48: 원 | J48: x | K48: 1 | L48: 명 | M48: x | N48: 12 | O48: 월 | P48: = | Q48: =H48*K48*N48 -> 0
C49: 123 회의비 | D49: =세출예산서!E48 -> 0 | E49: =Q49 -> 0 | F49: =E49-D49 -> 0 | G49: ㅇ 회의비 | P49: = | Q49: =Q50+Q51 -> 0 | S49: =Q49 -> 0
G50: - 교육참석경비 | H50: 0 | I50: 원 | J50: x | N50: 4 | O50: 회 | P50: = | Q50: =H50*N50 -> 0
G51: - 보호자회의 | H51: 0 | I51: 원 | J51: x | N51: 1 | O51: 회 | P51: = | Q51: =H51*N51 -> 0
B52: 13 운영비 | D52: =세출예산서!E51 -> 0 | E52: =E53+E55+E64+E78+E80+E75 -> 28441667 | F52: =E52-D52 -> 28441667 | O52: =Q53+Q55+Q64+Q78+Q80+Q75 -> 28441667
C53: 131 여비 | D53: =세출예산서!E52 -> 0 | E53: =Q53 -> 0 | F53: =E53-D53 -> 0 | G53: ㅇ 여비 | P53: = | Q53: =SUM(Q54) -> 0 | R53: =Q53 -> 0
G54: - 여 비 | H54: 0 | I54: 원 | J54: x | N54: 12 | O54: 회 | P54: = | Q54: =H54*N54 -> 0
C55: 132 수용비 및 수수료 | D55: =세출예산서!E54 -> 0 | E55: =Q55 -> 3041666.7 | F55: =E55-D55 -> 3041666.7 | G55: ㅇ 수용비및수수료 | P55: = | Q55: =SUM(Q56:Q63) -> 3041666.7 | R55: =Q55 -> 3041666.7
G56: - 사무용품비 | H56: =800000/12 -> 66666.667 | I56: 원 | J56: x | N56: 12 | O56: 회 | P56: = | Q56: =H56*N56 -> 800000
G57: - 렌탈료 | H57: 0 | I57: 원 | J57: x | N57: 12 | O57: 회 | P57: = | Q57: =H57*N57 -> 0
G58: - 기장대행료 | H58: 80000 | I58: 원 | J58: x | N58: 12 | O58: 회 | P58: = | Q58: =H58*N58 -> 960000
G59: - 비상약품 | H59: 0 | I59: 원 | J59: x | N59: 12 | O59: 회 | P59: = | Q59: =H59*N59 -> 0
G60: - 세탁비 | H60: =1000000/12 -> 83333.333 | I60: 원 | J60: x | N60: 12 | O60: 회 | P60: = | Q60: =H60*N60 -> 1000000
G61: - 의료폐기물 | H61: 20000 | I61: 원 | J61: x | N61: 12 | O61: 회 | P61: = | Q61: =H61*N61 -> 240000
G62: - 안전점검비 | H62: =500000/12 -> 41666.667 | I62: 원 | J62: x | N62: 1 | O62: 회 | P62: = | Q62: =H62*N62 -> 41666.667
G63: - 관리비 | H63: 0 | I63: 원 | J63: x | N63: 12 | O63: 회 | P63: = | Q63: =H63*N63 -> 0
C64: 133 공공요금 및 각종 세금 공과금 | D64: =세출예산서!E64 -> 0 | E64: =Q64 -> 17100000 | F64: =E64-D64 -> 17100000 | G64: ㅇ 공공요금 및 각종세금 공과금 | P64: = | Q64: =Q65+Q70 -> 17100000
G65: ㅇ 제세공과금 | P65: = | Q65: =SUM(Q66:Q69) -> 2400000 | R65: =Q65 -> 2400000
G66: - 기타세금 | H66: 0 | I66: 원 | J66: x | N66: 1 | O66: 회 | P66: = | Q66: =H66*N66 -> 0
G67: - 가스보험 | H67: 0 | I67: 원 | J67: x | N67: 12 | O67: 회 | P67: = | Q67: =H67*N67 -> 0
G68: - 화재보험 | H68: 0 | I68: 원 | J68: x | N68: 12 | O68: 회 | P68: = | Q68: =H68*N68 -> 0
G69: - 배상 책임보험 | H69: 200000 | I69: 원 | J69: x | N69: 12 | O69: 회 | P69: = | Q69: =H69*N69 -> 2400000
G70: ㅇ 공공요금 | P70: = | Q70: =SUM(Q71:Q74) -> 14700000 | S70: =Q70 -> 14700000
G71: -전화.통신 (인터넷) | H71: 100000 | I71: 원 | J71: x | N71: 12 | O71: 월 | P71: = | Q71: =H71*N71 -> 1200000
G72: -전기요금 | H72: =7000000/12 -> 583333.33 | I72: 원 | J72: x | N72: 12 | O72: 월 | P72: = | Q72: =H72*N72 -> 7000000
G73: -도시가스 | H73: =3000000/12 -> 250000 | I73: 원 | J73: x | N73: 12 | O73: 월 | P73: = | Q73: =H73*N73 -> 3000000
G74: -상하수도요금 | H74: =3500000/12 -> 291666.67 | I74: 원 | J74: x | N74: 12 | O74: 월 | P74: = | Q74: =H74*N74 -> 3500000
C75: 135 차량비 | E75: =Q75 -> 1700000 | F75: =E75-D75 -> 1700000 | G75: ㅇ 차량비 | P75: = | Q75: =SUM(Q76:Q77) -> 1700000 | R75: =Q75 -> 1700000
G76: - 차량유류비 | H76: 100000 | I76: 원 | J76: x | N76: 12 | O76: 월 | P76: = | Q76: =H76*N76 -> 1200000
G77: - 차량수리비 | H77: =500000/12 -> 41666.667 | I77: 원 | J77: x | N77: 12 | O77: 월 | P77: = | Q77: =H77*N77 -> 500000
C78: 136 임차료 | D78: =세출예산서!E80 -> 0 | E78: =Q78 -> 0 | F78: =E78-D78 -> 0 | G78: ㅇ 임차료 | P78: = | Q78: =SUM(Q79:Q79) -> 0 | R78: =Q78 -> 0
G79: - 임차료 | H79: 0 | I79: 원 | J79: x | N79: 12 | O79: 월 | P79: = | Q79: =H79*N79 -> 0
C80: 137 기타운영비 | D80: =세출예산서!E82 -> 0 | E80: =Q80 -> 6600000 | F80: =E80-D80 -> 6600000 | G80: ㅇ 기타운영비 | P80: = | Q80: =SUM(Q81:Q87) -> 6600000 | R80: =Q80 -> 6600000
G81: - 건강진단비 | H81: 0 | I81: 원 | J81: x | N81: 12 | O81: 월 | P81: = | Q81: =H81*N81 -> 0
G82: - 기타행사 | H82: 150000 | I82: 원 | J82: x | K82: 1 | L82: 명 | M82: x | N82: 12 | O82: 회 | Q82: =H82*N82*K82 -> 1800000
G83: - 직원포상 | H83: 200000 | I83: 원 | J83: x | K83: 1 | L83: 명 | N83: 12 | O83: 월 | P83: = | Q83: =H83*N83*K83 -> 2400000
G84: - 프로그램비용 | H84: 0 | I84: 원 | J84: x | N84: 12 | O84: 월 | P84: = | Q84: =H84*N84 -> 0
G85: - 복리후생 | H85: 0 | I85: 원 | J85: x | N85: 12 | O85: 월 | P85: = | Q85: =H85*N85 -> 0
G86: - 상용의류비 | H86: 0 | I86: 원 | J86: x | N86: 12 | O86: 월 | P86: = | Q86: =H86*N86 -> 0
G87: - 직원생계비 | H87: 200000 | I87: 원 | J87: x | K87: 1 | L87: 명 | N87: 12 | O87: 월 | P87: = | Q87: =H87*N87*K87 -> 2400000
A88: 02 재산조성비 | D88: =세출예산서!E94 -> 0 | E88: =E89 -> 0 | F88: =E88-D88 -> 0 | Q88: =Q89 -> 0 | R88: =Q88 -> 0
B89: 21 시설비 | D89: =세출예산서!E95 -> 1000000 | E89: =SUM(E90:E92) -> 0 | F89: =E89-D89 -> -1000000 | Q89: =Q90+Q91+Q92 -> 0
C90: 211 시설비 | D90: =세출예산서!E96 -> 0 | E90: =Q90 -> 0 | F90: =E90-D90 -> 0 | G90: - 시설비 | H90: 0 | I90: 원 | J90: x | N90: 12 | O90: 월 | P90: = | Q90: =H90*N90:N90 -> 0
C91: 212 시설장비 유지비 | D91: =세출예산서!E98 -> 0 | E91: =Q91 -> 0 | F91: =E91-D91 -> 0 | G91: -시설장비유지비 | H91: 0 | I91: 원 | J91: x | N91: 12 | O91: 월 | P91: = | Q91: =H91*N91:N91 -> 0
C92: 213 자산취득비 | D92: =세출예산서!E99 -> 0 | E92: =Q92 -> 0 | F92: =E92-D92 -> 0 | G92: - 자산취득비 | H92: 0 | I92: 원 | J92: x | N92: 12 | O92: 월 | P92: = | Q92: =H92*N92:N92 -> 0
A93: 03 사업비 | D93: =세출예산서!E100 -> 0 | E93: =E94+E109 -> 24120000 | F93: =E93-D93 -> 24120000 | O93: =O94+Q109 -> 24120000
B94: 31 운영비 | D94: =세출예산서!E101 -> 0 | E94: =E95+E101+E105+E107 -> 24120000 | F94: =E94-D94 -> 24120000 | O94: =Q95+Q98+Q105+Q107+Q101 -> 24120000
C95: 311 생계비 | D95: =세출예산서!E102 -> 0 | E95: =Q95+Q98 -> 17520000 | F95: =E95-D95 -> 17520000 | G95: ㅇ 식재료비 | P95: = | Q95: =SUM(Q96:Q97) -> 17520000 | S95: =Q95 -> 17520000
G96: - 생계비 | H96: =세입예산서!H35 -> 6000 | I96: 원 | J96: x | K96: =세입예산서!K35 -> 8 | L96: 명 | N96: 365 | O96: 일 | P96: = | Q96: =H96*K96*N96 -> 17520000
G97: - 간식비 | H97: =세입예산서!H36 -> 0 | I97: 원 | J97: x | K97: =세입예산서!K36 -> 8 | L97: 명 | N97: 365 | O97: 일 | P97: = | Q97: =H97*K97*N97 -> 0
G98: ㅇ 기초생활 수금자생계비 | P98: = | Q98: =SUM(Q99:Q100) -> 0 | R98: =Q98 -> 0
G99: - 생계비(수급자) | H99: =세입예산서!H55 -> 0 | I99: 원 | J99: x | K99: =세입예산서!K55 -> 0 | L99: 명 | N99: 12 | O99: 월 | P99: = | Q99: =H99*K99*N99 -> 0
G100: - 간식비(수급자) | H100: =세입예산서!H56 -> 0 | I100: 원 | J100: x | K100: =세입예산서!K56 -> 0 | L100: 명 | N100: 12 | O100: 월 | P100: = | Q100: =H100*K100*N100 -> 0
...

Sheet 포트폴리오
A1: 포 트 폴 리 오
A2: - 자금원천 비율
A4: 구분 | B4: 세입 | E4: 세출
A5: 자금원천 | B5: 보조금 | C5: 자부담 | D5: 후원금 | E5: 보조금 | F5: 자부담 | G5: 후원금
A6: 비용 | B6: =세입예산서!N68 -> 64752798 | C6: =세입예산서!Q7 -> 16378362 | D6: =세입예산서!T138 -> 0 | E6: =B6 -> 64752798 | F6: =C6 -> 16378362 | G6: =세출예산서!T152 -> 0
A7: 합계 | B7: =B6+C6+D6 -> 81131160 | E7: =E6+F6+G6 -> 81131160
A9: - 세입 대비 비율
A11: 구 분 | C11: 세입 | D11: 세출 | F11: 비율(%) | G11: 비고
A12: 인건비 | C12: =B6+C6 -> 81131160 | D12: =세출예산서!E7 -> 56391021 | F12: =D12/C12 -> 0.69505997 | I12: 0.63
A13: 생계비 | D13: =세출예산서!Q116 -> 9768000 | F13: =D13/C12 -> 0.12039764 | I13: 0.11
A14: 운영비 | D14: =세출예산서!O62 -> 30190000 | F14: =D14/C12 -> 0.3721135 | I14: 0.09
A15: 자산조성비 | D15: =세출예산서!Q104 -> 0 | F15: =D15/C12 -> 0 | I15: 0.01
A16: 기타전출금 | D16: =세출예산서!Q141 -> 9000000 | F16: =D16/C12 -> 0.11093148 | I16: 0.1
A17: 예비비+잡지출 | D17: =세출예산서!H157+세출예산서!H154 -> 1007179 | F17: =D17/C12 -> 0.012414207 | I17: 0.02
A18: 적립금 | D18: =세출예산서!Q161 -> 0 | F18: =D18/C12 -> 0 | I18: 0.02
A19: 준비금 | D19: =세출예산서!Q162 -> 0 | F19: =D19/C12 -> 0 | I19: 0.02
A20: 기 타 | D20: =C12-SUM(D12:E19) -> -25225040 | F20: =D20/C12 -> -0.3109168
A21: 합 계 | C21: =C12 -> 81131160 | D21: =C21 -> 81131160 | F21: =D21/C21 -> 1 | I21: =SUM(I12:I20) -> 1

Sheet 보고서
A1: =표제!A10 -> 2020년 | D1: =표제!A42 -> YJ주야간보호센터 | G1: 재 무 회 계 보 고 서
A5: SWOT 분석 | B5: 1. Strength(강점)
B6: 2. Weakness(약점)
B7: 3. Opportunity(기회,가능성)
B8: 4. Threat(위협)
