Workbook

Sheet 표제
A10: 2020년 | F10: 세입·세출 예산서
A42: YJ주야간보호센터

Sheet 예산총칙
A1: 예 산 총 칙
A4: 제1조 사회복지시설 | D4: =표제!A42 -> YJ주야간보호센터 | F4: =표제!A10 -> 2020년 | G4: 예산은 일반회계 세입.세출
A5: 예산 총액은 각각 | D5: =세입예산서!E5 -> 108276200 | E5: 천원으로 한다
A7: 제2조
A8: 1) | B8: 세입 재원은 세입명세서와 같다.
A9: 2) | B9: 세출의 재원은 세출명세서와 같다.
A11: 제3조 | B11: =F4 -> 2020년 | C11: 도 명시 이월사업은 명시 이월사업비 명세서와 같다.
A13: 제4조 | B13: =B11 -> 2020년 | C13: 도 계속비 사업은 계속비 조서와 같다
A15: 제5조 | B15: 국가 또는 지방자치단체로부터 교부된 보조금 및 지정후원금,법인전입금 등은
A16: 추가경정예산의 성립 이전이라도 보조 및 후원목적에 적절할 경우 먼저사용할수
A17: 있으며, 이는 차기 추가정정예산에 반영하여야 한다.

Sheet 총괄표
A1: 2020년도 세입.세출 총괄표
A2: 1.세입.세출 총괄표 | H2: 금액단위:원
A3: 세 입 | F3: 세 출
A4: 과 목 | B4: 당해년도 예산액 (A) | C4: 당해년도 예산액 (B) | D4: 증 감(B-A) | F4: 과 목 | G4: 당해년도 예산액 (A) | H4: 당해년도 예산액 (B) | I4: 증 감(B-A)
D5: 금액 | E5: 비율(%) | I5: 금액 | J5: 비율(%)
A6: 입소자부담금 | B6: 0 | C6: =세입예산서!Q6 -> 16378362 | D6: =C6-B6 -> 16378362 | F6: 사 무 비 | G6: 0 | H6: =세출예산서!E6 -> 86581021 | I6: =H6-G6 -> 86581021
A7: 사업수입 | B7: 0 | C7: =세입예산서!Q42 -> 0 | D7: =C7-B7 -> 0 | F7: 재산조성비 | G7: 0 | H7: =세출예산서!E104 -> 0 | I7: =H7-G7 -> 0
A8: 과년도 수입 | B8: 0 | C8: =세입예산서!Q46 -> 0 | D8: =C8-B8 -> 0 | F8: 사 업 비 | G8: 0 | H8: =세출예산서!E113 -> 11688000 | I8: =H8-G8 -> 11688000
A9: 보조금 수입 | B9: 0 | C9: =세입예산서!Q50 -> 0 | D9: =C9-B9 -> 0 | F9: 전출금 | G9: 0 | H9: =세출예산서!E138 -> 9000000 | I9: =H9-G9 -> 9000000
A10: 후원금 수입 | B10: 0 | C10: =세입예산서!E64 -> 0 | D10: =C10-B10 -> 0 | F10: 과년도 지출 | G10: 0 | H10: =세출예산서!E142 -> 0 | I10: =H10-G10 -> 0
A11: 요양급여 수입 | B11: 0 | C11: =세입예산서!N68 -> 64752798 | D11: =C11-B11 -> 64752798 | F11: 상환금 | G11: 0 | H11: =세출예산서!E145 -> 0 | I11: =H11-G11 -> 0
A12: 차 입 금 | B12: 0 | C12: =세입예산서!Q97 -> 0 | D12: =C12-B12 -> 0 | F12: 잡 지 출 | G12: 0 | H12: =세출예산서!E152 -> 1007179 | I12: =H12-G12 -> 1007179
A13: 전 입 금 | B13: 0 | C13: =세입예산서!Q103 -> 25200000 | D13: =C13-B13 -> 25200000 | F13: 예비비 및 기타 | G13: 0 | H13: =세출예산서!E155 -> 0 | I13: =H13-G13 -> 0
A14: 이 월 금 | B14: 0 | C14: =세입예산서!Q113 -> 0 | D14: =C14-B14 -> 0 | F14: 적립금 및 준비금 | G14: 0 | H14: =세출예산서!E159 -> 0 | I14: =H14-G14 -> 0
A15: 잡 수 입 | B15: 0 | C15: =세입예산서!Q121 -> 1945040 | D15: =C15-B15 -> 1945040 | F15: 적립금 및 준비금 (특별회계) | G15: 0 | H15: =세출예산서!Q149 -> 0 | I15: =H15-G15 -> 0
A16: 적립금 및 준비금(특별회계) | B16: 0 | C16: =세입예산서!E132 -> 0 | D16: =C16-B16 -> 0
A17: 합 계 | B17: =SUM(B6:B15) -> 0 | C17: =SUM(C6:C15) -> 108276200 | D17: =C17-B17 -> 108276200 | F17: 합 계 | G17: =SUM(G6:G15) -> 0 | H17: =SUM(H6:H15) -> 1.082762e+08 | I17: =H17-G17 -> 1.082762e+08
H18: =표제!A42 -> YJ주야간보호센터

Sheet 보수일람표
A1: 직 원 보 수 일 람 표
A2: 2.보수일람표 | H2: 금액단위:원 | I2: 직종별 급여합계 | J2: 직종별 퇴직금 | K2: 직종별 4대보험
A3: 순번 | B3: 인적사항 | E3: 기 본 급 여 및 제 수 당 | I3: =SUBTOTAL(9,H5:H10) -> 47700000 | J3: =SUBTOTAL(9,J5:J10) -> 3975000 | K3: =SUBTOTAL(9,K5:K10) -> 4716022
B4: 성명 | C4: 구분 | D4: 직종 | E4: 기본급 | F4: 고정연장수당 | G4: 고정휴일수당 | H4: 지급총액 | J4: 퇴직금 | K4: 사회보험
A5: 1 | C5: 직접비 | D5: 요양보호사 | E5: =1800000*6 -> 10800000 | F5: 0 | G5: 0 | H5: =SUM(E5,F5,G5) -> 10800000 | J5: =H5/12 -> 900000 | K5: =H5*9.7% -> 1047600
A6: 2 | C6: 직접비 | D6: 요양보호사 | E6: =1800000*6 -> 10800000 | H6: =SUM(E6,F6,G6) -> 10800000 | J6: =H6/12 -> 900000 | K6: =H6*9.7% -> 1047600
A7: 3 | C7: 직접비 | D7: 간호조무사 | E7: =1850000*6 -> 11100000 | F7: 0 | G7: 0 | H7: =SUM(E7,F7,G7) -> 11100000 | J7: =H7/12 -> 925000 | K7: 1137796
A8: 4 | C8: 직접비 | D8: 사회복지사 | E8: 0 | H8: =SUM(E8,F8,G8) -> 0 | J8: =H8/12 -> 0 | K8: =H8*10.13% -> 0
A9: 5 | C9: 간접비 | D9: 조리사 | E9: 0 | F9: 0 | G9: 0 | H9: =SUM(E9,F9,G9) -> 0 | J9: =H9/12 -> 0 | K9: =H9*10.13% -> 0
A10: 6 | C10: 간접비 | D10: 시설장 | E10: =2500000*6 -> 15000000 | H10: =SUM(E10,F10,G10) -> 15000000 | J10: =H10/12 -> 1250000 | K10: 1483026
A11: 합 계 | E11: =SUM(E5:E10) -> 47700000 | F11: =SUM(F5:F10) -> 0 | G11: =SUM(G5:G10) -> 0 | H11: =SUM(H5:H10) -> 47700000

Sheet 세입예산서
A1: 2020년도 세입예산서
A2: 3.세입 명세서 | D2: (금액단위: 원) | I2: =표제!A42 -> YJ주야간보호센터 | R2: 자금원천
A3: 계 정 과 목 | D3: 2020년 예산액 (A) | E3: 2020년 예산액 (B) | F3: 증 감 (B-A) | G3: 산 출 기 초 | Q3: (단위:원) | R3: 보조금 | S3: 수익사업 (자부담) | T3: 후원금
A4: 관 | B4: 항 | C4: 목
A5: 총 계 | D5: 0 | E5: =E6+E42+E46+E50+E68+E64+E97+E103+E113+E121+E132 -> 108276200 | F5: =E5-D5 -> 108276200 | N5: =Q6+Q42+Q46+Q50+N68+Q64+Q97+Q103+Q113+Q121+Q132 -> 108276200
A6: 01 입소자부담금 수입 | D6: 0 | E6: =E7+E37 -> 16378362 | F6: =E6-D6 -> 16378362 | Q6: =Q7+Q37 -> 16378362
B7: 11 입소비용수입 | D7: 0 | E7: =E8+E34 -> 16378362 | F7: =E7-D7 -> 16378362 | Q7: =Q8+Q34+Q37 -> 16378362
C8: 111 본인부담금수입 | D8: 0 | E8: =Q8 -> 8890362 | F8: =E8-D8 -> 8890362 | G8: ㅇ 본인부담금수입 | J8: 8 | Q8: =SUM(Q9:Q33) -> 8890362 | S8: =Q8 -> 8890362
G9: - 1등급(일반) | H9: =64350*0.15 -> 9652.5 | I9: 원 | J9: x | K9: 0 | L9: 명 | M9: x | N9: 156 | O9: 일 | P9: = | Q9: =(H9*K9)*N9 -> 0
G10: - 1등급(9%) | H10: =64350*0.09 -> 5791.5 | I10: 원 | J10: x | K10: 0 | L10: 명 | M10: x | N10: 156 | O10: 일 | P10: = | Q10: =(H10*K10)*N10 -> 0
G11: - 1등급(6%) | H11: =64350*0.06 -> 3861 | I11: 원 | J11: x | K11: 0 | L11: 명 | M11: x | N11: 156 | O11: 일 | P11: = | Q11: =(H11*K11)*N11 -> 0
G12: - 1등급 (기초수급) | H12: 0 | I12: 원 | J12: x | K12: 0 | L12: 명 | M12: x | N12: 156 | O12: 일 | P12: = | Q12: =(H12*K12)*N12 -> 0
G13: - 2등급(일반) | H13: =59610*0.15 -> 8941.5 | I13: 원 | J13: x | K13: 0 | L13: 명 | M13: x | N13: 156 | O13: 일 | P13: = | Q13: =(H13*K13)*N13 -> 0
G14: - 2등급(9%) | H14: =59610*0.09 -> 5364.9 | I14: 원 | J14: x | K14: 0 | L14: 명 | M14: x | N14: 156 | O14: 일 | P14: = | Q14: =(H14*K14)*N14 -> 0
G15: - 2등급(6%) | H15: =59610*0.06 -> 3576.6 | I15: 원 | J15: x | K15: 0 | L15: 명 | M15: x | N15: 156 | O15: 일 | P15: = | Q15: =(H15*K15)*N15 -> 0
G16: - 2등급 (기초수급) | H16: 0 | I16: 원 | J16: x | K16: 0 | L16: 명 | M16: x | N16: 156 | O16: 일 | P16: = | Q16: =(H16*K16)*N16 -> 0
G17: - 3등급(일반) | H17: =55070*0.15 -> 8260.5 | I17: 원 | J17: x | K17: 3 | L17: 명 | M17: x | N17: 156 | O17: 일 | P17: = | Q17: =(H17*K17)*N17 -> 3865914
G18: - 3등급(9%) | H18: =55070*0.09 -> 4956.3 | I18: 원 | J18: x | K18: 0 | L18: 명 | M18: x | N18: 156 | O18: 일 | P18: = | Q18: =(H18*K18)*N18 -> 0
G19: - 3등급(6%) | H19: =55070*0.06 -> 3304.2 | I19: 원 | J19: x | K19: 0 | L19: 명 | M19: x | N19: 156 | O19: 일 | P19: = | Q19: =(H19*K19)*N19 -> 0
G20: - 3등급 (기초수급) | H20: 0 | I20: 원 | J20: x | K20: 0 | L20: 명 | M20: x | N20: 156 | O20: 일 | P20: = | Q20: =(H20*K20)*N20 -> 0
G21: - 4등급(일반) | H21: =53680*0.15 -> 8052 | I21: 원 | J21: x | K21: 3 | L21: 명 | M21: x | N21: 156 | O21: 일 | P21: = | Q21: =(H21*K21)*N21 -> 3768336
G22: - 4등급(9%) | H22: =53680*0.09 -> 4831.2 | I22: 원 | J22: x | K22: 1 | L22: 명 | M22: x | N22: 156 | O22: 일 | P22: = | Q22: =(H22*K22)*N22 -> 753667.2
G23: - 4등급(6%) | H23: =53680*0.06 -> 3220.8 | I23: 원 | J23: x | K23: 1 | L23: 명 | M23: x | N23: 156 | O23: 일 | P23: = | Q23: =(H23*K23)*N23 -> 502444.8
G24: - 4등급 (기초수급) | H24: 0 | I24: 원 | J24: x | K24: 0 | L24: 명 | M24: x | N24: 156 | O24: 일 | P24: = | Q24: =(H24*K24)*N24 -> 0
G25: - 5등급(일반) | H25: =52320*0.15 -> 7848 | I25: 원 | J25: x | K25: 0 | L25: 명 | M25: x | N25: 156 | O25: 일 | P25: = | Q25: =(H25*K25)*N25 -> 0
G26: - 5등급(9%) | H26: =52320*0.09 -> 4708.8 | I26: 원 | J26: x | K26: 0 | L26: 명 | M26: x | N26: 156 | O26: 일 | P26: = | Q26: =(H26*K26)*N26 -> 0
G27: - 5등급(6%) | H27: =52320*0.06 -> 3139.2 | I27: 원 | J27: x | K27: 0 | L27: 명 | M27: x | N27: 156 | O27: 일 | P27: = | Q27: =(H27*K27)*N27 -> 0
G28: - 5등급 (기초수급) | H28: 0 | I28: 원 | J28: x | K28: 0 | L28: 명 | M28: x | N28: 156 | O28: 일 | P28: = | Q28: =(H28*K28)*N28 -> 0
G29: - 인지지원 (일반) | H29: =47210*15% -> 7081.5 | I29: 원 | J29: x | K29: 0 | L29: 명 | M29: x | N29: 156 | O29: 일 | P29: = | Q29: =(H29*K29)*N29 -> 0
G30: - 인지지원 (9%) | H30: =47210*0.09 -> 4248.9 | I30: 원 | J30: x | K30: 0 | L30: 명 | M30: x | N30: 156 | O30: 일 | P30: = | Q30: =(H30*K30)*N30 -> 0
G31: - 인지지원 (6%) | H31: =47210*0.06 -> 2832.6 | I31: 원 | J31: x | K31: 0 | L31: 명 | M31: x | N31: 72 | O31: 일 | P31: = | Q31: =(H31*K31)*N31 -> 0
G32: - 인지지원 (기초수급) | H32: 0 | I32: 원 | J32: x | K32: 0 | L32: 명 | M32: x | N32: 72 | O32: 일 | P32: = | Q32: =(H32*K32)*N32 -> 0
G33: - 등급외 (단기입소자) | H33: 0 | I33: 원ⅹ | K33: 0 | L33: 명 | M33: x | N33: 0 | O33: 일 | P33: = | Q33: =(H33*K33)*N33 -> 0
C34: 112 식재료비수입 | D34: 0 | E34: =Q34 -> 7488000 | F34: =E34-D34 -> 7488000 | G34: ㅇ식재료비 수입 | P34: = | Q34: =Q36+Q35 -> 7488000 | S34: =Q34 -> 7488000
G35: -식재료비 수입 | H35: 6000 | I35: 원 | J35: x | K35: 8 | L35: 명 | M35: x | N35: 156 | O35: 일 | P35: = | Q35: =(H35*K35)*N35 -> 7488000
G36: -간식비 수입 | H36: 0 | I36: 원 | J36: x | K36: 8 | L36: 명 | M36: x | N36: 156 | O36: 일 | P36: = | Q36: =(H36*K36)*N36 -> 0
B37: 12 부담금 | D37: 0 | E37: =E38+E40 -> 0 | F37: =E37-D37 -> 0 | Q37: =Q38+Q40 -> 0 | S37: =Q37 -> 0
C38: 121 상급침실이용료 | D38: 0 | E38: =Q38 -> 0 | F38: =E38-D38 -> 0 | G38: ㅇ 상급침실이용료 | P38: = | Q38: =Q39 -> 0
G39: - 상급침실이용료 | H39: 0 | I39: 원 | J39: x | K39: 0 | L39: 명 | M39: x | N39: 0 | O39: 월 | P39: = | Q39: =(H39*K39)*N39 -> 0
C40: 122 기타 비급여 | D40: 0 | E40: =Q40 -> 0 | F40: =E40-D40 -> 0 | G40: ㅇ 비급여 | P40: = | Q40: =Q41 -> 0
...

Sheet 세출예산서
A1: 2020년도 세출예산서
A2: 4. 세출 명세서 | D2: (금액단위: 원) | H2: =표제!A42 -> YJ주야간보호센터 | R2: 잔액 | S2: =세입예산서!R139-R5-S5 -> -0.4875 | U2: 인건비 비율
A3: 계정과목 | D3: 2020년 예산액 (A) | E3: 2020년 예산액 (B) | F3: 증 감 (B-A) | G3: 산 출 기 초 | Q3: 단위(원) | R3: 자금원천 | U3: 장기요양요원 인건비 | V3: =Q15+Q27+Q30 -> 38657996
A4: 관 | B4: 항 | C4: 목 | R4: 보조금 | S4: 수익사업 | T4: 후원금 | U4: 본인+공단 | V4: =세입예산서!Q8+세입예산서!N70+세입예산서!N95 -> 73643160
A5: 총 계 | D5: 0 | E5: =E6+E104+E113+E138+E142+E145+E152+E155+E159+E163 -> 1.082762e+08 | F5: =E5-D5 -> 1.082762e+08 | O5: =O6+Q104+O113+Q138+Q142+O145+Q152+Q155+P159+Q163 -> 1.082762e+08 | R5: =SUM(R8:R162) -> 0 | S5: =SUM(S7:S163) -> 1.082762e+08 | T5: =SUM(T8:T162) -> 0 | V5: =V3/V4 -> 0.52493668
A6: 01 사무비 | D6: 0 | E6: =E7+E53+E62 -> 86581021 | F6: =E6-D6 -> 86581021 | O6: =O7+Q53+O62 -> 86581021 | R6: =[1]세입예산서!R248-R7 -> 0 | T6: =T7-[1]세입예산서!T248 -> 0
B7: 11 인건비 | D7: 0 | E7: =E8+E21+E23+E25+E28 -> 56391021 | F7: =E7-D7 -> 56391021 | O7: =Q8+Q21+Q23+Q28+Q25 -> 56391021 | R7: =SUM(R8:R162) -> 0 | T7: =SUM(T8:T162) -> 0
C8: 111 급여 | D8: 0 | E8: =Q8 -> 47700000 | F8: =E8-D8 -> 47700000 | G8: ㅇ 급여 | P8: = | Q8: =Q9+Q15 -> 47700000 | S8: =Q8 -> 47700000
G9: 간접비 | Q9: =SUM(Q10:Q14) -> 15000000
G10: - 센터장 | H10: 2500000 | I10: 원 | J10: x | K10: 1 | L10: 명 | M10: x | N10: 6 | O10: 월 | P10: = | Q10: =(H10*K10)*N10 -> 15000000
G11: - 사무원 | H11: 0 | I11: 원 | J11: x | K11: 0 | L11: 명 | M11: x | N11: 0 | O11: 월 | P11: = | Q11: =H11*K11*N11 -> 0
G12: - 운전보조원 | H12: 0 | I12: 원 | J12: x | K12: 0 | L12: 명 | M12: x | N12: 0 | O12: 월 | P12: = | Q12: =H12*K12*N12 -> 0
G13: - 보조원 | H13: 0 | I13: 원 | J13: x | K13: 0 | L13: 명 | M13: x | N13: 0 | O13: 월 | P13: = | Q13: =H13*K13*N13 -> 0
G14: - 조리원 | H14: 0 | I14: 원 | J14: x | K14: 1 | L14: 명 | M14: x | N14: 6 | O14: 월 | P14: = | Q14: =H14*K14*N14 -> 0
G15: 직접비 | Q15: =SUM(Q16:Q20) -> 32700000
G16: - 간호조무사 | H16: 1850000 | I16: 원 | J16: x | K16: 1 | L16: 명 | M16: x | N16: 6 | O16: 월 | P16: = | Q16: =H16*K16*N16 -> 11100000
G17: - 사회복지사 | H17: 0 | I17: 원 | J17: x | K17: 1 | L17: 명 | M17: x | N17: 6 | O17: 월 | P17: = | Q17: =H17*K17*N17 -> 0
G18: - 요양보호사 평균 | H18: 1800000 | I18: 원 | J18: x | K18: 2 | L18: 명 | M18: x | N18: 6 | O18: 월 | P18: = | Q18: =H18*K18*N18 -> 21600000
G19: - 기타 | H19: 0 | I19: 원 | J19: x | K19: 0 | L19: 명 | M19: x | N19: 0 | O19: 월 | P19: = | Q19: =H19*K19*N19 -> 0
G20: - 기타종사자 | H20: 0 | I20: 원 | J20: x | K20: 0 | L20: 명 | M20: x | N20: 0 | O20: 월 | P20: = | Q20: =H20*K20*N20 -> 0
C21: 112 각종수당 | D21: 0 | E21: =Q21 -> 0 | F21: =E21-D21 -> 0 | G21: ㅇ 각종수당 | P21: = | Q21: =SUM(Q22:Q22) -> 0 | S21: =Q21 -> 0
G22: - 제수당 | H22: 0 | I22: 원 | J22: x | K22: 0 | L22: 명 | M22: x | N22: 0 | O22: 회 | P22: = | Q22: =H22*K22*N22 -> 0
C23: 113 일용잡금 | D23: 0 | E23: =Q23 -> 0 | F23: =E23-D23 -> 0 | G23: ㅇ 일용잡금 | P23: = | Q23: =SUM(Q24:Q24) -> 0 | S23: =Q23 -> 0
G24: - 일용잡금 | H24: 0 | I24: 원 | J24: x | K24: 0 | L24: 명 | M24: x | N24: 0 | O24: 월 | P24: = | Q24: =H24*K24*N24 -> 0
C25: 115 퇴직금 및 퇴직적립금 | D25: 0 | E25: =Q25 -> 3975000 | F25: =E25-D25 -> 3975000 | G25: ㅇ 퇴직적립금 | Q25: =Q26+Q27 -> 3975000 | S25: =Q25 -> 3975000
D26: 0 | G26: ㅇ 퇴직적립금 간접비 | H26: =Q9/6/12 -> 208333.33 | I26: 원 | J26: x | K26: 1 | M26: x | N26: 6 | O26: 월 | P26: = | Q26: =N26*H26 -> 1250000
D27: 0 | G27: ㅇ 퇴직적립금 직접비 | H27: =Q15/6/12 -> 454166.67 | I27: 원 | J27: x | K27: 1 | M27: x | N27: 6 | O27: 월 | P27: = | Q27: =N27*H27 -> 2725000
C28: 116 사회보험 부담비용 | D28: 0 | E28: =Q28 -> 4716021.5 | F28: =E28-D28 -> 4716021.5 | G28: ㅇ 사회보험 부담비용 | Q28: =Q29+Q30 -> 4716021.5 | S28: =Q28 -> 4716021.5
D29: 0 | G29: 간접비 | Q29: =Q32+Q33+Q36+Q39+Q40+Q44+Q49+Q45+Q50 -> 1483025.6
D30: 0 | G30: 직접비 | Q30: =Q34+Q37+Q41+Q46+Q51 -> 3232995.9
D31: 0 | G31: ㅇ 건강보험 | P31: = | Q31: =SUM(Q32:Q37) -> 1753851.5
D32: 0 | G32: - 원 장 : | H32: =H10 -> 2500000 | I32: 원 | J32: x | K32: 0.03335 | M32: x | N32: 6 | O32: 월 | P32: = | Q32: =H32*K32*N32 -> 500250
D33: 0 | G33: - 종사자 간접비 | H33: =SUM(Q11:Q14)/9 -> 0 | I33: 원 | J33: x | K33: =K32 -> 0.03335 | M33: x | N33: 6 | O33: 월 | P33: = | Q33: =H33*K33*N33 -> 0
D34: 0 | G34: - 종사자 직접비 | H34: =Q15/6 -> 5450000 | I34: 원 | J34: x | K34: =K32 -> 0.03335 | M34: x | N34: 6 | O34: 월 | P34: = | Q34: =H34*K34*N34 -> 1090545
D35: 0 | G35: - 일용직 : | H35: =Q23/12 -> 0 | I35: 원 | J35: x | K35: =K32 -> 0.03335 | N35: 0 | O35: 월 | P35: = | Q35: =H35*K35*N35 -> 0
D36: 0 | G36: - 장기요양보험 간접비 | H36: =(Q32+Q33+Q35)/6 -> 83375 | I36: 원 | J36: x | K36: 0.1025 | M36: x | N36: 6 | O36: 월 | P36: = | Q36: =H36*K36*N36 -> 51275.625
D37: 0 | G37: - 장기요양보험 직접비 | H37: =(Q34)/6 -> 181757.5 | I37: 원 | J37: x | K37: 0.1025 | M37: x | N37: 6 | O37: 월 | P37: = | Q37: =H37*K37*N37 -> 111780.86
D38: 0 | G38: ㅇ 국민연금 | P38: = | Q38: =SUM(Q39:Q42) -> 2146500
D39: 0 | G39: - 원 장 : | H39: =H32 -> 2500000 | I39: 원 | J39: x | K39: 0.045 | M39: x | N39: 6 | O39: 월 | P39: = | Q39: =H39*K39*N39 -> 675000
D40: 0 | G40: - 종사자 간접비 | H40: =H33 -> 0 | I40: 원 | J40: x | K40: 0.045 | M40: x | N40: 6 | O40: 월 | P40: = | Q40: =H40*K40*N40 -> 0
...

Sheet 추경예산총괄표
A1: 2019년도 추경예산 총괄표
A2: 2-1.추경예산총괄표 | D2: (금액단위: 천원) | L2: =표제!A42 -> YJ주야간보호센터
A3: 순번 | B3: 세입 | H3: 세출
B4: 관 | C4: 항 | D4: 목 | E4: 예산액 | H4: 관 | I4: 항 | J4: 목 | K4: 예산액
E5: 당초 | F5: 추경 | G5: 증감액 | K5: 당초 | L5: 추경 | M5: 증감액
A6: 1 | B6: 입소자부담금수입 | C6: 입소비용수입 | D6: 본인부담 비용수입 | E6: =세입예산서!Q8 -> 8890362 | F6: =추경세입예산서!Q8 -> 43958410 | G6: =F6-E6 -> 35068048 | H6: 사무비 | I6: 인건비 | J6: =세출예산서!G8 -> ㅇ 급여 | K6: =세출예산서!Q8 -> 47700000 | L6: ='추경세출예산서 '!Q8 -> 241200000 | M6: =L6-K6 -> 193500000
D7: 식재료 비용수입 | E7: =세입예산서!Q34 -> 7488000 | F7: =추경세입예산서!Q25 -> 40332500 | G7: =F7-E7 -> 32844500 | J7: =세출예산서!#REF! -> #REF! | K7: =세출예산서!#REF! -> #REF! | L7: ='추경세출예산서 '!Q20 -> 0 | M7: =L7-K7 -> #REF!
A8: 2 | B8: 사업수입 | C8: 사업수입 | D8: 사업운영수입 | E8: =세입예산서!Q42 -> 0 | F8: 0 | G8: =F8-E8 -> 0 | J8: =세출예산서!G21 -> ㅇ 각종수당 | K8: =세출예산서!Q21 -> 0 | L8: ='추경세출예산서 '!Q22 -> 0 | M8: =L8-K8 -> 0
A9: 3 | B9: 과년도수입 | C9: 과년도수입 | D9: 과년도수입 | E9: =세입예산서!Q46 -> 0 | F9: 0 | G9: =F9-E9 -> 0 | J9: =세출예산서!G23 -> ㅇ 일용잡금 | K9: =세출예산서!Q23 -> 0 | L9: ='추경세출예산서 '!Q24 -> 16600000 | M9: =L9-K9 -> 16600000
A10: 4 | B10: 보조금수입 | C10: 보조금수입 | D10: 시군구보조금 | E10: =세입예산서!Q54 -> 0 | F10: =추경세입예산서!Q45 -> 10973760 | G10: =F10-E10 -> 10973760 | J10: =세출예산서!G24 -> - 일용잡금 | K10: =세출예산서!Q24 -> 0 | L10: ='추경세출예산서 '!Q25 -> 22281377 | M10: =L10-K10 -> 22281377
A11: 5 | B11: 후원금수입 | C11: 후원금수입 | D11: 후원금수입 | E11: 0 | F11: 0 | G11: =F11-E11 -> 0 | H11: 사무비 | I11: 업무추진비 | J11: =세출예산서!G43 -> ㅇ 산재보험 | K11: =세출예산서!Q43 -> 434070 | L11: ='추경세출예산서 '!Q44 -> 0 | M11: =L11-K11 -> -434070
A12: 6 | B12: 요양급여수입 | C12: 요양급여수입 | D12: 장기요양급여수입 | E12: =세입예산서!N70 -> 58752798 | F12: =추경세입예산서!N61 -> 292108040 | G12: =F12-E12 -> 233355242 | J12: =세출예산서!G46 -> - 종사자 직접비 | K12: =세출예산서!Q46 -> 297570 | L12: ='추경세출예산서 '!Q47 -> 0 | M12: =L12-K12 -> -297570
D13: 가산금수입 | E13: =세입예산서!N95 -> 6000000 | F13: =추경세입예산서!N77 -> 11684322 | G13: =F13-E13 -> 5684321.6 | J13: =세출예산서!G48 -> ㅇ 고용보험 | K13: =세출예산서!Q48 -> 381600 | L13: ='추경세출예산서 '!Q49 -> 0 | M13: =L13-K13 -> -381600
A14: 7 | B14: 차입금 | C14: 차입금 | D14: 기타차입금 | E14: =세입예산서!Q97 -> 0 | F14: =추경세입예산서!Q81 -> 0 | G14: =F14-E14 -> 0 | H14: 사무비 | I14: 운영비 | J14: =세출예산서!G52 -> - 기타 종사자 : | K14: =세출예산서!Q52 -> 0 | L14: ='추경세출예산서 '!Q53 -> 0 | M14: =L14-K14 -> 0
A15: 8 | B15: 전입금 | C15: 전입금 | D15: 기타전입금 | E15: =세입예산서!Q103 -> 25200000 | F15: 0 | G15: =F15-E15 -> -25200000 | H15: 사무비 | I15: 운영비 | J15: =세출예산서!G54 -> ㅇ 기관운영비 | K15: =세출예산서!Q54 -> 0 | L15: ='추경세출예산서 '!Q55 -> 3041666.7 | M15: =L15-K15 -> 3041666.7
A16: 9 | B16: 이월금 | C16: 이월금 | D16: 전년도이월금 | E16: =세입예산서!Q115 -> 0 | F16: =추경세입예산서!Q96 -> 1801387 | G16: =F16-E16 -> 1801387 | J16: =세출예산서!G65 -> ㅇ 수용비및수수료 | K16: =세출예산서!Q65 -> 2280000 | L16: ='추경세출예산서 '!Q65 -> 2400000 | M16: =L16-K16 -> 120000
A17: 10 | B17: 잡수입 | C17: 잡수입 | D17: 기타잡수입 | E17: =세입예산서!Q121 -> 1945040 | F17: =추경세입예산서!Q103 -> 5000 | G17: =F17-E17 -> -1940040 | J17: =세출예산서!G71 -> - 안전점검 | K17: =세출예산서!Q71 -> 300000 | L17: ='추경세출예산서 '!Q70 -> 14700000 | M17: =L17-K17 -> 14400000
A18: 11 | B18: 적립금 및 준비금 (특별회계) | C18: 운영충당금 및 환경개선준비금 | D18: 운영충당금 | E18: =세입예산서!Q132 -> 0 | F18: =추경세입예산서!Q113 -> 0 | G18: =F18-E18 -> 0 | J18: =세출예산서!G77 -> - 자동차보험 | K18: =세출예산서!Q77 -> 0 | L18: ='추경세출예산서 '!Q75 -> 1700000 | M18: =L18-K18 -> 1700000
A19: 12 | E19: 0 | F19: 0 | G19: =F19-E19 -> 0 | J19: =세출예산서!G80 -> - 화재보험 | K19: =세출예산서!Q80 -> 50000 | L19: ='추경세출예산서 '!Q78 -> 0 | M19: =L19-K19 -> -50000
A20: 13 | E20: 0 | F20: 0 | G20: =F20-E20 -> 0 | J20: =세출예산서!G82 -> ㅇ 공공요금 | K20: =세출예산서!Q82 -> 5000000 | L20: ='추경세출예산서 '!Q80 -> 6600000 | M20: =L20-K20 -> 1600000
A21: 14 | E21: 0 | F21: 0 | G21: =F21-E21 -> 0 | H21: 재산조성비 | I21: 시설비 | J21: =세출예산서!G95 -> ㅇ 기타운영비 | K21: =세출예산서!Q94 -> 17710000 | L21: ='추경세출예산서 '!Q88 -> 0 | M21: =L21-K21 -> -17710000
A22: 15 | E22: 0 | F22: 0 | G22: =F22-E22 -> 0 | H22: 사업비 | I22: 운영비 | J22: =세출예산서!G103 -> 0 | K22: =세출예산서!Q103 -> 0 | L22: ='추경세출예산서 '!Q95 -> 17520000 | M22: =L22-K22 -> 17520000
A23: 16 | E23: 0 | F23: 0 | G23: =F23-E23 -> 0 | J23: =세출예산서!G106 -> - 강화문 | K23: =세출예산서!Q106 -> 0 | L23: ='추경세출예산서 '!Q98 -> 0 | M23: =L23-K23 -> 0
A24: 17 | E24: 0 | F24: 0 | G24: =F24-E24 -> 0 | J24: =세출예산서!G111 -> -시설장비유지비 | K24: =세출예산서!Q111 -> 0 | L24: ='추경세출예산서 '!Q101 -> 6600000 | M24: =L24-K24 -> 6600000
A25: 18 | E25: 0 | F25: 0 | G25: =F25-E25 -> 0 | J25: =세출예산서!G115 -> ㅇ 생계비 | K25: =세출예산서!Q115 -> 9768000 | L25: ='추경세출예산서 '!Q105 -> 0 | M25: =L25-K25 -> -9768000
A26: 19 | E26: 0 | F26: 0 | G26: =F26-E26 -> 0 | J26: =세출예산서!G117 -> - 생계비 | K26: =세출예산서!Q117 -> 7488000 | L26: ='추경세출예산서 '!Q107 -> 0 | M26: =L26-K26 -> -7488000
A27: 20 | G27: =F27-E27 -> 0 | H27: 00사업비 | I27: 00사업비 | J27: =세출예산서!G122 -> - 생계비(수급자) | K27: =세출예산서!Q122 -> 0 | L27: ='추경세출예산서 '!Q110 -> 0 | M27: =L27-K27 -> 0
A28: 21 | E28: 0 | F28: 0 | G28: =F28-E28 -> 0 | H28: 전출금 | I28: 전출금 | J28: =세출예산서!G127 -> - 목욕용품 | K28: =세출예산서!Q126 -> 60000 | L28: ='추경세출예산서 '!Q112 -> 25200000 | M28: =L28-K28 -> 25140000
A29: 22 | E29: 0 | F29: 0 | G29: =F29-E29 -> 0 | H29: 과년도지출 | I29: 과년도지출 | J29: =세출예산서!G132 -> 0 | K29: =세출예산서!Q130 -> 0 | L29: ='추경세출예산서 '!Q116 -> 0 | M29: =L29-K29 -> 0
A30: 23 | E30: 0 | F30: 0 | G30: =F30-E30 -> 0 | H30: 상환금 | I30: 부채상환금 | J30: =세출예산서!G135 -> 신체활동프로그램 | K30: =세출예산서!Q130 -> 0 | L30: ='추경세출예산서 '!Q121 -> 0 | M30: =L30-K30 -> 0
A31: 24 | E31: 0 | F31: 0 | G31: =F31-E31 -> 0 | J31: =세출예산서!G139 -> ㅇ 기타전출금 | K31: =세출예산서!Q139 -> 9000000 | L31: ='추경세출예산서 '!Q124 -> 0 | M31: =L31-K31 -> -9000000
A32: 25 | E32: 0 | F32: 0 | G32: =F32-E32 -> 0 | H32: 잡지출 | I32: 잡지출 | J32: =세출예산서!G143 -> 0 | K32: =세출예산서!Q141 -> 9000000 | L32: ='추경세출예산서 '!Q126 -> 870695 | M32: =L32-K32 -> -8129305
A33: 26 | E33: 0 | F33: 0 | G33: =F33-E33 -> 0 | H33: 예비비및기타 | I33: 예비비 | J33: =세출예산서!G146 -> 0 | K33: =세출예산서!Q144 -> 0 | L33: ='추경세출예산서 '!Q129 -> 8783420 | M33: =L33-K33 -> 8783420
A34: 27 | E34: 0 | F34: 0 | G34: =F34-E34 -> 0 | H34: 적립금및준비금 | I34: 운영충당적립금 | J34: =세출예산서!G150 -> ㅇ 이자지금금 | K34: 0 | L34: ='추경세출예산서 '!Q134 -> 0 | M34: =L34-K34 -> 0
A35: 28 | E35: 0 | F35: 0 | G35: =F35-E35 -> 0 | H35: 특별회계 | I35: 운영충당적립금 | J35: =세출예산서!G154 -> - 잡지출 | K35: =세출예산서!Q152 -> 1007179 | L35: ='추경세출예산서 '!Q138 -> 0 | M35: =L35-K35 -> -1007179
A36: 합계 | E36: =SUM(E6:E35) -> 108276200 | F36: =SUM(F6:F35) -> 4.0086342e+08 | G36: =SUM(G6:G35) -> 2.9258722e+08 | H36: 합계 | K36: =SUM(K6:K35) -> #REF! | L36: =SUM(L6:L35) -> 3.6749716e+08 | M36: =SUM(M6:M35) -> #REF!

Sheet 추경세입예산서
A1: 2018년도 추경세입예산서
A2: 3-1.추경세입 명세서 | D2: (금액단위: 천원) | I2: =표제!A42 -> YJ주야간보호센터 | R2: 자금원천
A3: 계 정 과 목 | D3: 당초 (A) | E3: 추경 (B) | F3: 증 감 (B-A) | G3: 산 출 기 초 | Q3: (단위:원) | R3: 보조금 | S3: 자부담 | T3: 후원금
A4: 관 | B4: 항 | C4: 목
A5: 총 계 | D5: =세입예산서!E5 -> 108276200 | E5: =E6+E33+E37+E41+E59+E55+E79+E85+E95+E103+E113 -> 389179097 | F5: =E5-D5 -> 280902897 | N5: =Q6+Q33+Q37+Q41+N59+Q55+Q79+Q85+Q95+Q103+Q113 -> 4.0086342e+08
A6: 01 입소자부담금 수입 | D6: =세입예산서!E6 -> 16378362 | E6: =E7+E28 -> 84290910 | F6: =E6-D6 -> 67912548 | Q6: =Q7+Q28 -> 84290910
B7: 11 입소비용수입 | D7: =세입예산서!E7 -> 16378362 | E7: =E8+E25 -> 84290910 | F7: =E7-D7 -> 67912548 | Q7: =Q8+Q25+Q28 -> 84290910 | S7: =Q7 -> 84290910
C8: 111 입소비용수입 | D8: =세입예산서!E8 -> 8890362 | E8: =Q8 -> 43958410 | F8: =E8-D8 -> 35068048 | G8: ㅇ 입소비용수입 | J8: =SUM(K9:K24) -> 16 | Q8: =SUM(Q9:Q24) -> 43958410
G9: - 1등급(일반) | H9: =65190*0.2 -> 13038 | I9: 원 | J9: x | K9: 0 | L9: 명 | M9: x | N9: 365 | O9: 일 | P9: = | Q9: =(H9*K9)*N9 -> 0
G10: - 1등급(경감) | H10: =H9/2 -> 6519 | I10: 원 | J10: x | K10: 1 | L10: 명 | M10: x | N10: 365 | O10: 일 | P10: = | Q10: =(H10*K10)*N10 -> 2379435
G11: - 1등급 (기초수급) | H11: 0 | I11: 원 | J11: x | K11: 0 | L11: 명 | M11: x | N11: 365 | O11: 일 | P11: = | Q11: =(H11*K11)*N11 -> 0
G12: - 2등급(일반) | H12: =60490*0.2 -> 12098 | I12: 원 | J12: x | K12: 2 | L12: 명 | M12: x | N12: 365 | O12: 일 | P12: = | Q12: =(H12*K12)*N12 -> 8831540
G13: - 2등급(경감) | H13: =H12/2 -> 6049 | I13: 원 | J13: x | K13: 1 | L13: 명 | M13: x | N13: 365 | O13: 일 | P13: = | Q13: =(H13*K13)*N13 -> 2207885
G14: - 2등급 (기초수급) | H14: 0 | I14: 원 | J14: x | K14: 1 | L14: 명 | M14: x | N14: 365 | O14: 일 | P14: = | Q14: =(H14*K14)*N14 -> 0
G15: - 3등급(일반) | H15: =55780*0.2 -> 11156 | I15: 원 | J15: x | K15: 5 | L15: 명 | M15: x | N15: 365 | O15: 일 | P15: = | Q15: =(H15*K15)*N15 -> 20359700
G16: - 3등급(경감) | H16: =H15/2 -> 5578 | I16: 원 | J16: x | K16: 0 | L16: 명 | M16: x | N16: 365 | O16: 일 | P16: = | Q16: =(H16*K16)*N16 -> 0
G17: - 3등급 (기초수급) | H17: 0 | I17: 원 | J17: x | K17: 2 | L17: 명 | M17: x | N17: 365 | O17: 일 | P17: = | Q17: =(H17*K17)*N17 -> 0
G18: - 4등급(일반) | H18: =55780*0.2 -> 11156 | I18: 원 | J18: x | K18: 1 | L18: 명 | M18: x | N18: 365 | O18: 일 | P18: = | Q18: =(H18*K18)*N18 -> 4071940
G19: - 4등급(경감) | H19: =H18/2 -> 5578 | I19: 원 | J19: x | K19: 1 | L19: 명 | M19: x | N19: 365 | O19: 일 | P19: = | Q19: =(H19*K19)*N19 -> 2035970
G20: - 4등급 (기초수급) | H20: 0 | I20: 원 | J20: x | K20: 1 | L20: 명 | M20: x | N20: 365 | O20: 일 | P20: = | Q20: =(H20*K20)*N20 -> 0
G21: - 5등급(일반) | H21: =55780*0.2 -> 11156 | I21: 원 | J21: x | K21: 1 | L21: 명 | M21: x | N21: 365 | O21: 일 | P21: = | Q21: =(H21*K21)*N21 -> 4071940
G22: - 5등급(경감) | H22: =H21/2 -> 5578 | I22: 원 | J22: x | K22: 0 | L22: 명 | M22: x | N22: 365 | O22: 일 | P22: = | Q22: =(H22*K22)*N22 -> 0
G23: - 5등급 (기초수급) | H23: 0 | I23: 원 | J23: x | K23: 0 | L23: 명 | M23: x | N23: 365 | O23: 일 | P23: = | Q23: =(H23*K23)*N23 -> 0
G24: - 등급외 (단기입소자) | H24: 0 | I24: 원ⅹ | K24: 0 | L24: 명 | M24: x | N24: 12 | O24: 일 | P24: = | Q24: =(H24*K24)*N24 -> 0
C25: 112 식재료비수입 | D25: =세입예산서!E34 -> 7488000 | E25: =Q25 -> 40332500 | F25: =E25-D25 -> 32844500 | G25: ㅇ식재료비 수입 | P25: = | Q25: =Q27+Q26 -> 40332500
G26: -식재료비 수입 | H26: 7500 | I26: 원 | J26: x | K26: 13 | L26: 명 | M26: x | N26: 365 | O26: 일 | P26: = | Q26: =(H26*K26)*N26 -> 35587500
G27: -간식비 수입 | H27: 1000 | I27: 원 | J27: x | K27: 13 | L27: 명 | M27: x | N27: 365 | O27: 일 | P27: = | Q27: =(H27*K27)*N27 -> 4745000
B28: 12 부담금 | D28: =세입예산서!E37 -> 0 | E28: =E29+E31 -> 0 | F28: =E28-D28 -> 0 | Q28: =Q29+Q31 -> 0 | S28: =Q28 -> 0
C29: 121 상급침실이용료 | D29: =세입예산서!E38 -> 0 | E29: =Q29 -> 0 | F29: =E29-D29 -> 0 | G29: ㅇ 상급침실이용료 | P29: = | Q29: =Q30 -> 0
G30: - 상급침실이용료 | H30: 0 | I30: 원 | J30: x | K30: 0 | L30: 명 | N30: 1 | O30: 월 | P30: = | Q30: =(H30*K30)*N30 -> 0
C31: 122 기타 비급여 | D31: =세입예산서!E40 -> 0 | E31: =Q31 -> 0 | F31: =E31-D31 -> 0 | G31: ㅇ 비급여 | P31: = | Q31: =Q32 -> 0
G32: - 이미용료 | H32: 0 | I32: 원 | J32: x | K32: 0 | L32: 명 | M32: x | N32: 12 | O32: 월 | P32: = | Q32: =(H32*K32)*N32 -> 0
A33: 02 사업수입 | D33: =세입예산서!E42 -> 0 | E33: =E34 -> 0 | F33: =E33-D33 -> 0 | Q33: =Q34 -> 0
B34: 21 사업수입 | D34: =세입예산서!E43 -> 0 | E34: =E35 -> 0 | F34: =E34-D34 -> 0 | Q34: =Q35 -> 0
C35: 211 운영사업수입 | D35: =세입예산서!E44 -> 0 | E35: =Q35 -> 0 | F35: =E35-D35 -> 0 | G35: ㅇ 사업운영수입 | P35: = | Q35: =Q36 -> 0
G36: - 사업운영수입 | H36: 0 | I36: 원 | J36: x | K36: 0 | L36: 명 | M36: x | N36: 1 | O36: 월 | P36: = | Q36: =(H36*K36)*N36 -> 0
A37: 03 과년도 수입 | D37: =세입예산서!E46 -> 0 | E37: =E38 -> 0 | F37: =E37-D37 -> 0 | Q37: =Q38 -> 0
B38: 31 과년도 수입 | D38: =세입예산서!E47 -> 0 | E38: =E39 -> 0 | F38: =E38-D38 -> 0 | Q38: =Q39 -> 0
C39: 311 과년도 수입 | D39: =세입예산서!E48 -> 0 | E39: =Q39 -> 0 | F39: =E39-D39 -> 0 | G39: ㅇ 과년도수입 | P39: = | Q39: =Q40 -> 0
G40: - 과년도수입 | H40: 0 | I40: 원 | P40: = | Q40: =H40 -> 0
...

Sheet 추경세출예산서 
A1: 2018년도 추경세출예산서
A2: 3-2. 추경세출 명세서 | D2: (금액단위: 천원) | H2: =표제!A42 -> YJ주야간보호센터 | R2: 잔액 | S2: =추경세입예산서!N5-O5 -> 33366259 | U2: 인건비 비율
A3: 계정과목 | D3: 당초 (A) | E3: 추경 (B) | F3: 증 감 (B-A) | G3: 산 출 기 초 | Q3: 단위(원) | R3: 자금원천 | U3: 장기요양요원 인건비 | V3: =Q10+Q11+Q13+Q14+Q24+Q28+Q30+Q33+Q37+Q41 -> 2.3488098e+08
A4: 관 | B4: 항 | C4: 목 | R4: 보조금 | S4: 자부담 | T4: 후원금 | U4: 총수입 | V4: =추경세입예산서!Q8+추경세입예산서!N61+추경세입예산서!N77 -> 3.4775077e+08
A5: 총 계 | D5: =세출예산서!E5 -> 1.082762e+08 | E5: =E6+E88+E93+E112+E116+E119+E126+E129+E133+E137 -> 3.6749716e+08 | F5: =E5-D5 -> 2.5922096e+08 | O5: =O6+Q88+O93+Q112+Q116+O119+Q126+Q129+P133+Q137 -> 3.6749716e+08 | V5: =V3/V4 -> 0.67542906
A6: 01 사무비 | D6: =세출예산서!E6 -> 86581021 | E6: =E7+E43+E52 -> 3.0852304e+08 | F6: =E6-D6 -> 2.2194202e+08 | O6: =O7+Q43+O52 -> 3.0852304e+08 | R6: =추경세입예산서!R119-R7 -> 10553760 | S6: =추경세입예산서!S119-S7 -> 22812500 | T6: =T7-세입예산서!T138 -> 0
B7: 11 인건비 | D7: =세출예산서!E7 -> 56391021 | E7: =E8+E20+E22+E24+E25 -> 2.8008138e+08 | F7: =E7-D7 -> 2.2369036e+08 | O7: =Q8+Q20+Q22+Q24+Q26+Q31+Q35+Q39 -> 2.8008138e+08 | R7: =SUM(R8:R136) -> 3.0421236e+08 | S7: =SUM(S8:S136) -> 63284797 | T7: =SUM(T8:T136) -> 0
C8: 111 급여 | D8: =세출예산서!E8 -> 47700000 | E8: =Q8 -> 241200000 | F8: =E8-D8 -> 193500000 | G8: ㅇ 급여 | P8: = | Q8: =SUM(Q9:Q19) -> 241200000 | R8: =Q8 -> 241200000
G9: - 대표/원장 | H9: 3500000 | I9: 원 | J9: x | K9: 1 | L9: 명 | M9: x | N9: 12 | O9: 월 | P9: = | Q9: =(H9*K9)*N9 -> 42000000
G10: - 복지사 | H10: 1600000 | I10: 원 | J10: x | K10: 2 | L10: 명 | M10: x | N10: 12 | O10: 월 | P10: = | Q10: =H10*K10*N10 -> 38400000
G11: - 요양보호사 | H11: =10200000/6 -> 1700000 | I11: 원 | J11: x | K11: 6 | L11: 명 | M11: x | N11: 12 | O11: 월 | P11: = | Q11: =H11*K11*N11 -> 122400000 | W11: 0
G12: - 사무원 | I12: 원 | J12: x | K12: 0 | L12: 명 | M12: x | N12: 12 | O12: 월 | P12: = | Q12: =H12*K12*N12 -> 0
G13: - 조리사 | H13: 1600000 | I13: 원 | J13: x | K13: 1 | L13: 명 | M13: x | N13: 12 | O13: 월 | P13: = | Q13: =H13*K13*N13 -> 19200000
G14: - 간호사 | H14: 1600000 | I14: 원 | J14: x | K14: 1 | L14: 명 | M14: x | N14: 12 | O14: 월 | P14: = | Q14: =H14*K14*N14 -> 19200000
G15: - 촉탁의 | H15: 0 | I15: 원 | J15: x | K15: 1 | L15: 명 | M15: x | N15: 12 | O15: 월 | P15: = | Q15: =H15*K15*N15 -> 0
I16: 원 | J16: x | L16: 명 | M16: x | N16: 12 | O16: 월 | P16: = | Q16: =H16*K16*N16 -> 0
I17: 원 | J17: x | L17: 명 | M17: x | N17: 12 | O17: 월 | P17: = | Q17: =H17*K17*N17 -> 0
I18: 원 | J18: x | L18: 명 | M18: x | N18: 12 | O18: 월 | P18: = | Q18: =H18*K18*N18 -> 0
G19: - 기타종사자 | H19: 0 | I19: 원 | J19: x | K19: 1 | L19: 명 | M19: x | N19: 12 | O19: 월 | P19: = | Q19: =H19*K19*N19 -> 0
C20: 112 각종수당 | D20: =세출예산서!#REF! -> #REF! | E20: =Q20 -> 0 | F20: =E20-D20 -> #REF! | G20: ㅇ 상여금 | P20: = | Q20: =SUM(Q21:Q21) -> 0 | R20: =Q20 -> 0
G21: - 상여금 | H21: 0 | I21: 원 | J21: x | K21: 1 | L21: 명 | M21: x | N21: 12 | O21: 회 | P21: = | Q21: =H21*K21*N21 -> 0
C22: 113 일용잡금 | D22: =세출예산서!E21 -> 0 | E22: =Q22 -> 0 | F22: =E22-D22 -> 0 | G22: ㅇ 일용잡금 | P22: = | Q22: =SUM(Q23:Q23) -> 0 | R22: =Q22 -> 0
G23: - 일용잡금 | H23: 0 | I23: 원 | J23: x | K23: 1 | L23: 명 | M23: x | N23: 12 | O23: 월 | P23: = | Q23: =H23*K23*N23 -> 0
C24: 115 퇴직금 및 퇴직적립금 | D24: =세출예산서!E23 -> 0 | E24: =Q24 -> 16600000 | F24: =E24-D24 -> 16600000 | G24: ㅇ 퇴직적립금 | H24: =SUM(Q10:Q14)/12/12 -> 1383333.3 | I24: 원 | J24: x | K24: 1 | M24: x | N24: 12 | O24: 월 | P24: = | Q24: =N24*H24 -> 16600000 | R24: =Q24 -> 16600000
C25: 116 사회보험 부담비용 | D25: =세출예산서!E24 -> 0 | E25: =Q26+Q31+Q35+Q39 -> 22281377 | F25: =E25-D25 -> 22281377 | G25: ㅇ 사회보험 부담비용 | Q25: =Q26+Q31+Q35+Q39 -> 22281377 | S25: =Q25 -> 22281377
G26: ㅇ 건강보험 | P26: = | Q26: =SUM(Q27:Q30) -> 8080817.5
G27: - 원 장 : | H27: =H9 -> 3500000 | I27: 원 | J27: x | K27: =6.24%/2 -> 0.0312 | M27: x | N27: 12 | O27: 월 | P27: = | Q27: =H27*K27*N27 -> 1310400
G28: - 종사자 : | H28: =SUM(Q10:Q19)/12 -> 16600000 | I28: 원 | J28: x | K28: =6.24%/2 -> 0.0312 | M28: x | N28: 12 | O28: 월 | P28: = | Q28: =H28*K28*N28 -> 6215040
G29: - 일용직 : | H29: =Q22/12 -> 0 | I29: 원 | J29: x | K29: =6.24%/2 -> 0.0312 | N29: 12 | O29: 월 | P29: = | Q29: =H29*K29*N29 -> 0
G30: - 장기요양보험: | H30: =(Q27+Q28+Q29)/12 -> 627120 | I30: 원 | J30: x | K30: 0.0738 | M30: x | N30: 12 | O30: 월 | P30: = | Q30: =H30*K30*N30 -> 555377.47
G31: ㅇ 국민연금 | P31: = | Q31: =SUM(Q32:Q34) -> 10854000
G32: - 원 장 : | H32: =H27 -> 3500000 | I32: 원 | J32: x | K32: 0.045 | M32: x | N32: 12 | O32: 월 | P32: = | Q32: =H32*K32*N32 -> 1890000
G33: - 종사자 : | H33: =H28 -> 16600000 | I33: 원 | J33: x | K33: 0.045 | M33: x | N33: 12 | O33: 월 | P33: = | Q33: =H33*K33*N33 -> 8964000
G34: - 기타 종사자 : | H34: =H29 -> 0 | I34: 원 | J34: x | K34: 0.045 | M34: x | N34: 12 | O34: 월 | P34: = | Q34: =H34*K34*N34 -> 0
G35: ㅇ 산재보험 | P35: = | Q35: =SUM(Q36:Q38) -> 1553760
G36: - 원 장 : | H36: 0 | I36: 원 | J36: x | K36: 0.0078 | M36: x | N36: 12 | O36: 월 | P36: = | Q36: =H36*K36*N36 -> 0
G37: - 종사자 : | H37: =SUM(Q10:Q19)/12 -> 16600000 | I37: 원 | J37: x | K37: 0.0078 | M37: x | N37: 12 | O37: 월 | P37: = | Q37: =H37*K37*N37 -> 1553760
G38: - 기타 종사자 : | H38: =H29 -> 0 | I38: 원 | J38: x | K38: 0.0078 | M38: x | N38: 12 | O38: 월 | P38: = | Q38: =H38*K38*N38 -> 0
G39: ㅇ 고용보험 | P39: = | Q39: =SUM(Q40:Q42) -> 1792800
G40: - 원 장 : | H40: =H36 -> 0 | I40: 원 | J40: x | K40: 0.009 | M40: x | N40: 12 | O40: 월 | P40: = | Q40: =H40*K40*N40 -> 0
...

Sheet 포트폴리오
A1: 포 트 폴 리 오
A2: - 자금원천 비율
A4: 구분 | B4: 세입 | E4: 세출
A5: 자금원천 | B5: 보조금 | C5: 자부담 | D5: 후원금 | E5: 보조금 | F5: 자부담 | G5: 후원금
A6: 비용 | B6: =세입예산서!N68 -> 64752798 | C6: =세입예산서!Q7 -> 16378362 | D6: =세입예산서!T138 -> 0 | E6: =B6 -> 64752798 | F6: =C6 -> 16378362 | G6: =세출예산서!T152 -> 0
A7: 합계 | B7: =B6+C6+D6 -> 81131160 | E7: =E6+F6+G6 -> 81131160
A9: - 세입 대비 비율
A11: 구 분 | C11: 세입 | D11: 세출 | F11: 비율(%) | G11: 비고
A12: 인건비 | C12: =B6+C6 -> 81131160 | D12: =세출예산서!E7 -> 56391021 | F12: =D12/C12 -> 0.69505997 | I12: 0.63
A13: 생계비 | D13: =세출예산서!Q116 -> 9768000 | F13: =D13/C12 -> 0.12039764 | I13: 0.11
A14: 운영비 | D14: =세출예산서!O62 -> 30190000 | F14: =D14/C12 -> 0.3721135 | I14: 0.09
A15: 자산조성비 | D15: =세출예산서!Q104 -> 0 | F15: =D15/C12 -> 0 | I15: 0.01
A16: 기타전출금 | D16: =세출예산서!Q141 -> 9000000 | F16: =D16/C12 -> 0.11093148 | I16: 0.1
A17: 예비비+잡지출 | D17: =세출예산서!H157+세출예산서!H154 -> 1007179 | F17: =D17/C12 -> 0.012414207 | I17: 0.02
A18: 적립금 | D18: =세출예산서!Q161 -> 0 | F18: =D18/C12 -> 0 | I18: 0.02
A19: 준비금 | D19: =세출예산서!Q162 -> 0 | F19: =D19/C12 -> 0 | I19: 0.02
A20: 기 타 | D20: =C12-SUM(D12:E19) -> -25225040 | F20: =D20/C12 -> -0.3109168
A21: 합 계 | C21: =C12 -> 81131160 | D21: =C21 -> 81131160 | F21: =D21/C21 -> 1 | I21: =SUM(I12:I20) -> 1

Sheet 보고서
A1: =표제!A10 -> 2020년 | D1: =표제!A42 -> YJ주야간보호센터 | G1: 재 무 회 계 보 고 서
A5: SWOT 분석 | B5: 1. Strength(강점)
B6: 2. Weakness(약점)
B7: 3. Opportunity(기회,가능성)
B8: 4. Threat(위협)
