Workbook
Name bizforms: "bizforms.co.kr"
Name 가족수: '[1]갑근세2015 '!$C$6:$M$6
Name 갑근세: '[1]갑근세2015 '!$A$8:$M$655
Name 비즈폼: "bizforms.co.kr"
Name 성명: OFFSET(#REF!,0,0,COUNTA(#REF!),1)
Name 성명: OFFSET(#REF!,0,0,COUNTA(#REF!),1)
Name 순번: #REF!
Name 순번: #REF!

Sheet 예산총칙
B1: 예산총칙
B3: 제1조 (예산의 규모)
B4: =총괄표!A1 -> 광산데이케어센터 | C4: 의 2018년도 본예산 총세입액은 | F4: =세입!V6 -> 414070350 | H4: 이며, 총세출액은 | J4: =세출!V6 -> 414070350 | K4: 이다.
B6: 제2조(예산의 내역)
B7: 1) 세입의 주요재원은 아래와 같다. (관 또는 항 단위)
D9: ㄱ.입소자부담금수입 | F9: =세입!W7 -> 72911550
D10: ㄴ.보조금수입 | F10: =세입!W29 -> 0
D11: ㄷ.후원금수입 | F11: =세입!W37 -> 0
D12: ㄹ.요양급여수입 | F12: =세입!W41 -> 305758800
D13: ㅁ.기타(차입금등) | F13: =세입!W46+세입!W50+세입!W56+세입!W61+세입!W67 -> 35400000
B15: 2) 세출의 주요재원은 아래와 같다. (관 또는 항 단위)
D17: ㄱ.사무비 | F17: =세출!W7 -> 327370350
D18: ㄴ.재산조성비 | F18: =세출!W68 -> 17800000
D19: ㄷ.사업비 | F19: =세출!W80 -> 47700000
D20: ㄹ.기타(부채상환금등) | F20: =세출!W102+세출!W106+세출!W109+세출!W113+세출!W116+세출!W120+세출!W124 -> 21200000
B22: 제3조(추가경정예산)
B23: 추경예산은 예산성립 후에 생긴 사유로 인하여 이미 성립된 예산에 변경을 가할 필요가 있을 때에는 사회복지법인 재무회계규칙 제10조 및 제11조의 규정에 의한 절차에 준하여 추가경정예산을 편성·확정할 수 있다.
B25: 제4조(예비비)
B26: 예측할 수 없는 예산외의 지출을 충당하기 위하여 본 예산의 1% 이상을 예비비로 계상한다.
B28: 제5조(예산의 전용)
B29: 세출경비의 조정이 필요한 경우에는 사회복지법인 재무회계규칙 제16조에 의거하여 예산을 전용할 수 있다.
B31: 제6조(예산의 집행)
B32: 예산은 사회복지법인 및 사회복지시설 재무·회계규칙의 관련규정을 준수하여 집행한다.

Sheet 총괄표
A1: 광산데이케어센터
A2: 2018년 세입세출예산서 총괄표
M3: (단위 : 천원)
A4: 세 입 부 | H4: 세 출 부
A5: 관 | B5: 항 | C5: 목 | D5: 17년도 예산액 (A) | E5: 18년도 예산액 (B) | F5: 증감(B-A) | H5: 관 | I5: 항 | J5: 목 | K5: =D5 -> 17년도 예산액 (A) | L5: =E5 -> 18년도 예산액 (B) | M5: 증감(B-A)
F6: 액수 | G6: 비율(%) | M6: 액수 | N6: 비율(%)
A7: 총 계 | D7: =SUM(D8:D38) -> 0 | E7: =SUM(E8:E38) -> 414070350 | F7: =E7-D7 -> 414070350 | G7: =IF(D7+E7=0,0,IF(D7=0,100,F7/D7%)) -> 100 | H7: 총 계 | K7: =SUM(K8:K49) -> 0 | L7: =SUM(L8:L49) -> 414070350 | M7: =L7-K7 -> 414070350 | N7: =IF(K7+L7=0,0,IF(K7=0,100,M7/K7%)) -> 100
A8: 입소자부담금수입 | B8: 입소비용수입 | C8: 입소비용수입 | D8: =세입!D9 -> 0 | E8: =세입!E9 -> 0 | F8: =E8-D8 -> 0 | G8: =IF(D8+E8=0,0,IF(D8=0,100,F8/D8%)) -> 0 | H8: 사무비 | I8: 인건비 | J8: 급여 | K8: =세출!D9 -> 0 | L8: =세출!E9 -> 178640000 | M8: =L8-K8 -> 178640000 | N8: =IF(K8+L8=0,0,IF(K8=0,100,M8/K8%)) -> 100
C9: 본인부담금수입 | D9: =세입!D10 -> 0 | E9: =세입!E10 -> 40511550 | F9: =E9-D9 -> 40511550 | G9: =IF(D9+E9=0,0,IF(D9=0,100,F9/D9%)) -> 100 | J9: 제수당 | K9: =세출!D12 -> 0 | L9: =세출!E12 -> 16188640 | M9: =L9-K9 -> 16188640 | N9: =IF(K9+L9=0,0,IF(K9=0,100,M9/K9%)) -> 100
C10: 식재료비수입 | D10: =세입!D17 -> 0 | E10: =세입!E17 -> 24300000 | F10: =E10-D10 -> 24300000 | G10: =IF(D10+E10=0,0,IF(D10=0,100,F10/D10%)) -> 100 | J10: 일용잡급 | K10: =세출!D15 -> 0 | L10: =세출!E15 -> 0 | M10: =L10-K10 -> 0 | N10: =IF(K10+L10=0,0,IF(K10=0,100,M10/K10%)) -> 0
C11: 상급침실이용료 | D11: =세입!D18 -> 0 | E11: =세입!E18 -> 0 | F11: =E11-D11 -> 0 | G11: =IF(D11+E11=0,0,IF(D11=0,100,F11/D11%)) -> 0 | J11: 퇴직금및퇴직적립금 | K11: =세출!D18 -> 0 | L11: =세출!E18 -> 16235719 | M11: =L11-K11 -> 16235719 | N11: =IF(K11+L11=0,0,IF(K11=0,100,M11/K11%)) -> 100
C12: 이미용비 | D12: =세입!D20 -> 0 | E12: =세입!E20 -> 0 | F12: =E12-D12 -> 0 | G12: =IF(D12+E12=0,0,IF(D12=0,100,F12/D12%)) -> 0 | J12: 사회보험부담금 | K12: =세출!D21 -> 0 | L12: =세출!E21 -> 18286269 | M12: =L12-K12 -> 18286269 | N12: =IF(K12+L12=0,0,IF(K12=0,100,M12/K12%)) -> 100
C13: 기타비급여수입 | D13: =세입!D21 -> 0 | E13: =세입!E21 -> 8100000 | F13: =E13-D13 -> 8100000 | G13: =IF(D13+E13=0,0,IF(D13=0,100,F13/D13%)) -> 100 | J13: 처우개선비 | K13: =세출!D24 -> 0 | L13: =세출!E24 -> 0 | M13: =L13-K13 -> 0 | N13: =IF(K13+L13=0,0,IF(K13=0,100,M13/K13%)) -> 0
A14: 사업수입 | B14: 사업수입 | C14: 사업수입 | D14: =세입!D25 -> 0 | E14: =세입!E25 -> 0 | F14: =E14-D14 -> 0 | G14: =IF(D14+E14=0,0,IF(D14=0,100,F14/D14%)) -> 0 | I14: 업무추진비 | J14: 기관운영비 | K14: =세출!D28 -> 0 | L14: =세출!E28 -> 500000 | M14: =L14-K14 -> 500000 | N14: =IF(K14+L14=0,0,IF(K14=0,100,M14/K14%)) -> 100
A15: 과년도수입 | B15: 과년도수입 | C15: 과년도수입 | D15: =세입!D28 -> 0 | E15: =세입!E28 -> 0 | F15: =E15-D15 -> 0 | G15: =IF(D15+E15=0,0,IF(D15=0,100,F15/D15%)) -> 0 | J15: 직책보조비 | K15: =세출!D31 -> 0 | L15: =세출!E31 -> 5400000 | M15: =L15-K15 -> 5400000 | N15: =IF(K15+L15=0,0,IF(K15=0,100,M15/K15%)) -> 100
A16: 보조금수입 | B16: 보조금수입 | C16: 국고보조금 | D16: =세입!D31 -> 0 | E16: =세입!E31 -> 0 | F16: =E16-D16 -> 0 | G16: =IF(D16+E16=0,0,IF(D16=0,100,F16/D16%)) -> 0 | J16: 회의비 | K16: =세출!D33 -> 0 | L16: =세출!E33 -> 300000 | M16: =L16-K16 -> 300000 | N16: =IF(K16+L16=0,0,IF(K16=0,100,M16/K16%)) -> 100
C17: 시도보조금 | D17: =세입!D32 -> 0 | E17: =세입!E32 -> 0 | F17: =E17-D17 -> 0 | G17: =IF(D17+E17=0,0,IF(D17=0,100,F17/D17%)) -> 0 | I17: 운영비 | J17: 여비 | K17: =세출!D36 -> 0 | L17: =세출!E36 -> 300000 | M17: =L17-K17 -> 300000 | N17: =IF(K17+L17=0,0,IF(K17=0,100,M17/K17%)) -> 100
C18: 시군구보조금 | D18: =세입!D33 -> 0 | E18: =세입!E33 -> 0 | F18: =E18-D18 -> 0 | G18: =IF(D18+E18=0,0,IF(D18=0,100,F18/D18%)) -> 0 | J18: 수용비및수수료 | K18: =세출!D38 -> 0 | L18: =세출!E38 -> 10059722 | M18: =L18-K18 -> 10059722 | N18: =IF(K18+L18=0,0,IF(K18=0,100,M18/K18%)) -> 100
C19: 기타보조금 | D19: =세입!D36 -> 0 | E19: =세입!E36 -> 0 | F19: =E19-D19 -> 0 | G19: =IF(D19+E19=0,0,IF(D19=0,100,F19/D19%)) -> 0 | J19: 공공요금및제세공과금 | K19: =세출!D49 -> 0 | L19: =세출!E49 -> 22900000 | M19: =L19-K19 -> 22900000 | N19: =IF(K19+L19=0,0,IF(K19=0,100,M19/K19%)) -> 100
A20: 후원금 | B20: 후원금 | C20: 지정후원금 | D20: =세입!D39 -> 0 | E20: =세입!E39 -> 0 | F20: =E20-D20 -> 0 | G20: =IF(D20+E20=0,0,IF(D20=0,100,F20/D20%)) -> 0 | J20: 차량비 | K20: =세출!D60 -> 0 | L20: =세출!E60 -> 12000000 | M20: =L20-K20 -> 12000000 | N20: =IF(K20+L20=0,0,IF(K20=0,100,M20/K20%)) -> 100
C21: 비지정후원금 | D21: =세입!D40 -> 0 | E21: =세입!E40 -> 0 | F21: =E21-D21 -> 0 | G21: =IF(D21+E21=0,0,IF(D21=0,100,F21/D21%)) -> 0 | J21: 임차료 | K21: =세출!D62 -> 0 | L21: =세출!E62 -> 39600000 | M21: =L21-K21 -> 39600000 | N21: =IF(K21+L21=0,0,IF(K21=0,100,M21/K21%)) -> 100
A22: 요양급여수입 | B22: 요양급여수입 | C22: 장기요양급여수입 | D22: =세입!D43 -> 0 | E22: =세입!E43 -> 305758800 | F22: =E22-D22 -> 305758800 | G22: =IF(D22+E22=0,0,IF(D22=0,100,F22/D22%)) -> 100 | J22: 기타운영비 | K22: =세출!D64 -> 0 | L22: =세출!E64 -> 6960000 | M22: =L22-K22 -> 6960000 | N22: =IF(K22+L22=0,0,IF(K22=0,100,M22/K22%)) -> 100
C23: 가산금수입 | D23: =세입!D45 -> 0 | E23: =세입!E45 -> 0 | F23: =E23-D23 -> 0 | G23: =IF(D23+E23=0,0,IF(D23=0,100,F23/D23%)) -> 0 | H23: 재산조성비 | I23: 시설비 | J23: 시설비 | K23: =세출!D70 -> 0 | L23: =세출!E70 -> 4000000 | M23: =L23-K23 -> 4000000 | N23: =IF(K23+L23=0,0,IF(K23=0,100,M23/K23%)) -> 100
A24: 차입금 | B24: 차입금 | C24: 금융기관차입금 | D24: =세입!D48 -> 0 | E24: =세입!E48 -> 0 | F24: =E24-D24 -> 0 | G24: =IF(D24+E24=0,0,IF(D24=0,100,F24/D24%)) -> 0 | J24: 자산취득비 | K24: =세출!D72 -> 0 | L24: =세출!E72 -> 13800000 | M24: =L24-K24 -> 13800000 | N24: =IF(K24+L24=0,0,IF(K24=0,100,M24/K24%)) -> 100
C25: 기타차입금 | D25: =세입!D49 -> 0 | E25: =세입!E49 -> 30000000 | F25: =E25-D25 -> 30000000 | G25: =IF(D25+E25=0,0,IF(D25=0,100,F25/D25%)) -> 100 | J25: 시설장비유지비 | K25: =세출!D75 -> 0 | L25: =세출!E75 -> 0 | M25: =L25-K25 -> 0 | N25: =IF(K25+L25=0,0,IF(K25=0,100,M25/K25%)) -> 0
A26: 전입금 | B26: 전입금 | C26: 법인전입금 | D26: =세입!D52 -> 0 | E26: =세입!E52 -> 0 | F26: =E26-D26 -> 0 | G26: =IF(D26+E26=0,0,IF(D26=0,100,F26/D26%)) -> 0 | H26: 사업비 | I26: 운영비 | J26: 생계비 | K26: =세출!D82 -> 0 | L26: =세출!E82 -> 24300000 | M26: =L26-K26 -> 24300000 | N26: =IF(K26+L26=0,0,IF(K26=0,100,M26/K26%)) -> 100
C27: 법인전입금(후원금) | D27: =세입!D53 -> 0 | E27: =세입!E53 -> 0 | F27: =E27-D27 -> 0 | G27: =IF(D27+E27=0,0,IF(D27=0,100,F27/D27%)) -> 0 | J27: 수용기관경비 | K27: =세출!D87 -> 0 | L27: =세출!E87 -> 900000 | M27: =L27-K27 -> 900000 | N27: =IF(K27+L27=0,0,IF(K27=0,100,M27/K27%)) -> 100
C28: 기타전입금 | D28: =세입!D54 -> 0 | E28: =세입!E54 -> 0 | F28: =E28-D28 -> 0 | G28: =IF(D28+E28=0,0,IF(D28=0,100,F28/D28%)) -> 0 | J28: 피복비 | K28: =세출!D89 -> 0 | L28: =세출!E89 -> 0 | M28: =L28-K28 -> 0 | N28: =IF(K28+L28=0,0,IF(K28=0,100,M28/K28%)) -> 0
C29: 기타전입금(후원금) | D29: =세입!D55 -> 0 | E29: =세입!E55 -> 0 | F29: =E29-D29 -> 0 | G29: =IF(D29+E29=0,0,IF(D29=0,100,F29/D29%)) -> 0 | J29: 의료비 | K29: =세출!D90 -> 0 | L29: =세출!E90 -> 600000 | M29: =L29-K29 -> 600000 | N29: =IF(K29+L29=0,0,IF(K29=0,100,M29/K29%)) -> 100
A30: 이월금 | B30: 이월금 | C30: 전년도이월금 | D30: =세입!D58 -> 0 | E30: =세입!E58 -> 0 | F30: =E30-D30 -> 0 | G30: =IF(D30+E30=0,0,IF(D30=0,100,F30/D30%)) -> 0 | J30: 장의비 | K30: =세출!D92 -> 0 | L30: =세출!E92 -> 600000 | M30: =L30-K30 -> 600000 | N30: =IF(K30+L30=0,0,IF(K30=0,100,M30/K30%)) -> 100
C31: 전년도이월금(후원금) | D31: =세입!D59 -> 0 | E31: =세입!E59 -> 0 | F31: =E31-D31 -> 0 | G31: =IF(D31+E31=0,0,IF(D31=0,100,F31/D31%)) -> 0 | J31: 직업재활비 | K31: =세출!D93 -> 0 | L31: =세출!E93 -> 0 | M31: =L31-K31 -> 0 | N31: =IF(K31+L31=0,0,IF(K31=0,100,M31/K31%)) -> 0
C32: 전년도이월금(식재료비) | D32: =세입!D60 -> 0 | E32: =세입!E60 -> 0 | F32: =E32-D32 -> 0 | G32: =IF(D32+E32=0,0,IF(D32=0,100,F32/D32%)) -> 0 | J32: 자활사업비 | K32: =세출!D94 -> 0 | L32: =세출!E94 -> 0 | M32: =L32-K32 -> 0 | N32: =IF(K32+L32=0,0,IF(K32=0,100,M32/K32%)) -> 0
A33: 잡수입 | B33: 잡수입 | C33: 불용품매각대 | D33: =세입!D63 -> 0 | E33: =세입!E63 -> 0 | F33: =E33-D33 -> 0 | G33: =IF(D33+E33=0,0,IF(D33=0,100,F33/D33%)) -> 0 | J33: 특별급식비 | K33: =세출!D95 -> 0 | L33: =세출!E95 -> 8100000 | M33: =L33-K33 -> 8100000 | N33: =IF(K33+L33=0,0,IF(K33=0,100,M33/K33%)) -> 100
C34: 기타예금이자수입 | D34: =세입!D64 -> 0 | E34: =세입!E64 -> 0 | F34: =E34-D34 -> 0 | G34: =IF(D34+E34=0,0,IF(D34=0,100,F34/D34%)) -> 0 | J34: 연료비 | K34: =세출!D96 -> 0 | L34: =세출!E96 -> 7200000 | M34: =L34-K34 -> 7200000 | N34: =IF(K34+L34=0,0,IF(K34=0,100,M34/K34%)) -> 100
C35: 직원식재료비수입 | D35: =세입!D65 -> 0 | E35: =세입!E65 -> 5400000 | F35: =E35-D35 -> 5400000 | G35: =IF(D35+E35=0,0,IF(D35=0,100,F35/D35%)) -> 100 | I35: 사업비 | J35: 프로그램사업비 | K35: =세출!D98 -> 0 | L35: =세출!E98 -> 6000000 | M35: =L35-K35 -> 6000000 | N35: =IF(K35+L35=0,0,IF(K35=0,100,M35/K35%)) -> 100
C36: 기타잡수입 | D36: =세입!D66 -> 0 | E36: =세입!E66 -> 0 | F36: =E36-D36 -> 0 | G36: =IF(D36+E36=0,0,IF(D36=0,100,F36/D36%)) -> 0 | I36: 복지용구 취득비 | J36: 대여용구취득비 | K36: =세출!D100 -> 0 | L36: =세출!E100 -> 0 | M36: =L36-K36 -> 0 | N36: =IF(K36+L36=0,0,IF(K36=0,100,M36/K36%)) -> 0
A37: 적립금 및 준비금 | B37: 적립금 및 준비금 | C37: 운영충당적립금 | D37: =세입!D69 -> 0 | E37: =세입!E69 -> 0 | F37: =E37-D37 -> 0 | G37: =IF(D37+E37=0,0,IF(D37=0,100,F37/D37%)) -> 0 | J37: 판매용구취득비 | K37: =세출!D101 -> 0 | L37: =세출!E101 -> 0 | M37: =L37-K37 -> 0 | N37: =IF(K37+L37=0,0,IF(K37=0,100,M37/K37%)) -> 0
C38: 시설환경개선준비금 | D38: =세입!D70 -> 0 | E38: =세입!E70 -> 0 | F38: =E38-D38 -> 0 | G38: =IF(D38+E38=0,0,IF(D38=0,100,F38/D38%)) -> 0 | H38: 전출금 | I38: 전출금 | J38: 법인회계전출금 | K38: =세출!D104 -> 0 | L38: =세출!E104 -> 0 | M38: =L38-K38 -> 0 | N38: =IF(K38+L38=0,0,IF(K38=0,100,M38/K38%)) -> 0
J39: 기타전출금 | K39: =세출!D105 -> 0 | L39: =세출!E105 -> 6000000 | M39: =L39-K39 -> 6000000 | N39: =IF(K39+L39=0,0,IF(K39=0,100,M39/K39%)) -> 100
H40: 과년도지출 | I40: 과년도지출 | J40: 과년도지출 | K40: =세출!D108 -> 0 | L40: =세출!E108 -> 0 | M40: =L40-K40 -> 0 | N40: =IF(K40+L40=0,0,IF(K40=0,100,M40/K40%)) -> 0
...

Sheet 세입
A1: =총괄표!A1 -> 광산데이케어센터
A2: 세입예산서
T3: (예산단위 : 천원, 산출기초 : 원)
A4: 과목 | D4: =총괄표!D5 -> 17년도 예산액 (A) | E4: =총괄표!E5 -> 18년도 예산액 (B) | F4: 증감(B-A) | H4: 자금원천 구분(단위 : 원) | M4: 산출기초
A5: 관 | B5: 항 | C5: 목 | F5: 액수 | G5: 비율(%) | H5: 보조금 | I5: 자부담 | J5: 후원금 | K5: 수익사업 | L5: 계
A6: 총 계 | D6: =D7+D23+D26+D29+D37+D41+D46+D50+D56+D61+D67 -> 0 | E6: =E7+E23+E26+E29+E37+E41+E46+E50+E56+E61+E67 -> 414070350 | F6: =E6-D6 -> 414070350 | G6: =IF(D6+E6=0,0,IF(D6=0,100,F6/D6%)) -> 100 | H6: =H7+H23+H26+H29+H37+H41+H46+H50+H56+H61+H67 -> 0 | I6: =I7+I23+I26+I29+I37+I41+I46+I50+I56+I61+I67 -> 72911550 | J6: =J7+J23+J26+J29+J37+J41+J46+J50+J56+J61+J67 -> 0 | K6: =K7+K23+K26+K29+K37+K41+K46+K50+K56+K61+K67 -> 341158800 | L6: =L7+L23+L26+L29+L37+L41+L46+L50+L56+L61+L67 -> 414070350 | M6: 2018년도 세입 총금액 | V6: =W7+W23+W26+W29+W37+W41+W46+W50+W56+W61+W67 -> 414070350
A7: 01.입소자부담금수입 | D7: =D8 -> 0 | E7: =E8 -> 72911550 | F7: =E7-D7 -> 72911550 | G7: =IF(D7+E7=0,0,IF(D7=0,100,F7/D7%)) -> 100 | H7: =H8 -> 0 | I7: =I8 -> 72911550 | J7: =J8 -> 0 | K7: =K8 -> 0 | L7: =L8 -> 72911550 | M7: 입소자부담금수입 합계 | W7: =W8 -> 72911550
B8: 11.입소비용수입 | D8: =SUM(D9:D21) -> 0 | E8: =SUM(E9:E21) -> 72911550 | F8: =E8-D8 -> 72911550 | G8: =IF(D8+E8=0,0,IF(D8=0,100,F8/D8%)) -> 100 | H8: =SUM(H9:H21) -> 0 | I8: =SUM(I9:I21) -> 72911550 | J8: =SUM(J9:J21) -> 0 | K8: =SUM(K9:K21) -> 0 | L8: =SUM(L9:L21) -> 72911550 | M8: 입소비용수입 합계 | W8: =SUM(W9:W22) -> 72911550
C9: 111.입소비용수입 | D9: 0 | E9: =W9 -> 0 | F9: =E9-D9 -> 0 | G9: =IF(D9+E9=0,0,IF(D9=0,100,F9/D9%)) -> 0 | H9: 0 | I9: =W9 -> 0 | J9: 0 | K9: 0 | L9: =SUM(H9:K9) -> 0 | M9: 입소비용수입 | W9: 0
C10: 112.본인부담금수입 | D10: 0 | E10: =SUM(W10:W16) -> 40511550 | F10: =E10-D10 -> 40511550 | G10: =IF(D10+E10=0,0,IF(D10=0,100,F10/D10%)) -> 100 | H10: 0 | I10: =SUM(W10:W16) -> 40511550 | J10: 0 | K10: 0 | L10: =SUM(H10:K10) -> 40511550 | M10: 1등급 일반 | N10: 0 | O10: 원 | P10: × | R10: 명 | S10: × | T10: 150 | U10: 일 | V10: = | W10: =N10*Q10*T10 -> 0
M11: 2등급 일반 | N11: 0 | O11: 원 | P11: × | Q11: 3 | R11: 명 | S11: × | T11: 150 | U11: 일 | V11: = | W11: =N11*Q11*T11 -> 0
M12: 3등급 일반 | N12: 5505 | O12: 원 | P12: × | Q12: 13 | R12: 명 | S12: × | T12: 150 | U12: 일 | V12: = | W12: =N12*Q12*T12 -> 10734750
M13: 4등급 일반 | N13: 5318 | O13: 원 | P13: × | Q13: 19 | R13: 명 | S13: × | T13: 150 | U13: 일 | V13: = | W13: =N13*Q13*T13 -> 15156300
M14: 5등급 일반 | N14: 5130 | O14: 원 | P14: × | Q14: 19 | R14: 명 | S14: × | T14: 150 | U14: 일 | V14: = | W14: =N14*Q14*T14 -> 14620500
N15: 0 | O15: 원 | P15: × | R15: 명 | S15: × | T15: 150 | U15: 일 | V15: = | W15: =N15*Q15*T15 -> 0
N16: 0 | O16: 원 | P16: × | R16: 명 | S16: × | T16: 150 | U16: 일 | V16: = | W16: =N16*Q16*T16 -> 0
C17: 113.식재료비수입 | D17: 0 | E17: =W17 -> 24300000 | F17: =E17-D17 -> 24300000 | G17: =IF(D17+E17=0,0,IF(D17=0,100,F17/D17%)) -> 100 | H17: 0 | I17: =W17 -> 24300000 | J17: 0 | K17: 0 | L17: =SUM(H17:K17) -> 24300000 | M17: 식재료비 | N17: 3000 | O17: 원 | P17: × | Q17: 54 | R17: 명 | S17: × | T17: 150 | U17: 일 | V17: = | W17: =N17*Q17*T17 -> 24300000
C18: 114.상급침실이용료 | D18: 0 | E18: =SUM(W18:W19) -> 0 | F18: =E18-D18 -> 0 | G18: =IF(D18+E18=0,0,IF(D18=0,100,F18/D18%)) -> 0 | H18: 0 | I18: =SUM(W18:W19) -> 0 | J18: 0 | K18: 0 | L18: =SUM(H18:K18) -> 0 | M18: 2인실 | O18: 원 | P18: × | R18: 명 | S18: × | T18: 12 | U18: 월 | V18: = | W18: =N18*Q18*T18 -> 0
C20: 115.이미용비 | D20: 0 | E20: =W20 -> 0 | F20: =E20-D20 -> 0 | G20: =IF(D20+E20=0,0,IF(D20=0,100,F20/D20%)) -> 0 | H20: 0 | I20: =W20 -> 0 | J20: 0 | K20: 0 | L20: =SUM(H20:K20) -> 0 | M20: 이미용비 | W20: 0
C21: 116.기타비급여수입 | D21: 0 | E21: =W21+W22 -> 8100000 | F21: =E21-D21 -> 8100000 | G21: =IF(D21+E21=0,0,IF(D21=0,100,F21/D21%)) -> 100 | H21: 0 | I21: =W21+W22 -> 8100000 | J21: 0 | K21: 0 | L21: =SUM(H21:K21) -> 8100000 | M21: 의료비/촉탁비등 | O21: 원 | P21: × | R21: 명 | S21: × | T21: 12 | U21: 월 | V21: = | W21: =N21*Q21*T21 -> 0
M22: 특별급식비 | N22: 1000 | O22: 원 | P22: × | Q22: 54 | R22: 명 | S22: × | T22: 150 | U22: 일 | V22: = | W22: =N22*Q22*T22 -> 8100000
A23: 02.사업수입 | D23: =D24 -> 0 | E23: =E24 -> 0 | F23: =E23-D23 -> 0 | G23: =IF(D23+E23=0,0,IF(D23=0,100,F23/D23%)) -> 0 | H23: =H24 -> 0 | I23: =I24 -> 0 | J23: =J24 -> 0 | K23: =K24 -> 0 | L23: =L24 -> 0 | M23: 사업수입 합계 | W23: =W24 -> 0
B24: 21.사업수입 | D24: =SUM(D25:D25) -> 0 | E24: =SUM(E25:E25) -> 0 | F24: =E24-D24 -> 0 | G24: =IF(D24+E24=0,0,IF(D24=0,100,F24/D24%)) -> 0 | H24: =SUM(H25:H25) -> 0 | I24: =SUM(I25:I25) -> 0 | J24: =SUM(J25:J25) -> 0 | K24: =SUM(K25:K25) -> 0 | L24: =SUM(L25:L25) -> 0 | M24: 사업수입 합계 | W24: =SUM(W25:W25) -> 0
C25: 211.사업수입 | D25: 0 | E25: =W25 -> 0 | F25: =E25-D25 -> 0 | G25: =IF(D25+E25=0,0,IF(D25=0,100,F25/D25%)) -> 0 | H25: 0 | I25: 0 | J25: 0 | K25: =W25 -> 0 | L25: =SUM(H25:K25) -> 0 | W25: 0
A26: 03.과년도수입 | D26: =D27 -> 0 | E26: =E27 -> 0 | F26: =E26-D26 -> 0 | G26: =IF(D26+E26=0,0,IF(D26=0,100,F26/D26%)) -> 0 | H26: =H27 -> 0 | I26: =I27 -> 0 | J26: =J27 -> 0 | K26: =K27 -> 0 | L26: =L27 -> 0 | M26: 과년도수입 합계 | W26: =W27 -> 0
B27: 31.과년도수입 | D27: =D28 -> 0 | E27: =SUM(E28) -> 0 | F27: =E27-D27 -> 0 | G27: =IF(D27+E27=0,0,IF(D27=0,100,F27/D27%)) -> 0 | H27: =H28 -> 0 | I27: =I28 -> 0 | J27: =J28 -> 0 | K27: =K28 -> 0 | L27: =L28 -> 0 | M27: 과년도수입 합계 | W27: =SUM(W28) -> 0
C28: 311.과년도수입 | D28: 0 | E28: =W28 -> 0 | F28: =E28-D28 -> 0 | G28: =IF(D28+E28=0,0,IF(D28=0,100,F28/D28%)) -> 0 | H28: 0 | I28: 0 | J28: 0 | K28: =W28 -> 0 | L28: =SUM(H28:K28) -> 0 | W28: 0
A29: 04.보조금수입 | D29: =D30 -> 0 | E29: =E30 -> 0 | F29: =E29-D29 -> 0 | G29: =IF(D29+E29=0,0,IF(D29=0,100,F29/D29%)) -> 0 | H29: =H30 -> 0 | I29: =I30 -> 0 | J29: =J30 -> 0 | K29: =K30 -> 0 | L29: =L30 -> 0 | M29: 보조금수입 합계 | W29: =W30 -> 0
B30: 41.보조금수입 | D30: =SUM(D31:D36) -> 0 | E30: =SUM(E31:E36) -> 0 | F30: =E30-D30 -> 0 | G30: =IF(D30+E30=0,0,IF(D30=0,100,F30/D30%)) -> 0 | H30: =SUM(H31:H36) -> 0 | I30: =SUM(I31:I36) -> 0 | J30: =SUM(J31:J36) -> 0 | K30: =SUM(K31:K36) -> 0 | L30: =SUM(L31:L36) -> 0 | M30: 보조금수입 합계 | W30: =SUM(W31:W36) -> 0
C31: 411.국고보조금 | D31: 0 | E31: =SUM(W31:W31) -> 0 | F31: =E31-D31 -> 0 | G31: =IF(D31+E31=0,0,IF(D31=0,100,F31/D31%)) -> 0 | H31: =W31 -> 0 | I31: 0 | J31: 0 | K31: 0 | L31: =SUM(H31:K31) -> 0 | W31: 0
C32: 412.시.도보조금 | D32: 0 | E32: =W32 -> 0 | F32: =E32-D32 -> 0 | G32: =IF(D32+E32=0,0,IF(D32=0,100,F32/D32%)) -> 0 | H32: =W32 -> 0 | I32: 0 | J32: 0 | K32: 0 | L32: =SUM(H32:K32) -> 0 | W32: 0
C33: 413.시.군.구보조금 | D33: 0 | E33: =SUM(W33:W35) -> 0 | F33: =E33-D33 -> 0 | G33: =IF(D33+E33=0,0,IF(D33=0,100,F33/D33%)) -> 0 | H33: =SUM(W33:W35) -> 0 | I33: 0 | J33: 0 | K33: 0 | L33: =SUM(H33:K33) -> 0 | M33: 기초생활수급자보조금 | N33: 248970 | O33: 원 | P33: × | R33: 명 | S33: × | T33: 12 | U33: 월 | V33: = | W33: =N33*Q33*T33 -> 0
M34: 월동대책비 | N34: 34850 | O34: 원 | P34: × | R34: 명 | S34: × | T34: 1 | U34: 회 | V34: = | W34: =N34*Q34*T34 -> 0
M35: 특별위로금 | N35: 35400 | O35: 원 | P35: × | R35: 명 | S35: × | T35: 2 | U35: 회 | V35: = | W35: =N35*Q35*T35 -> 0
C36: 414.기타보조금 | D36: 0 | E36: =W36 -> 0 | F36: =E36-D36 -> 0 | G36: =IF(D36+E36=0,0,IF(D36=0,100,F36/D36%)) -> 0 | H36: =W36 -> 0 | I36: =W36 -> 0 | J36: 0 | K36: 0 | L36: =SUM(H36:K36) -> 0 | W36: 0
A37: 05.후원금 | D37: =D38 -> 0 | E37: =E38 -> 0 | F37: =E37-D37 -> 0 | G37: =IF(D37+E37=0,0,IF(D37=0,100,F37/D37%)) -> 0 | H37: =H38 -> 0 | I37: =I38 -> 0 | J37: =J38 -> 0 | K37: =K38 -> 0 | L37: =L38 -> 0 | M37: 후원금 합계 | W37: =W38 -> 0
B38: 51.후원금 | D38: =SUM(D39:D40) -> 0 | E38: =SUM(E39:E40) -> 0 | F38: =E38-D38 -> 0 | G38: =IF(D38+E38=0,0,IF(D38=0,100,F38/D38%)) -> 0 | H38: =SUM(H39:H40) -> 0 | I38: =SUM(I39:I40) -> 0 | J38: =SUM(J39:J40) -> 0 | K38: =SUM(K39:K40) -> 0 | L38: =SUM(L39:L40) -> 0 | M38: 후원금 합계 | W38: =SUM(W39:W40) -> 0
C39: 511.지정후원금 | D39: 0 | E39: =W39 -> 0 | F39: =E39-D39 -> 0 | G39: =IF(D39+E39=0,0,IF(D39=0,100,F39/D39%)) -> 0 | H39: 0 | I39: 0 | J39: =W39 -> 0 | K39: 0 | L39: =SUM(H39:K39) -> 0 | M39: 지정후원금 | W39: =N39*T39 -> 0
C40: 512.비지정후원금 | D40: 0 | E40: =W40 -> 0 | F40: =E40-D40 -> 0 | G40: =IF(D40+E40=0,0,IF(D40=0,100,F40/D40%)) -> 0 | H40: 0 | I40: 0 | J40: =W40 -> 0 | K40: 0 | L40: =SUM(H40:K40) -> 0 | M40: 비지정후원금 | W40: 0
A41: 06.요양급여수입 | D41: =D42 -> 0 | E41: =E42 -> 305758800 | F41: =E41-D41 -> 305758800 | G41: =IF(D41+E41=0,0,IF(D41=0,100,F41/D41%)) -> 100 | H41: =H42 -> 0 | I41: =I42 -> 0 | J41: =J42 -> 0 | K41: =K42 -> 305758800 | L41: =L42 -> 305758800 | M41: 요양급여수입 합계 | W41: =W42 -> 305758800
...

Sheet 세출
A1: =총괄표!A1 -> 광산데이케어센터
A2: 세출예산서
T3: (예산단위 : 천원, 산출기초 : 원)
A4: 과목 | D4: =세입!D4:D5 -> 17년도 예산액 (A) | E4: =세입!E4:E5 -> 18년도 예산액 (B) | F4: 증감(B-A) | H4: 자금원천 구분(단위 : 원) | M4: 산출기초
A5: 관 | B5: 항 | C5: 목 | F5: 액수 | G5: 비율(%) | H5: 보조금 | I5: 자부담 | J5: 후원금 | K5: 수익사업 | L5: 계
A6: 총 계 | D6: =D7+D68+D80+D102+D106+D109+D113+D116+D120+D124 -> 0 | E6: =E7+E68+E80+E102+E106+E109+E113+E116+E120+E124 -> 414070350 | F6: =E6-D6 -> 414070350 | G6: =IF(D6+E6=0,0,IF(D6=0,100,F6/D6%)) -> 100 | H6: =H7+H68+H80+H102+H106+H109+H113+H116+H120+H124 -> 0 | I6: =I7+I68+I80+I102+I106+I109+I113+I116+I120+I124 -> 47700000 | J6: =J7+J68+J80+J102+J106+J109+J113+J116+J120+J124 -> 0 | K6: =K7+K68+K80+K102+K106+K109+K113+K116+K120+K124 -> 366370350 | L6: =L7+L68+L80+L102+L106+L109+L113+L116+L120+L124 -> 414070350 | M6: 2018년도 세출 총 금액 | V6: =W7+W68+W80+W102+W106+W109+W113+W116+W120+W124 -> 414070350 | Z6: =세입!V6-세출!V6 -> 0
A7: 01.사무비 | D7: =D8+D27+D35 -> 0 | E7: =E35+E27+E8 -> 327370350 | F7: =E7-D7 -> 327370350 | G7: =IF(D7+E7=0,0,IF(D7=0,100,F7/D7%)) -> 100 | H7: =H8+H27+H35 -> 0 | I7: =I8+I27+I35 -> 0 | J7: =J8+J27+J35 -> 0 | K7: =K8+K27+K35 -> 327370350 | L7: =L8+L27+L35 -> 327370350 | M7: 사무비 합계 | W7: =W8+W27+W35 -> 327370350
B8: 11.인건비 | D8: =D9+D12+D15+D18+D21+D24 -> 0 | E8: =E9+E12+E15+E18+E21+E24 -> 229350628 | F8: =E8-D8 -> 229350628 | G8: =IF(D8+E8=0,0,IF(D8=0,100,F8/D8%)) -> 100 | H8: =H9+H12+H15+H18+H21+H24 -> 0 | I8: =I9+I12+I15+I18+I21+I24 -> 0 | J8: =J9+J12+J15+J18+J21+J24 -> 0 | K8: =K9+K12+K15+K18+K21+K24 -> 229350628 | L8: =L9+L12+L15+L18+L21+L24 -> 229350628 | M8: 인건비 합계 | W8: =W9+W12+W15+W18+W21+W24 -> 229350628
C9: 111.급여 | D9: 0 | E9: =W9 -> 178640000 | F9: =E9-D9 -> 178640000 | G9: =IF(D9+E9=0,0,IF(D9=0,100,F9/D9%)) -> 100 | H9: 0 | I9: 0 | J9: 0 | K9: =W9 -> 178640000 | L9: =SUM(H9:K9) -> 178640000 | M9: 급여 소계 | W9: =SUM(W10:W11) -> 178640000
M10: 급여(직접비) | W10: =보수일람표!F4 -> 127400000
M11: 급여(간접비) | W11: =보수일람표!F3 -> 51240000
C12: 112.제수당 | D12: 0 | E12: =W12 -> 16188640 | F12: =E12-D12 -> 16188640 | G12: =IF(D12+E12=0,0,IF(D12=0,100,F12/D12%)) -> 100 | H12: 0 | I12: 0 | J12: 0 | K12: =W12 -> 16188640 | L12: =SUM(H12:K12) -> 16188640 | M12: 제수당 소계 | W12: =SUM(W13:W14) -> 16188640
M13: 제수당(직접비) | W13: =보수일람표!G4 -> 12600000
M14: 제수당(간접비) | W14: =보수일람표!G3 -> 3588640
C15: 113.일용잡급 | D15: 0 | E15: =W15 -> 0 | F15: =E15-D15 -> 0 | G15: =IF(D15+E15=0,0,IF(D15=0,100,F15/D15%)) -> 0 | H15: 0 | I15: 0 | J15: 0 | K15: =W15 -> 0 | L15: =SUM(H15:K15) -> 0 | M15: 일용잡급 소계 | W15: =SUM(W16:W17) -> 0
M16: 일용잡급(직접비) | W16: =보수일람표!H4 -> 0
M17: 일용잡급(간접비) | W17: =보수일람표!H3 -> 0
C18: 115.퇴직금및 | D18: 0 | E18: =W18 -> 16235719 | F18: =E18-D18 -> 16235719 | G18: =IF(D18+E18=0,0,IF(D18=0,100,F18/D18%)) -> 100 | H18: 0 | I18: 0 | J18: 0 | K18: =W18 -> 16235719 | L18: =SUM(H18:K18) -> 16235719 | M18: 퇴직금 및 퇴직적립금 소계 | W18: =SUM(W19:W20) -> 16235719
C19: 퇴직적립금 | M19: 퇴직금 및 퇴직적립금(직접비) | W19: =보수일람표!I4 -> 11666666
M20: 퇴직금 및 퇴직적립금(간접비) | W20: =보수일람표!I3 -> 4569053
C21: 116.사회보험 | D21: 0 | E21: =W21 -> 18286269 | F21: =E21-D21 -> 18286269 | G21: =IF(D21+E21=0,0,IF(D21=0,100,F21/D21%)) -> 100 | H21: 0 | I21: 0 | J21: 0 | K21: =W21 -> 18286269 | L21: =SUM(H21:K21) -> 18286269 | M21: 사회보험부담금 소계 | W21: =SUM(W22:W23) -> 18286269
C22: 부담금 | M22: 사회보험부담금(직접비) | W22: =보수일람표!J4 -> 13140153
M23: 사회보험부담금(간접비) | W23: =보수일람표!J3 -> 5146116
C24: 117.처우개선비 | D24: 0 | E24: =W24 -> 0 | F24: =E24-D24 -> 0 | G24: =IF(D24+E24=0,0,IF(D24=0,100,F24/D24%)) -> 0 | H24: 0 | I24: 0 | J24: 0 | K24: =W24 -> 0 | L24: =SUM(H24:K24) -> 0 | M24: 처우개선비 소계 | W24: =SUM(W25:W26) -> 0
M25: 처우개선비(직접비) | W25: 0
M26: 처우개선비(간접비) | W26: 0
B27: 12.업무추진비 | D27: =D28+D33+D31 -> 0 | E27: =E33+E31+E28 -> 6200000 | F27: =E27-D27 -> 6200000 | G27: =IF(D27+E27=0,0,IF(D27=0,100,F27/D27%)) -> 100 | H27: =H28+H31+H33 -> 0 | I27: =I28+I31+I33 -> 0 | J27: =J28+J31+J33 -> 0 | K27: =K28+K31+K33 -> 6200000 | L27: =L28+L31+L33 -> 6200000 | M27: 업무추진비 합계 | W27: =W28+W31+W33 -> 6200000
C28: 121.기관운영비 | D28: 0 | E28: =W28 -> 500000 | F28: =E28-D28 -> 500000 | G28: =IF(D28+E28=0,0,IF(D28=0,100,F28/D28%)) -> 100 | H28: 0 | I28: 0 | J28: 0 | K28: =W28 -> 500000 | L28: =SUM(H28:K28) -> 500000 | M28: 기관운영비 소계 | W28: =SUM(W29:W30) -> 500000
M29: 유관기관업무회의비 | N29: 50000 | O29: 원 | S29: x | T29: 4 | U29: 회 | V29: = | W29: =N29*T29 -> 200000
M30: 기관경조사비 | N30: 50000 | O30: 원 | S30: x | T30: 6 | U30: 회 | V30: = | W30: =N30*T30 -> 300000
C31: 122.직책보조비 | D31: 0 | E31: =W31 -> 5400000 | F31: =E31-D31 -> 5400000 | G31: =IF(D31+E31=0,0,IF(D31=0,100,F31/D31%)) -> 100 | H31: 0 | I31: 0 | J31: 0 | K31: =W31 -> 5400000 | L31: =SUM(H31:K31) -> 5400000 | M31: 직책보조비 소계 | W31: =W32 -> 5400000
M32: 직책보조비 | N32: 900000 | O32: 원 | S32: x | T32: 6 | U32: 월 | V32: = | W32: =N32*T32 -> 5400000
C33: 123.회의비 | D33: 0 | E33: =W33 -> 300000 | F33: =E33-D33 -> 300000 | G33: =IF(D33+E33=0,0,IF(D33=0,100,F33/D33%)) -> 100 | H33: 0 | I33: 0 | J33: 0 | K33: =W33 -> 300000 | L33: =SUM(H33:K33) -> 300000 | M33: 회의비 소계 | W33: =SUM(W34:W34) -> 300000
M34: 회의비 | N34: 50000 | O34: 원 | P34: × | Q34: 6 | R34: 월 | V34: = | W34: =N34*Q34 -> 300000
B35: 13.운영비 | D35: =D36+D38+D49+D60+D64+D62 -> 0 | E35: =E36+E38+E49+E60+E64+E62 -> 91819722 | F35: =E35-D35 -> 91819722 | G35: =IF(D35+E35=0,0,IF(D35=0,100,F35/D35%)) -> 100 | H35: =H36+H38+H49+H60+H64+H62 -> 0 | I35: =I36+I38+I49+I60+I64+I62 -> 0 | J35: =J36+J38+J49+J60+J64+J62 -> 0 | K35: =K36+K38+K49+K60+K64+K62 -> 91819722 | L35: =L36+L38+L49+L60+L64+L62 -> 91819722 | M35: 운영비 합계 | W35: =W36+W38+W49+W62+W60+W64 -> 91819722
C36: 131.여비 | D36: 0 | E36: =W36 -> 300000 | F36: =E36-D36 -> 300000 | G36: =IF(D36+E36=0,0,IF(D36=0,100,F36/D36%)) -> 100 | H36: 0 | I36: 0 | J36: 0 | K36: =W36 -> 300000 | L36: =SUM(H36:K36) -> 300000 | M36: 여비 소계 | W36: =SUM(W37:W37) -> 300000
M37: 여비 | N37: 50000 | O37: 원 | S37: x | T37: 6 | U37: 월 | V37: = | W37: =N37*T37 -> 300000
C38: 132.수용비및 | D38: 0 | E38: =W38 -> 10059722 | F38: =E38-D38 -> 10059722 | G38: =IF(D38+E38=0,0,IF(D38=0,100,F38/D38%)) -> 100 | H38: 0 | I38: 0 | J38: 0 | K38: =W38 -> 10059722 | L38: =SUM(H38:K38) -> 10059722 | M38: 수용비 및 수수료 소계 | W38: =SUM(W39:W48) -> 10059722
C39: 수수료 | M39: 사무용품 및 소모품비 | N39: 40000 | O39: 원 | P39: × | Q39: 6 | R39: 월 | V39: = | W39: =N39*Q39 -> 240000
M40: 구인광고비 | O40: 원 | P40: × | R40: 회 | V40: = | W40: =N40*Q40 -> 0
...

Sheet 보수일람표
A1: 임직원보수일람표
A3: 소계 | C3: 간접 인건비 계 | F3: =SUMIF($E$8:$E$67,"간접비",F8:F67) -> 51240000 | G3: =SUMIF($E$8:$E$67,"간접비",G8:G67) -> 3588640 | H3: =SUMIF($E$8:$E$67,"간접비",H8:H67) -> 0 | I3: =SUMIF($E$8:$E$67,"간접비",I8:I67) -> 4569053 | J3: =SUMIF($E$8:$E$67,"간접비",J8:J67) -> 5146116 | K3: =SUMIF($E$8:$E$67,"간접비",K8:K67) -> 2467288 | L3: =SUMIF($E$8:$E$67,"간접비",L8:L67) -> 1677756 | M3: =SUMIF($E$8:$E$67,"간접비",M8:M67) -> 123816 | ... P3: =SUMIF($E$8:$E$67,"간접비",P8:P67) -> 64543809 | R3: 수입금액 | S3: 직접비인건비 | T3: 인건비지출비율
C4: 직접 인건비 계 | F4: =SUMIF($E$8:$E$67,"직접비",F8:F67) -> 127400000 | G4: =SUMIF($E$8:$E$67,"직접비",G8:G67) -> 12600000 | H4: =SUMIF($E$8:$E$67,"직접비",H8:H67) -> 0 | I4: =SUMIF($E$8:$E$67,"직접비",I8:I67) -> 11666666 | J4: =SUMIF($E$8:$E$67,"직접비",J8:J67) -> 13140153 | K4: =SUMIF($E$8:$E$67,"직접비",K8:K67) -> 6300000 | L4: =SUMIF($E$8:$E$67,"직접비",L8:L67) -> 4284000 | M4: =SUMIF($E$8:$E$67,"직접비",M8:M67) -> 316153 | ... P4: =SUMIF($E$8:$E$67,"직접비",P8:P67) -> 164806819 | R4: =세입!L10+세입!L41 -> 346270350 | S4: =P4 -> 164806819 | T4: =(S4/R4)*100 -> 47.59484
C5: 총 인건비 계 | F5: =SUM(F3:F4) -> 178640000 | G5: =SUM(G3:G4) -> 16188640 | H5: =SUM(H3:H4) -> 0 | I5: =SUM(I3:I4) -> 16235719 | J5: =SUM(J3:J4) -> 18286269 | K5: =SUM(K3:K4) -> 8767288 | L5: =SUM(L3:L4) -> 5961756 | M5: =SUM(M3:M4) -> 439969 | ... P5: =SUM(P3:P4) -> 229350628
A6: 번호 | B6: 성명 | C6: 직종 | D6: 급여유형 | E6: 인건비구분 | F6: 급여 | G6: 각종수당 | H6: 일용잡급 | I6: 퇴직금 및 퇴직적립금 | J6: 사회보험부담금 | P6: 합계금액 | R6: 인건비구분 | S6: 급여유형 | U6: 직종
J7: 합계 | K7: 국민연금 | L7: 건강보험 | M7: 장기요양보험 | N7: 고용보험 | O7: 산재보험 | R7: 직접비 | S7: 주야간보호 | U7: 요양보호사1급, 요양보호사2급, 사회복지사, 간호사, 간호조무사, 물리치료사, 직업치료사
A8: 1 | B8: 손순애 | C8: 요양보호사1급 | D8: 주야간보호 | E8: 직접비 | F8: 9800000 | G8: 1000000 | I8: =TRUNC(SUM(F8:H8)/12) -> 900000 | J8: =SUM(K8:O8) -> 1013669 | K8: =TRUNC(SUM(F8:H8)*4.5%) -> 486000 | L8: =TRUNC(SUM(F8:H8)*3.06%) -> 330480 | M8: =TRUNC(L8*7.38%) -> 24389 | N8: =TRUNC(SUM(F8:H8)*0.9%) -> 97200 | O8: =TRUNC(SUM(F8:H8)*0.7%) -> 75600 | P8: =SUM(F8:J8) -> 12713669 | S8: 방문요양, 방문목욕 | U8: 요양보호사1급, 요양보호사2급, 사회복지사(방문요양만 해당)
A9: 2 | B9: 윤진이 | C9: 요양보호사1급 | D9: 주야간보호 | E9: 직접비 | F9: 9800000 | G9: 1000000 | I9: =TRUNC(SUM(F9:H9)/12) -> 900000 | J9: =SUM(K9:O9) -> 1013669 | K9: =TRUNC(SUM(F9:H9)*4.5%) -> 486000 | L9: =TRUNC(SUM(F9:H9)*3.06%) -> 330480 | M9: =TRUNC(L9*7.38%) -> 24389 | N9: =TRUNC(SUM(F9:H9)*0.9%) -> 97200 | O9: =TRUNC(SUM(F9:H9)*0.7%) -> 75600 | P9: =SUM(F9:J9) -> 12713669 | S9: 단기보호 | U9: 요양보호사1급, 요양보호사2급, 사회복지사, 간호사, 간호조무사
A10: 3 | B10: 고인순 | C10: 요양보호사1급 | D10: 주야간보호 | E10: 직접비 | F10: 9800000 | G10: 0 | I10: =TRUNC(SUM(F10:H10)/12) -> 816666 | J10: =SUM(K10:O10) -> 919811 | K10: =TRUNC(SUM(F10:H10)*4.5%) -> 441000 | L10: =TRUNC(SUM(F10:H10)*3.06%) -> 299880 | M10: =TRUNC(L10*7.38%) -> 22131 | N10: =TRUNC(SUM(F10:H10)*0.9%) -> 88200 | O10: =TRUNC(SUM(F10:H10)*0.7%) -> 68600 | P10: =SUM(F10:J10) -> 11536477 | S10: 방문간호 | U10: 간호사, 간호조무사, 치과위생사
A11: 4 | B11: 손정희 | C11: 조리원 | D11: 주야간보호 | E11: 간접비 | F11: 9480000 | G11: 700000 | I11: =TRUNC(SUM(F11:H11)/12) -> 848333 | J11: =SUM(K11:O11) -> 955477 | K11: =TRUNC(SUM(F11:H11)*4.5%) -> 458100 | L11: =TRUNC(SUM(F11:H11)*3.06%) -> 311508 | M11: =TRUNC(L11*7.38%) -> 22989 | N11: =TRUNC(SUM(F11:H11)*0.9%) -> 91620 | O11: =TRUNC(SUM(F11:H11)*0.7%) -> 71260 | P11: =SUM(F11:J11) -> 11983810 | R11: 간접비 | S11: 주야간보호, 단기보호, 방문간호 | U11: 시설장(관리책임자), 사무국장, 사무원, 영양사, 조리원, 위생원, 관리인
A12: 5 | B12: 윤해정 | C12: 요양보호사1급 | D12: 주야간보호 | E12: 직접비 | F12: 9800000 | G12: 1000000 | I12: =TRUNC(SUM(F12:H12)/12) -> 900000 | J12: =SUM(K12:O12) -> 1013669 | K12: =TRUNC(SUM(F12:H12)*4.5%) -> 486000 | L12: =TRUNC(SUM(F12:H12)*3.06%) -> 330480 | M12: =TRUNC(L12*7.38%) -> 24389 | N12: =TRUNC(SUM(F12:H12)*0.9%) -> 97200 | O12: =TRUNC(SUM(F12:H12)*0.7%) -> 75600 | P12: =SUM(F12:J12) -> 12713669 | S12: 방문요양, 방문목욕 | U12: 시설장(관리책임자), 사무국장, 사무원, 영양사, 조리원, 위생원, 관리인, 사회복지사(방문목욕만 해당)
A13: 6 | B13: 서성민 | C13: 간호조무사 | D13: 주야간보호 | E13: 직접비 | F13: 9800000 | G13: 1000000 | I13: =TRUNC(SUM(F13:H13)/12) -> 900000 | J13: =SUM(K13:O13) -> 1013669 | K13: =TRUNC(SUM(F13:H13)*4.5%) -> 486000 | L13: =TRUNC(SUM(F13:H13)*3.06%) -> 330480 | M13: =TRUNC(L13*7.38%) -> 24389 | N13: =TRUNC(SUM(F13:H13)*0.9%) -> 97200 | O13: =TRUNC(SUM(F13:H13)*0.7%) -> 75600 | P13: =SUM(F13:J13) -> 12713669 | S13: 복지용구제공사업소 | U13: 사무국장, 사무원
A14: 7 | B14: 안지순 | C14: 요양보호사1급 | D14: 주야간보호 | E14: 직접비 | F14: 9800000 | G14: 1000000 | I14: =TRUNC(SUM(F14:H14)/12) -> 900000 | J14: =SUM(K14:O14) -> 1013669 | K14: =TRUNC(SUM(F14:H14)*4.5%) -> 486000 | L14: =TRUNC(SUM(F14:H14)*3.06%) -> 330480 | M14: =TRUNC(L14*7.38%) -> 24389 | N14: =TRUNC(SUM(F14:H14)*0.9%) -> 97200 | O14: =TRUNC(SUM(F14:H14)*0.7%) -> 75600 | P14: =SUM(F14:J14) -> 12713669
A15: 8 | B15: 최성숙 | C15: 요양보호사1급 | D15: 주야간보호 | E15: 직접비 | F15: 9800000 | G15: 1300000 | I15: =TRUNC(SUM(F15:H15)/12) -> 925000 | J15: =SUM(K15:O15) -> 1041826 | K15: =TRUNC(SUM(F15:H15)*4.5%) -> 499500 | L15: =TRUNC(SUM(F15:H15)*3.06%) -> 339660 | M15: =TRUNC(L15*7.38%) -> 25066 | N15: =TRUNC(SUM(F15:H15)*0.9%) -> 99900 | O15: =TRUNC(SUM(F15:H15)*0.7%) -> 77700 | P15: =SUM(F15:J15) -> 13066826
A16: 9 | B16: 전여진 | C16: 사회복지사 | D16: 주야간보호 | E16: 직접비 | F16: 9800000 | G16: 1000000 | I16: =TRUNC(SUM(F16:H16)/12) -> 900000 | J16: =SUM(K16:O16) -> 1013669 | K16: =TRUNC(SUM(F16:H16)*4.5%) -> 486000 | L16: =TRUNC(SUM(F16:H16)*3.06%) -> 330480 | M16: =TRUNC(L16*7.38%) -> 24389 | N16: =TRUNC(SUM(F16:H16)*0.9%) -> 97200 | O16: =TRUNC(SUM(F16:H16)*0.7%) -> 75600 | P16: =SUM(F16:J16) -> 12713669
A17: 10 | B17: 정지은 | C17: 사회복지사 | D17: 주야간보호 | E17: 직접비 | F17: 9800000 | G17: 1300000 | I17: =TRUNC(SUM(F17:H17)/12) -> 925000 | J17: =SUM(K17:O17) -> 1041826 | K17: =TRUNC(SUM(F17:H17)*4.5%) -> 499500 | L17: =TRUNC(SUM(F17:H17)*3.06%) -> 339660 | M17: =TRUNC(L17*7.38%) -> 25066 | N17: =TRUNC(SUM(F17:H17)*0.9%) -> 99900 | O17: =TRUNC(SUM(F17:H17)*0.7%) -> 77700 | P17: =SUM(F17:J17) -> 13066826
A18: 11 | B18: 김성래 | C18: 사무원 | D18: 주야간보호 | E18: 간접비 | F18: 9480000 | G18: 544320 | I18: =TRUNC(SUM(F18:H18)/12) -> 835360 | J18: =SUM(K18:O18) -> 940863 | K18: =TRUNC(SUM(F18:H18)*4.5%) -> 451094 | L18: =TRUNC(SUM(F18:H18)*3.06%) -> 306744 | M18: =TRUNC(L18*7.38%) -> 22637 | N18: =TRUNC(SUM(F18:H18)*0.9%) -> 90218 | O18: =TRUNC(SUM(F18:H18)*0.7%) -> 70170 | P18: =SUM(F18:J18) -> 11800543
A19: 12 | B19: 강석오 | C19: 운전원 | D19: 주야간보호 | E19: 간접비 | F19: 6600000 | I19: =TRUNC(SUM(F19:H19)/12) -> 550000 | J19: =SUM(K19:O19) -> 619464 | K19: =TRUNC(SUM(F19:H19)*4.5%) -> 297000 | L19: =TRUNC(SUM(F19:H19)*3.06%) -> 201960 | M19: =TRUNC(L19*7.38%) -> 14904 | N19: =TRUNC(SUM(F19:H19)*0.9%) -> 59400 | O19: =TRUNC(SUM(F19:H19)*0.7%) -> 46200 | P19: =SUM(F19:J19) -> 7769464
A20: 13 | B20: 심정석 | C20: 센터장 | D20: 주야간보호 | E20: 간접비 | F20: 16200000 | G20: 1800000 | I20: =TRUNC(SUM(F20:H20)/12) -> 1500000 | J20: =SUM(K20:O20) -> 1689449 | K20: =TRUNC(SUM(F20:H20)*4.5%) -> 810000 | L20: =TRUNC(SUM(F20:H20)*3.06%) -> 550800 | M20: =TRUNC(L20*7.38%) -> 40649 | N20: =TRUNC(SUM(F20:H20)*0.9%) -> 162000 | O20: =TRUNC(SUM(F20:H20)*0.7%) -> 126000 | P20: =SUM(F20:J20) -> 21189449
A21: 14 | B21: 신규1 | C21: 요양보호사1급 | D21: 주야간보호 | E21: 직접비 | F21: 9800000 | G21: 1000000 | I21: =TRUNC(SUM(F21:H21)/12) -> 900000 | J21: =SUM(K21:O21) -> 1013669 | K21: =TRUNC(SUM(F21:H21)*4.5%) -> 486000 | L21: =TRUNC(SUM(F21:H21)*3.06%) -> 330480 | M21: =TRUNC(L21*7.38%) -> 24389 | N21: =TRUNC(SUM(F21:H21)*0.9%) -> 97200 | O21: =TRUNC(SUM(F21:H21)*0.7%) -> 75600 | P21: =SUM(F21:J21) -> 12713669
A22: 15 | B22: 신규2 | C22: 요양보호사1급 | D22: 주야간보호 | E22: 직접비 | F22: 9800000 | G22: 1000000 | I22: =TRUNC(SUM(F22:H22)/12) -> 900000 | J22: =SUM(K22:O22) -> 1013669 | K22: =TRUNC(SUM(F22:H22)*4.5%) -> 486000 | L22: =TRUNC(SUM(F22:H22)*3.06%) -> 330480 | M22: =TRUNC(L22*7.38%) -> 24389 | N22: =TRUNC(SUM(F22:H22)*0.9%) -> 97200 | O22: =TRUNC(SUM(F22:H22)*0.7%) -> 75600 | P22: =SUM(F22:J22) -> 12713669
A23: 16 | B23: 신규3 | C23: 요양보호사1급 | D23: 주야간보호 | E23: 직접비 | F23: 9800000 | G23: 1000000 | I23: =TRUNC(SUM(F23:H23)/12) -> 900000 | J23: =SUM(K23:O23) -> 1013669 | K23: =TRUNC(SUM(F23:H23)*4.5%) -> 486000 | L23: =TRUNC(SUM(F23:H23)*3.06%) -> 330480 | M23: =TRUNC(L23*7.38%) -> 24389 | N23: =TRUNC(SUM(F23:H23)*0.9%) -> 97200 | O23: =TRUNC(SUM(F23:H23)*0.7%) -> 75600 | P23: =SUM(F23:J23) -> 12713669
A24: 17 | B24: 신규4 | C24: 사회복지사 | D24: 주야간보호 | E24: 직접비 | F24: 9800000 | G24: 1000000 | I24: =TRUNC(SUM(F24:H24)/12) -> 900000 | J24: =SUM(K24:O24) -> 1013669 | K24: =TRUNC(SUM(F24:H24)*4.5%) -> 486000 | L24: =TRUNC(SUM(F24:H24)*3.06%) -> 330480 | M24: =TRUNC(L24*7.38%) -> 24389 | N24: =TRUNC(SUM(F24:H24)*0.9%) -> 97200 | O24: =TRUNC(SUM(F24:H24)*0.7%) -> 75600 | P24: =SUM(F24:J24) -> 12713669
A25: 18 | B25: 신규5 | C25: 조리원 | D25: 주야간보호 | E25: 간접비 | F25: 9480000 | G25: 544320 | I25: =TRUNC(SUM(F25:H25)/12) -> 835360 | J25: =SUM(K25:O25) -> 940863 | K25: =TRUNC(SUM(F25:H25)*4.5%) -> 451094 | L25: =TRUNC(SUM(F25:H25)*3.06%) -> 306744 | M25: =TRUNC(L25*7.38%) -> 22637 | N25: =TRUNC(SUM(F25:H25)*0.9%) -> 90218 | O25: =TRUNC(SUM(F25:H25)*0.7%) -> 70170 | P25: =SUM(F25:J25) -> 11800543
A26: 19 | I26: =TRUNC(SUM(F26:H26)/12) -> 0 | J26: =SUM(K26:O26) -> 0 | K26: =TRUNC(SUM(F26:H26)*4.5%) -> 0 | L26: =TRUNC(SUM(F26:H26)*3.06%) -> 0 | M26: =TRUNC(L26*7.38%) -> 0 | N26: =TRUNC(SUM(F26:H26)*0.9%) -> 0 | O26: =TRUNC(SUM(F26:H26)*0.7%) -> 0 | P26: =SUM(F26:J26) -> 0
A27: 20 | I27: =TRUNC(SUM(F27:H27)/12) -> 0 | J27: =SUM(K27:O27) -> 0 | K27: =TRUNC(SUM(F27:H27)*4.5%) -> 0 | L27: =TRUNC(SUM(F27:H27)*3.06%) -> 0 | M27: =TRUNC(L27*7.38%) -> 0 | N27: =TRUNC(SUM(F27:H27)*0.9%) -> 0 | O27: =TRUNC(SUM(F27:H27)*0.7%) -> 0 | P27: =SUM(F27:J27) -> 0
A28: 21 | I28: =TRUNC(SUM(F28:H28)/12) -> 0 | J28: =SUM(K28:O28) -> 0 | K28: =TRUNC(SUM(F28:H28)*4.5%) -> 0 | L28: =TRUNC(SUM(F28:H28)*3.06%) -> 0 | M28: =TRUNC(L28*7.38%) -> 0 | N28: =TRUNC(SUM(F28:H28)*0.9%) -> 0 | O28: =TRUNC(SUM(F28:H28)*0.7%) -> 0 | P28: =SUM(F28:J28) -> 0
A29: 22 | I29: =TRUNC(SUM(F29:H29)/12) -> 0 | J29: =SUM(K29:O29) -> 0 | K29: =TRUNC(SUM(F29:H29)*4.5%) -> 0 | L29: =TRUNC(SUM(F29:H29)*3.06%) -> 0 | M29: =TRUNC(L29*7.38%) -> 0 | N29: =TRUNC(SUM(F29:H29)*0.9%) -> 0 | O29: =TRUNC(SUM(F29:H29)*0.7%) -> 0 | P29: =SUM(F29:J29) -> 0
A30: 23 | I30: =TRUNC(SUM(F30:H30)/12) -> 0 | J30: =SUM(K30:O30) -> 0 | K30: =TRUNC(SUM(F30:H30)*4.5%) -> 0 | L30: =TRUNC(SUM(F30:H30)*3.06%) -> 0 | M30: =TRUNC(L30*7.38%) -> 0 | N30: =TRUNC(SUM(F30:H30)*0.9%) -> 0 | O30: =TRUNC(SUM(F30:H30)*0.7%) -> 0 | P30: =SUM(F30:J30) -> 0
A31: 24 | I31: =TRUNC(SUM(F31:H31)/12) -> 0 | J31: =SUM(K31:O31) -> 0 | K31: =TRUNC(SUM(F31:H31)*4.5%) -> 0 | L31: =TRUNC(SUM(F31:H31)*3.06%) -> 0 | M31: =TRUNC(L31*7.38%) -> 0 | N31: =TRUNC(SUM(F31:H31)*0.9%) -> 0 | O31: =TRUNC(SUM(F31:H31)*0.7%) -> 0 | P31: =SUM(F31:J31) -> 0
A32: 25 | I32: =TRUNC(SUM(F32:H32)/12) -> 0 | J32: =SUM(K32:O32) -> 0 | K32: =TRUNC(SUM(F32:H32)*4.5%) -> 0 | L32: =TRUNC(SUM(F32:H32)*3.06%) -> 0 | M32: =TRUNC(L32*7.38%) -> 0 | N32: =TRUNC(SUM(F32:H32)*0.9%) -> 0 | O32: =TRUNC(SUM(F32:H32)*0.7%) -> 0 | P32: =SUM(F32:J32) -> 0
A33: 26 | I33: =TRUNC(SUM(F33:H33)/12) -> 0 | J33: =SUM(K33:O33) -> 0 | K33: =TRUNC(SUM(F33:H33)*4.5%) -> 0 | L33: =TRUNC(SUM(F33:H33)*3.06%) -> 0 | M33: =TRUNC(L33*7.38%) -> 0 | N33: =TRUNC(SUM(F33:H33)*0.9%) -> 0 | O33: =TRUNC(SUM(F33:H33)*0.7%) -> 0 | P33: =SUM(F33:J33) -> 0
A34: 27 | I34: =TRUNC(SUM(F34:H34)/12) -> 0 | J34: =SUM(K34:O34) -> 0 | K34: =TRUNC(SUM(F34:H34)*4.5%) -> 0 | L34: =TRUNC(SUM(F34:H34)*3.06%) -> 0 | M34: =TRUNC(L34*7.38%) -> 0 | N34: =TRUNC(SUM(F34:H34)*0.9%) -> 0 | O34: =TRUNC(SUM(F34:H34)*0.7%) -> 0 | P34: =SUM(F34:J34) -> 0
A35: 28 | I35: =TRUNC(SUM(F35:H35)/12) -> 0 | J35: =SUM(K35:O35) -> 0 | K35: =TRUNC(SUM(F35:H35)*4.5%) -> 0 | L35: =TRUNC(SUM(F35:H35)*3.06%) -> 0 | M35: =TRUNC(L35*7.38%) -> 0 | N35: =TRUNC(SUM(F35:H35)*0.9%) -> 0 | O35: =TRUNC(SUM(F35:H35)*0.7%) -> 0 | P35: =SUM(F35:J35) -> 0
A36: 29 | I36: =TRUNC(SUM(F36:H36)/12) -> 0 | J36: =SUM(K36:O36) -> 0 | K36: =TRUNC(SUM(F36:H36)*4.5%) -> 0 | L36: =TRUNC(SUM(F36:H36)*3.06%) -> 0 | M36: =TRUNC(L36*7.38%) -> 0 | N36: =TRUNC(SUM(F36:H36)*0.9%) -> 0 | O36: =TRUNC(SUM(F36:H36)*0.7%) -> 0 | P36: =SUM(F36:J36) -> 0
A37: 30 | I37: =TRUNC(SUM(F37:H37)/12) -> 0 | J37: =SUM(K37:O37) -> 0 | K37: =TRUNC(SUM(F37:H37)*4.5%) -> 0 | L37: =TRUNC(SUM(F37:H37)*3.06%) -> 0 | M37: =TRUNC(L37*7.38%) -> 0 | N37: =TRUNC(SUM(F37:H37)*0.9%) -> 0 | O37: =TRUNC(SUM(F37:H37)*0.7%) -> 0 | P37: =SUM(F37:J37) -> 0
... A67: 60 | I67: =TRUNC(SUM(F67:H67)/12) -> 0 | J67: =SUM(K67:O67) -> 0 | K67: =TRUNC(SUM(F67:H67)*4.5%) -> 0 | L67: =TRUNC(SUM(F67:H67)*3.06%) -> 0 | M67: =TRUNC(L67*7.38%) -> 0 | N67: =TRUNC(SUM(F67:H67)*0.9%) -> 0 | O67: =TRUNC(SUM(F67:H67)*0.7%) -> 0 | P67: =SUM(F67:J67) -> 0
