Workbook

Sheet 1주
B1: 주간 식단표- 더정성CS
B2: 구분 | D2: 43675 | E2: 43676 | F2: 43677 | G2: 43678 | H2: 43679 | I2: 43680 | J2: 43681
D3: 월 | E3: 화 | F3: 수 | G3: 목 | H3: 금 | I3: 토 | J3: 일
B4: 1주 | C4: 아침 | D4: 배추국 | E4: 어묵국 | F4: 홍합무국 | G4: 북어국 | H4: 쇠고기무국 | I4: 순두부맑은국 | J4: 사골물만두국
D5: 야채스크램블에그 | E5: 야채계란찜 | F5: 새우.야채케첩조림 | G5: 오징어젓무침 | H5: 연두부양념장 | I5: 메추리송이조림 | J5: 우엉조림
D6: 연두부 | E6: 돈육.송이장조림 | F6: 곤약무침 | G6: 청포묵무침 | H6: 마늘쫑조림 | I6: 도토리묵무침 | J6: 콩나물무침
D7: 오징어젓무침 | E7: 숙주나물 | F7: 김자반 | G7: 시금치나물 | H7: 애호박나물 | I7: 무우나물 | J7: 미역줄기볶음
D8: 배추김치 | E8: 배추김치 | F8: 배추김치 | G8: 배추김치 | H8: 배추김치 | I8: 배추김치 | J8: 배추김치
D9: 잡곡밥 | E9: 잡곡밥 | F9: 잡곡밥 | G9: 잡곡밥 | H9: 잡곡밥 | I9: 잡곡밥 | J9: 잡곡밥
C10: 죽식 | D10: 흰죽 | E10: 흰죽 | F10: 흰죽 | G10: 흰죽 | H10: 흰죽 | I10: 흰죽 | J10: 흰죽
C11: 점심 | D11: 조갯살콩나물국 | E11: 동태탕 | F11: 호박새우젓국 | G11: 설렁탕 | H11: 아욱국 | I11: 감자.호박된장국 | J11: 물김치
D12: 소불고기 | E12: 우엉조림 | F12: 닭.감자조림 | G12: 천사채샐러드 | H12: 너비아니조림 | I12: 돈육고추장불고기 | J12: 짜장덮밥
D13: 감자.야채볶음 | E13: 단호박샐러드 | F13: 두부스테이크 | G13: 무우생채 | H13: 고사리들깨볶음 | I13: 두부쑥갓무침 | J13: 마카로니,콘샐러드
D14: 오이무침 | E14: 아삭이된장무침 | F14: 가지나물 | H14: 치커리사과무침 | I14: 야채쌈.쌈장 | J14: 단무지참깨무침
D15: 배추김치 | E15: 배추김치 | F15: 배추김치 | G15: 배추김치 | H15: 배추김치 | I15: 배추김치 | J15: 배추김치
D16: 잡곡밥 | E16: 잡곡밥 | F16: 잡곡밥 | G16: 잡곡밥 | H16: 잡곡밥 | I16: 잡곡밥 | J16: 잡곡밥
C17: 죽식 | D17: 쇠고기죽 | E17: 땅콩죽 | F17: 소라죽 | G17: 쇠고기죽 | H17: 단호박죽 | I17: 참깨죽 | J17: 흑임자죽
C18: 저녁 | D18: 쇠고기미역국 | E18: 육개장 | F18: 얼갈이된장국 | G18: 순두부찌개 | H18: 참치김치찌개 | I18: 근대국 | J18: 버섯들깨탕
D19: 오징어야채복음 | E19: 멸치조림 | F19: 꽁치소금구이 | G19: 삼치데리야끼 | H19: 가자미데리야끼 | I19: 고등어카레구이 | J19: 코다리무조림
D20: 마늘쫑조림 | E20: 도토리무침 | F20: 어묵조림 | G20: 건파래무침 | H20: 감자조림 | I20: 브로커리어묵조림 | J20: 연근채조림
D21: 청경채겉절이 | E21: 시금치나물 | F21: 오복지무침 | G21: 느타라볶음 | H21: 취나물무침 | I21: 미역.오이초무침 | J21: 시금치나물
D22: 배추김치 | E22: 배추김치 | F22: 배추김치 | G22: 배추김치 | H22: 배추김치 | I22: 배추김치 | J22: 배추김치
D23: 잡곡밥 | E23: 잡곡밥 | F23: 잡곡밥 | G23: 잡곡밥 | H23: 잡곡밥 | I23: 잡곡밥 | J23: 잡곡밥
C24: 죽식 | D24: 시금치죽 | E24: 단호박죽 | F24: 아욱된장죽 | G24: 들깨미역죽 | H24: 땅콩죽 | I24: 버섯야채죽 | J24: 소라죽
B25: 원산지 | D25: * 쌀,잡곡:국내산 / 배추김치:중국산(HACCP인증) / 우육:호주산, 미국산 / 돈육:국내산 / 계육:국내산, 브라질산 / 가자미,동태:수입산 * 식품수급 사정에 따라 식단표는 조정될수 있습니다

Sheet 2주
B1: 주간 식단표-더정성CS
B2: 구분 | D2: 43682 | E2: 43683 | F2: 43684 | G2: 43685 | H2: 43686 | I2: 43687 | J2: 43688
D3: 월 | E3: 화 | F3: 수 | G3: 목 | H3: 금 | I3: 토 | J3: 일
B4: 2주 | C4: 아침 | D4: 북어국 | E4: 어묵국 | F4: 옥수수스프 | G4: 된장찌개 | H4: 조갯살미역국 | I4: 시금치국 | J4: 사골물만두국
D5: 오징어젓무침 | E5: 새송이야채볶음 | F5: 햄계란샐러드 | G5: 연두부.양념장 | H5: 두부조림 | I5: 계란장조림 | J5: 계란찜
D6: 팽이스크램블에그 | E6: 메추리알장조림 | F6: 잔멸치조림 | G6: 느타리볶음 | H6: 오복지무침 | I6: 청포묵무침 | J6: 감자조림
D7: 어묵볶음 | E7: 무우나물 | F7: 호박나물 | G7: 조개젓무침 | H7: 햄야채케첩조림 | I7: 숙주나물 | J7: 콩나물무침
D8: 배추김치 | E8: 배추김치 | F8: 배추김치 | G8: 배추김치 | H8: 배추김치 | I8: 배추김치 | J8: 배추김치
D9: 잡곡밥 | E9: 잡곡밥 | F9: 잡곡밥 | G9: 잡곡밥 | H9: 잡곡밥 | I9: 잡곡밥 | J9: 잡곡밥
C10: 죽식 | D10: 흰죽 | E10: 흰죽 | F10: 흰죽 | G10: 흰죽 | H10: 흰죽 | I10: 흰죽 | J10: 흰죽
C11: 점심 | D11: 홍합무국 | E11: 근대된장국 | F11: 황태콩나물국 | G11: 청국장 | H11: 쇠고기무우국 | I11: 팽이유부미소국 | J11: 닭개장
D12: 버섯.소불고기 | E12: 생고등어조림 | F12: 돈육불고기 | G12: 꽁치데리야끼 | H12: 청경채겉절이 | I12: 돈안심꽈리장조림 | J12: 청경채겉절이
D13: 숙주나물무침 | E13: 실곤약야채무침 | F13: 김파래무침 | G13: 애호박느타리볶음 | H13: 미트볼조림 | I13: 호박나물 | J13: 단무지참깨무침
D14: 감자채볶음 | E14: 치커리무침 | F14: 취나물무침 | G14: 양배추겉절이 | H14: 양배추겉절이 | I14: 느타리들깨볶음 | J14: 천사채샐러드
D15: 배추김치 | E15: 배추김치 | F15: 배추김치 | G15: 배추김치 | H15: 배추김치 | I15: 배추김치 | J15: 배추김치
D16: 잡곡밥 | E16: 잡곡밥 | F16: 잡곡밥 | G16: 잡곡밥 | H16: 잡곡밥 | I16: 잡곡밥 | J16: 잡곡밥
C17: 죽식 | D17: 버섯야채죽 | E17: 땅콩죽 | F17: 소라죽 | G17: 쇠고기죽 | H17: 버섯야채죽 | I17: 새우살죽 | J17: 단호박죽
C18: 저녁 | D18: 순두부찌개 | E18: 쇠고기미역국 | F18: 해물탕 | G18: 북어국 | H18: 아욱된장국 | I18: 순두부찌개 | J18: 된장찌개
D19: 멸치볶음 | E19: 닭다리살데리야끼 | F19: 고사리들깨복음 | G19: 떡갈비 | H19: 돈육고추장불고기 | I19: 생선까스.소스 | J19: 고등어카레구이
D20: 청포묵무침 | E20: 얼갈이된장지짐 | F20: 우엉조림 | G20: 무우생채 | H20: 두부조림 | I20: 아몬드멸치조림 | J20: 두부쑥갓무침
D21: 오이지무침 | E21: 맛살숙주겨차채 | F21: 콩나물무침 | G21: 마파두부 | H21: 깻잎지무침 | I21: 미역무침 | J21: 어묵조림
D22: 배추김치 | E22: 배추김치 | F22: 배추김치 | G22: 배추김치 | H22: 배추김치 | I22: 배추김치 | J22: 배추김치
D23: 잡곡밥 | E23: 잡곡밥 | F23: 잡곡밥 | G23: 잡곡밥 | H23: 잡곡밥 | I23: 잡곡밥 | J23: 잡곡밥
C24: 죽식 | D24: 새우살야채죽 | E24: 들깨미역죽 | F24: 아욱된장죽 | G24: 단호박죽 | H24: 땅콩죽 | I24: 흑임자죽 | J24: 소라죽
B25: 원산지 | D25: * 쌀,잡곡:국내산 / 배추김치:중국산(HACCP인증) / 우육:호주산, 미국산 / 돈육:국내산 / 계육:국내산, 브라질산 / 가자미,동태:수입산 * 식품수급 사정에 따라 식단표는 조정될수 있습니다

Sheet 3주
B1: 주간 식단표-더정성CS
B2: 구분 | D2: 43689 | E2: 43690 | F2: 43691 | G2: 43692 | H2: 43693 | I2: 43694 | J2: 43695
D3: 월 | E3: 화 | F3: 수 | G3: 목 | H3: 금 | I3: 토 | J3: 일
B4: 3주 | C4: 아침 | D4: 옥수수스프 | E4: 홍합무우국 | F4: 파계란국 | G4: 양송이스프 | H4: 된장찌개 | I4: 쇠고기무우국 | J4: 황태콩나물국
D5: 오징어젓무침 | E5: 청포묵무침 | F5: 메추리알버섯조림 | G5: 햄.계란 샐러드 | H5: 연두부.양념장 | I5: 계란장조림 | J5: 조개젓무침
D6: 스크램블에그 | E6: 돈육.송이장조림 | F6: 감자조림 | G6: 잔멸치볶음 | H6: 느타리볶음 | I6: 우엉조림 | J6: 송이야채볶음
D7: 시금치나물 | E7: 숙주나물 | F7: 오이무침 | G7: 호박나물 | H7: 김자반 | I7: 콩나물무침 | J7: 시금치나물
D8: 배추김치 | E8: 배추김치 | F8: 배추김치 | G8: 배추김치 | H8: 배추김치 | I8: 배추김치 | J8: 배추김치
D9: 잡곡밥 | E9: 잡곡밥 | F9: 잡곡밥 | G9: 잡곡밥 | H9: 잡곡밥 | I9: 잡곡밥 | J9: 잡곡밥
C10: 죽식 | D10: 흰죽 | E10: 흰죽 | F10: 흰죽 | G10: 흰죽 | H10: 흰죽 | I10: 흰죽 | J10: 흰죽
C11: 점심 | D11: 건새우아욱국 | E11: 들깨감자탕 | F11: 팽이유부미소국 | G11: 순두부찌개 | H11: 참치김치찌개 | I11: 된장찌개 | J11: 미소국
D12: 소불고기 | E12: 고등어자반구이 | F12: 돈까스.소스 | G12: 코다리조림 | H12: 닭볶음탕 | I12: 돼지고추장불고기 | J12: 카레소스덮밥
D13: 양배추찜.쌈장 | E13: 양상치샐러드 | F13: 콘.마카로니샐러드 | G13: 고사리나물 | H13: 무우나물 | I13: 야채쌈.쌈장 | J13: 단무지참깨무침
D14: 콩나물무침 | E14: 건파래무침 | F14: 오이지무침 | G14: 콩나물무침 | H14: 취나물무침 | I14: 감자볶음 | J14: 야채샐러드
D15: 배추김치 | E15: 배추김치 | F15: 배추김치 | G15: 배추김치 | H15: 배추김치 | I15: 배추김치 | J15: 배추김치
D16: 잡곡밥 | E16: 잡곡밥 | F16: 잡곡밥 | G16: 잡곡밥 | H16: 잡곡밥 | I16: 잡곡밥 | J16: 잡곡밥
C17: 죽식 | D17: 쇠고기죽 | E17: 땅콩죽 | F17: 참깨죽 | G17: 쇠고기죽 | H17: 버섯야채죽 | I17: 새우살야채죽 | J17: 단호박죽
C18: 저녁 | D18: 순두부찌개 | E18: 고추장찌개 | F18: 동태찌개 | G18: 근대국 | H18: 물만두국 | I18: 홍합미역국 | J18: 어묵국
D19: 꽁치소금구이 | E19: 너바아니조림 | F19: 송이,야채볶음 | G19: 닭가슴살냉채 | H19: 삼데리야끼조림 | I19: 잔멸치볶음 | J19: 고등어조림
D20: 오이.미역무침 | E20: 쑥갓나물 | F20: 가지볶음 | G20: 시금치나물 | H20: 도토리묵무침 | I20: 호박나물 | J20: 느타리들깨볶음
D21: 연근흑임자소스 | E21: 느타리볶음 | F21: 무우생채 | G21: 감자볶음 | H21: 오이숙주나물 | I21: 어묵복음 | J21: 오이지무침
D22: 배추김치 | E22: 배추김치 | F22: 배추김치 | G22: 배추김치 | H22: 배추김치 | I22: 배추김치 | J22: 배추김치
D23: 잡곡밥 | E23: 잡곡밥 | F23: 잡곡밥 | G23: 잡곡밥 | H23: 잡곡밥 | I23: 잡곡밥 | J23: 잡곡밥
C24: 죽식 | D24: 야채죽 | E24: 아욱된장죽 | F24: 쇠고기죽 | G24: 들깨미역죽 | H24: 소라죽 | I24: 땅콩죽 | J24: 흑임자죽
B25: 원산지 | D25: * 쌀,잡곡:국내산 / 배추김치:중국산(HACCP인증) / 우육:호주산, 미국산 / 돈육:국내산 / 계육:국내산, 브라질산 / 가자미,동태:수입산 * 식품수급 사정에 따라 식단표는 조정될수 있습니다

Sheet 4주
B1: 주간 식단표-더정성CS
B2: 구분 | D2: 43696 | E2: 43697 | F2: 43698 | G2: 43699 | H2: 43700 | I2: 43701 | J2: 43702
D3: 월 | E3: 화 | F3: 수 | G3: 목 | H3: 금 | I3: 토 | J3: 일
B4: 4주 | C4: 아침 | D4: 북어국 | E4: 어묵국 | F4: 순두부맑은국 | G4: 된장찌개 | H4: 황태미역국 | I4: 시금치국 | J4: 물만두국
D5: 조개젓무침 | E5: 야채계란찜 | F5: 감자,계란샐러드 | G5: 연두부.양념장 | H5: 느타리볶음 | I5: 마늘쫑조림 | J5: 계란장조림
D6: 팽이스크램블에그 | E6: 돈육송이장조림 | F6: 잔멸치조림 | G6: 김자반 | H6: 콩나물무침 | I6: 청포묵무침 | J6: 감자채볶음
D7: 호박나물 | E7: 무우들깨볶음 | F7: 호박나물 | G7: 오징어젓무침 | H7: 새우야채조림 | I7: 참나물숙주무침 | J7: 시금치나물
D8: 배추김치 | E8: 배추김치 | F8: 배추김치 | G8: 배추김치 | H8: 배추김치 | I8: 배추김치 | J8: 배추김치
D9: 잡곡밥 | E9: 잡곡밥 | F9: 잡곡밥 | G9: 잡곡밥 | H9: 잡곡밥 | I9: 잡곡밥 | J9: 잡곡밥
C10: 죽식 | D10: 흰죽 | E10: 흰죽 | F10: 흰죽 | G10: 흰죽 | H10: 흰죽 | I10: 흰죽 | J10: 흰죽
C11: 점심 | D11: 김치콩나물국 | E11: 얼갈이된장국 | F11: 홍합미역국 | G11: 아욱국 | H11: 팽이유부미소국 | I11: 설렁탕 | J11: 미역냉국
D12: 소불고기 | E12: 꽁치소금구이 | F12: 탕수육 | G12: 삼치데리야끼 | H12: 훈재오리야채볶음 | I12: 아몬드.멸치조림 | J12: 마파두부덮밥
D13: 천사채샐러드 | E13: 가지볶음 | F13: 우엉조림 | G13: 감자,야채카레볶음 | H13: 치커리사과무침 | I13: 단무지참깨무침 | J13: 야채고로케
D14: 오이.미역무침 | E14: 두부쑥갓무침 | F14: 콩나물무침 | G14: 아삭이무침 | H14: 가지볶음 | J14: 양배추샐러드
D15: 배추김치 | E15: 배추김치 | F15: 배추김치 | G15: 배추김치 | H15: 배추김치 | I15: 배추김치 | J15: 배추김치
D16: 잡곡밥 | E16: 잡곡밥 | F16: 잡곡밥 | G16: 잡곡밥 | H16: 잡곡밥 | I16: 잡곡밥 | J16: 잡곡밥
C17: 죽식 | D17: 쇠고기죽 | E17: 땅콩죽 | F17: 소라죽 | G17: 쇠고기죽 | H17: 버섯야채죽 | I17: 참깨죽 | J17: 흑임자죽
C18: 저녁 | D18: 고추장찌개 | E18: 육개장 | F18: 근대국 | G18: 동태탕 | H18: 순두부찌개 | I18: 감자들깨탕 | J18: 아욱국
D19: 새우살야채조림 | E19: 애호박,느타리볶음 | F19: 오징어.야채볶음 | G19: 미역줄기볶음 | H19: 생선까스,소스 | I19: 가오리찜 | J19: 고등어조림
D20: 브로커리어묵볶음 | E20: 도토리묵무침 | F20: 청경채겉절이 | G20: 비엔나케첩조림 | H20: 건파래무침 | I20: 고사리볶음 | J20: 얼갈이나물
D21: 숙주나물 | E21: 쑥갓나물 | F21: 단호박샐러드 | G21: 무우생채 | H21: 애호박볶음 | I21: 취나물무침 | J21: 연근흑임자소스
D22: 배추김치 | E22: 배추김치 | F22: 배추김치 | G22: 배추김치 | H22: 배추김치 | I22: 배추김치 | J22: 배추김치
D23: 잡곡밥 | E23: 잡곡밥 | F23: 잡곡밥 | G23: 잡곡밥 | H23: 잡곡밥 | I23: 잡곡밥 | J23: 잡곡밥
C24: 죽식 | D24: 시금치죽 | E24: 단호박죽 | F24: 아욱된장죽 | G24: 들깨미역죽 | H24: 땅콩죽 | I24: 단호박죽 | J24: 소라죽
B25: 원산지 | D25: * 쌀,잡곡:국내산 / 배추김치:중국산(HACCP인증) / 우육:호주산, 미국산 / 돈육:국내산 / 계육:국내산, 브라질산 / 가자미,동태:수입산 * 식품수급 사정에 따라 식단표는 조정될수 있습니다

Sheet 5주
B1: 주간 식단표-더정성CS
B2: 구분 | D2: 43703 | E2: 43704 | F2: 43705 | G2: 43706 | H2: 43707 | I2: 43708 | J2: 43709
D3: 월 | E3: 화 | F3: 수 | G3: 목 | H3: 금 | I3: 토 | J3: 일
B4: 5주 | C4: 아침 | D4: 북어국 | E4: 어묵국 | F4: 홍합무국 | G4: 크림스프 | H4: 쇠고기무국 | I4: 순두부맑은국 | J4: 물만두국
D5: 오징어젓무침 | E5: 계란.야채찜 | F5: 새우야채케첩조림 | G5: 감자.계란샐러드 | H5: 연두부.양념장 | I5: 메추리알피망조림 | J5: 콩나물무침
D6: 청포묵무침 | E6: 돈육.버섯장조림 | F6: 오이무침 | G6: 마파두부 | H6: 마늘쫑조림 | I6: 도토리묵오이무침 | J6: 우엉조림
D7: 시금치나물 | E7: 숙주나물 | F7: 건파래볶음 | G7: 조개젓무침 | H7: 느타리,호박복음 | I7: 무우나물 | J7: 조미김
D8: 배추김치 | E8: 배추김치 | F8: 배추김치 | G8: 배추김치 | H8: 배추김치 | I8: 배추김치 | J8: 배추김치
D9: 잡곡밥 | E9: 잡곡밥 | F9: 잡곡밥 | G9: 잡곡밥 | H9: 잡곡밥 | I9: 잡곡밥 | J9: 잡곡밥
C10: 죽식 | D10: 흰죽 | E10: 흰죽 | F10: 흰죽 | G10: 흰죽 | H10: 흰죽 | I10: 흰죽 | J10: 흰죽
C11: 점심 | D11: 건새우아욱국 | E11: 동태탕 | F11: 감자호박된장국 | G11: 팽이.유부미소국 | H11: 시금치된장국 | I11: 닭개장 | J11: 어묵국
D12: 소불고기 | E12: 우엉조림 | F12: 돈육고추장불고기 | G12: 생선까스.소스 | H12: 너비아니조림 | I12: 호두멸치볶음 | J12: 짜장소스
D13: 감자.야채볶음 | E13: 단호박샐러드 | F13: 두부.쑥갓무침 | G13: 메추리알조림 | H13: 고사리볶음 | I13: 청경채겉절이 | J13: 두부스테이크
D14: 치커리.사과무침 | E14: 아삭이된장무침 | F14: 오이.상추.쌈장 | G14: 취나물무침 | H14: 근대나물 | I14: 오이지무침 | J14: 양배추샐러드
D15: 배추김치 | E15: 배추김치 | F15: 배추김치 | G15: 배추김치 | H15: 배추김치 | I15: 배추김치 | J15: 배추김치
D16: 잡곡밥 | E16: 잡곡밥 | F16: 잡곡밥 | G16: 잡곡밥 | H16: 잡곡밥 | I16: 잡곡밥 | J16: 잡곡밥
C17: 죽식 | D17: 쇠고기죽 | E17: 땅콩죽 | F17: 단호박죽 | G17: 소라죽 | H17: 버섯야채죽 | I17: 콩죽 | J17: 흑임자죽
C18: 저녁 | D18: 쇠고기미역국 | E18: 육개장 | F18: 들깨탕 | G18: 얼갈이된장국 | H18: 김치콩나물국 | I18: 오징어무국 | J18: 근대국
D19: 삼치데리야끼 | E19: 아몬드멸치조림 | F19: 우엉조림 | G19: 닭다리데리야끼 | H19: 고등어구이 | I19: 실곤약야채무침 | J19: 브로커리굴소스볶음
D20: 콘.마카로니샐러드 | E20: 가지볶음 | F20: 버섯탕수 | G20: 새송이야채볶음 | H20: 감자채볶음 | I20: 코다리조림 | J20: 꽁치소금구이
D21: 취나물무침 | E21: 시금치나물 | F21: 미역.야채초무침 | G21: 무우생채 | H21: 연근흑임자소스 | I21: 시금치나물 | J21: 숙주나물
D22: 배추김치 | E22: 배추김치 | F22: 배추김치 | G22: 배추김치 | H22: 배추김치 | I22: 배추김치 | J22: 배추김치
D23: 잡곡밥 | E23: 잡곡밥 | F23: 잡곡밥 | G23: 잡곡밥 | H23: 잡곡밥 | I23: 잡곡밥 | J23: 잡곡밥
C24: 죽식 | D24: 새우살야채죽 | E24: 소라죽 | F24: 참깨죽 | G24: 아욱된장죽 | H24: 땅콩죽 | I24: 단호박죽 | J24: 야채죽
B25: 원산지 | D25: * 쌀,잡곡:국내산 / 배추김치:중국산(HACCP인증) / 우육:호주산, 미국산 / 돈육:국내산 / 계육:국내산, 브라질산 / 가자미,동태:수입산 * 식품수급 사정에 따라 식단표는 조정될수 있습니다

Sheet 월전체
B1: 8월식단표-더정성CS
B2: 구분 | D2: 43675 | E2: 43676 | F2: 43677 | G2: 43678 | H2: 43679 | I2: 43680 | J2: 43681
D3: 월 | E3: 화 | F3: 수 | G3: 목 | H3: 금 | I3: 토 | J3: 일
B4: 1주 | C4: 아침 | D4: 배추국 | E4: 어묵국 | F4: 홍합무국 | G4: 북어국 | H4: 쇠고기무국 | I4: 순두부맑은국 | J4: 사골물만두국
D5: 야채스크램블에그 | E5: 야채계란찜 | F5: 새우.야채케첩조림 | G5: 오징어젓무침 | H5: 연두부양념장 | I5: 메추리송이조림 | J5: 우엉조림
D6: 연두부 | E6: 돈육.송이장조림 | F6: 곤약무침 | G6: 청포묵무침 | H6: 마늘쫑조림 | I6: 도토리묵무침 | J6: 콩나물무침
D7: 오징어젓무침 | E7: 숙주나물 | F7: 김자반 | G7: 시금치나물 | H7: 애호박나물 | I7: 무우나물 | J7: 미역줄기볶음
D8: 배추김치 | E8: 배추김치 | F8: 배추김치 | G8: 배추김치 | H8: 배추김치 | I8: 배추김치 | J8: 배추김치
D9: 잡곡밥 | E9: 잡곡밥 | F9: 잡곡밥 | G9: 잡곡밥 | H9: 잡곡밥 | I9: 잡곡밥 | J9: 잡곡밥
C10: 죽식 | D10: 흰죽 | E10: 흰죽 | F10: 흰죽 | G10: 흰죽 | H10: 흰죽 | I10: 흰죽 | J10: 흰죽
C11: 점심 | D11: 조갯살콩나물국 | E11: 동태탕 | F11: 호박새우젓국 | G11: 설렁탕 | H11: 아욱국 | I11: 감자.호박된장국 | J11: 물김치
D12: 소불고기 | E12: 우엉조림 | F12: 닭.감자조림 | G12: 천사채샐러드 | H12: 너비아니조림 | I12: 돈육고추장불고기 | J12: 짜장덮밥
D13: 감자.야채볶음 | E13: 단호박샐러드 | F13: 두부스테이크 | G13: 무우생채 | H13: 고사리들깨볶음 | I13: 두부쑥갓무침 | J13: 마카로니,콘샐러드
D14: 오이무침 | E14: 아삭이된장무침 | F14: 가지나물 | H14: 치커리사과무침 | I14: 야채쌈.쌈장 | J14: 단무지참깨무침
D15: 배추김치 | E15: 배추김치 | F15: 배추김치 | G15: 배추김치 | H15: 배추김치 | I15: 배추김치 | J15: 배추김치
D16: 잡곡밥 | E16: 잡곡밥 | F16: 잡곡밥 | G16: 잡곡밥 | H16: 잡곡밥 | I16: 잡곡밥 | J16: 잡곡밥
C17: 죽식 | D17: 쇠고기죽 | E17: 땅콩죽 | F17: 소라죽 | G17: 쇠고기죽 | H17: 단호박죽 | I17: 참깨죽 | J17: 흑임자죽
C18: 저녁 | D18: 쇠고기미역국 | E18: 육개장 | F18: 얼갈이된장국 | G18: 순두부찌개 | H18: 참치김치찌개 | I18: 근대국 | J18: 버섯들깨탕
D19: 오징어야채복음 | E19: 멸치조림 | F19: 꽁치소금구이 | G19: 삼치데리야끼 | H19: 가자미데리야끼 | I19: 고등어카레구이 | J19: 코다리무조림
D20: 마늘쫑조림 | E20: 도토리무침 | F20: 어묵조림 | G20: 건파래무침 | H20: 감자조림 | I20: 브로커리어묵조림 | J20: 연근채조림
D21: 청경채겉절이 | E21: 시금치나물 | F21: 오복지무침 | G21: 느타리볶음 | H21: 취나물무침 | I21: 미역.오이초무침 | J21: 시금치나물
D22: 배추김치 | E22: 배추김치 | F22: 배추김치 | G22: 배추김치 | H22: 배추김치 | I22: 배추김치 | J22: 배추김치
D23: 잡곡밥 | E23: 잡곡밥 | F23: 잡곡밥 | G23: 잡곡밥 | H23: 잡곡밥 | I23: 잡곡밥 | J23: 잡곡밥
C24: 죽식 | D24: 시금치죽 | E24: 단호박죽 | F24: 아욱된장죽 | G24: 들깨미역죽 | H24: 땅콩죽 | I24: 버섯야채죽 | J24: 소라죽
B25: 구분 | D25: ='2주'!D2 -> 43682 | E25: ='2주'!E2 -> 43683 | F25: ='2주'!F2 -> 43684 | G25: ='2주'!G2 -> 43685 | H25: ='2주'!H2 -> 43686 | I25: ='2주'!I2 -> 43687 | J25: ='2주'!J2 -> 43688
D26: ='2주'!D3 -> 월 | E26: ='2주'!E3 -> 화 | F26: ='2주'!F3 -> 수 | G26: ='2주'!G3 -> 목 | H26: ='2주'!H3 -> 금 | I26: ='2주'!I3 -> 토 | J26: ='2주'!J3 -> 일
B27: 2주 | C27: 아침 | D27: ='2주'!D4 -> 북어국 | E27: ='2주'!E4 -> 어묵국 | F27: ='2주'!F4 -> 옥수수스프 | G27: ='2주'!G4 -> 된장찌개 | H27: ='2주'!H4 -> 조갯살미역국 | I27: ='2주'!I4 -> 시금치국 | J27: ='2주'!J4 -> 사골물만두국
D28: ='2주'!D5 -> 오징어젓무침 | E28: ='2주'!E5 -> 새송이야채볶음 | F28: ='2주'!F5 -> 햄계란샐러드 | G28: ='2주'!G5 -> 연두부.양념장 | H28: ='2주'!H5 -> 두부조림 | I28: ='2주'!I5 -> 계란장조림 | J28: ='2주'!J5 -> 계란찜
D29: ='2주'!D6 -> 팽이스크램블에그 | E29: ='2주'!E6 -> 메추리알장조림 | F29: ='2주'!F6 -> 잔멸치조림 | G29: ='2주'!G6 -> 느타리볶음 | H29: ='2주'!H6 -> 오복지무침 | I29: ='2주'!I6 -> 청포묵무침 | J29: ='2주'!J6 -> 감자조림
D30: ='2주'!D7 -> 어묵볶음 | E30: ='2주'!E7 -> 무우나물 | F30: ='2주'!F7 -> 호박나물 | G30: ='2주'!G7 -> 조개젓무침 | H30: ='2주'!H7 -> 햄야채케첩조림 | I30: ='2주'!I7 -> 숙주나물 | J30: ='2주'!J7 -> 콩나물무침
D31: ='2주'!D8 -> 배추김치 | E31: ='2주'!E8 -> 배추김치 | F31: ='2주'!F8 -> 배추김치 | G31: ='2주'!G8 -> 배추김치 | H31: ='2주'!H8 -> 배추김치 | I31: ='2주'!I8 -> 배추김치 | J31: ='2주'!J8 -> 배추김치
D32: ='2주'!D9 -> 잡곡밥 | E32: ='2주'!E9 -> 잡곡밥 | F32: ='2주'!F9 -> 잡곡밥 | G32: ='2주'!G9 -> 잡곡밥 | H32: ='2주'!H9 -> 잡곡밥 | I32: ='2주'!I9 -> 잡곡밥 | J32: ='2주'!J9 -> 잡곡밥
C33: 죽식 | D33: ='2주'!D10 -> 흰죽 | E33: ='2주'!E10 -> 흰죽 | F33: ='2주'!F10 -> 흰죽 | G33: ='2주'!G10 -> 흰죽 | H33: ='2주'!H10 -> 흰죽 | I33: ='2주'!I10 -> 흰죽 | J33: ='2주'!J10 -> 흰죽
C34: 점심 | D34: ='2주'!D11 -> 홍합무국 | E34: ='2주'!E11 -> 근대된장국 | F34: ='2주'!F11 -> 황태콩나물국 | G34: ='2주'!G11 -> 청국장 | H34: ='2주'!H11 -> 쇠고기무우국 | I34: ='2주'!I11 -> 팽이유부미소국 | J34: ='2주'!J11 -> 닭개장
D35: ='2주'!D12 -> 버섯.소불고기 | E35: ='2주'!E12 -> 생고등어조림 | F35: ='2주'!F12 -> 돈육불고기 | G35: ='2주'!G12 -> 꽁치데리야끼 | H35: ='2주'!H12 -> 청경채겉절이 | I35: ='2주'!I12 -> 돈안심꽈리장조림 | J35: ='2주'!J12 -> 청경채겉절이
D36: ='2주'!D13 -> 숙주나물무침 | E36: ='2주'!E13 -> 실곤약야채무침 | F36: ='2주'!F13 -> 김파래무침 | G36: ='2주'!G13 -> 애호박느타리볶음 | H36: ='2주'!H13 -> 미트볼조림 | I36: ='2주'!I13 -> 호박나물 | J36: ='2주'!J13 -> 단무지참깨무침
D37: ='2주'!D14 -> 감자채볶음 | E37: ='2주'!E14 -> 치커리무침 | F37: ='2주'!F14 -> 취나물무침 | G37: ='2주'!G14 -> 양배추겉절이 | H37: ='2주'!H14 -> 양배추겉절이 | I37: ='2주'!I14 -> 느타리들깨볶음 | J37: ='2주'!J14 -> 천사채샐러드
D38: ='2주'!D15 -> 배추김치 | E38: ='2주'!E15 -> 배추김치 | F38: ='2주'!F15 -> 배추김치 | G38: ='2주'!G15 -> 배추김치 | H38: ='2주'!H15 -> 배추김치 | I38: ='2주'!I15 -> 배추김치 | J38: ='2주'!J15 -> 배추김치
D39: ='2주'!D16 -> 잡곡밥 | E39: ='2주'!E16 -> 잡곡밥 | F39: ='2주'!F16 -> 잡곡밥 | G39: ='2주'!G16 -> 잡곡밥 | H39: ='2주'!H16 -> 잡곡밥 | I39: ='2주'!I16 -> 잡곡밥 | J39: ='2주'!J16 -> 잡곡밥
C40: 죽식 | D40: ='2주'!D17 -> 버섯야채죽 | E40: ='2주'!E17 -> 땅콩죽 | F40: ='2주'!F17 -> 소라죽 | G40: ='2주'!G17 -> 쇠고기죽 | H40: ='2주'!H17 -> 버섯야채죽 | I40: ='2주'!I17 -> 새우살죽 | J40: ='2주'!J17 -> 단호박죽
C41: 저녁 | D41: ='2주'!D18 -> 순두부찌개 | E41: ='2주'!E18 -> 쇠고기미역국 | F41: ='2주'!F18 -> 해물탕 | G41: ='2주'!G18 -> 북어국 | H41: ='2주'!H18 -> 아욱된장국 | I41: ='2주'!I18 -> 순두부찌개 | J41: ='2주'!J18 -> 된장찌개
D42: ='2주'!D19 -> 멸치볶음 | E42: ='2주'!E19 -> 닭다리살데리야끼 | F42: ='2주'!F19 -> 고사리들깨복음 | G42: ='2주'!G19 -> 떡갈비 | H42: ='2주'!H19 -> 돈육고추장불고기 | I42: ='2주'!I19 -> 생선까스.소스 | J42: ='2주'!J19 -> 고등어카레구이
D43: ='2주'!D20 -> 청포묵무침 | E43: ='2주'!E20 -> 얼갈이된장지짐 | F43: ='2주'!F20 -> 우엉조림 | G43: ='2주'!G20 -> 무우생채 | H43: ='2주'!H20 -> 두부조림 | I43: ='2주'!I20 -> 아몬드멸치조림 | J43: ='2주'!J20 -> 두부쑥갓무침
D44: ='2주'!D21 -> 오이지무침 | E44: ='2주'!E21 -> 맛살숙주겨차채 | F44: ='2주'!F21 -> 콩나물무침 | G44: ='2주'!G21 -> 마파두부 | H44: ='2주'!H21 -> 깻잎지무침 | I44: ='2주'!I21 -> 미역무침 | J44: ='2주'!J21 -> 어묵조림
D45: ='2주'!D22 -> 배추김치 | E45: ='2주'!E22 -> 배추김치 | F45: ='2주'!F22 -> 배추김치 | G45: ='2주'!G22 -> 배추김치 | H45: ='2주'!H22 -> 배추김치 | I45: ='2주'!I22 -> 배추김치 | J45: ='2주'!J22 -> 배추김치
D46: ='2주'!D23 -> 잡곡밥 | E46: ='2주'!E23 -> 잡곡밥 | F46: ='2주'!F23 -> 잡곡밥 | G46: ='2주'!G23 -> 잡곡밥 | H46: ='2주'!H23 -> 잡곡밥 | I46: ='2주'!I23 -> 잡곡밥 | J46: ='2주'!J23 -> 잡곡밥
C47: 죽식 | D47: ='2주'!D24 -> 새우살야채죽 | E47: ='2주'!E24 -> 들깨미역죽 | F47: ='2주'!F24 -> 아욱된장죽 | G47: ='2주'!G24 -> 단호박죽 | H47: ='2주'!H24 -> 땅콩죽 | I47: ='2주'!I24 -> 흑임자죽 | J47: ='2주'!J24 -> 소라죽
B48: 원산지 | D48: * 쌀,잡곡:국내산 / 배추김치:국내산 / 우육:호주산 / 돈육,계육:국내산 / 가자미,동태:수입산 * 식품수급 사정에 따라 식단표는 조정될수 있습니다
B49: 8월식단표-더정성CS
B50: 구분 | D50: 43689 | E50: 43690 | F50: 43691 | G50: 43692 | H50: 43693 | I50: 43694 | J50: 43695
D51: 월 | E51: 화 | F51: 수 | G51: 목 | H51: 금 | I51: 토 | J51: 일
B52: 3주 | C52: 아침 | D52: 옥수수스프 | E52: 홍합무우국 | F52: 파계란국 | G52: 양송이스프 | H52: 된장찌개 | I52: 쇠고기무우국 | J52: 황태콩나물국
D53: 오징어젓무침 | E53: 청포묵무침 | F53: 메추리알버섯조림 | G53: 햄.계란 샐러드 | H53: 연두부.양념장 | I53: 계란장조림 | J53: 조개젓무침
D54: 스크램블에그 | E54: 돈육.송이장조림 | F54: 감자조림 | G54: 잔멸치볶음 | H54: 느타리볶음 | I54: 우엉조림 | J54: 송이야채볶음
D55: 시금치나물 | E55: 숙주나물 | F55: 오이무침 | G55: 호박나물 | H55: 김자반 | I55: 콩나물무침 | J55: 시금치나물
D56: 배추김치 | E56: 배추김치 | F56: 배추김치 | G56: 배추김치 | H56: 배추김치 | I56: 배추김치 | J56: 배추김치
D57: 잡곡밥 | E57: 잡곡밥 | F57: 잡곡밥 | G57: 잡곡밥 | H57: 잡곡밥 | I57: 잡곡밥 | J57: 잡곡밥
C58: 죽식 | D58: 흰죽 | E58: 흰죽 | F58: 흰죽 | G58: 흰죽 | H58: 흰죽 | I58: 흰죽 | J58: 흰죽
C59: 점심 | D59: 건새우아욱국 | E59: 들깨감자탕 | F59: 팽이유부미소국 | G59: 순두부찌개 | H59: 참치김치찌개 | I59: 된장찌개 | J59: 미소국
D60: 소불고기 | E60: 고등어자반구이 | F60: 돈까스.소스 | G60: 코다리조림 | H60: 닭강정 | I60: 돼지고추장불고기 | J60: 카레소스덮밥
D61: 양배추찜.쌈장 | E61: 양상치샐러드 | F61: 콘.마카로니샐러드 | G61: 고사리나물 | H61: 도라지나물 | I61: 깻잎.상추.쌈장 | J61: 단무지참깨무침
D62: 콩나물무침 | E62: 건파래무침 | F62: 오이지무침 | G62: 방풍나물무침 | H62: 취나물무침 | I62: 감자볶음 | J62: 과일샐러드
D63: 배추김치 | E63: 배추김치 | F63: 배추김치 | G63: 배추김치 | H63: 배추김치 | I63: 배추김치 | J63: 배추김치
D64: 잡곡밥 | E64: 잡곡밥 | F64: 잡곡밥 | G64: 잡곡밥 | H64: 잡곡밥 | I64: 잡곡밥 | J64: 잡곡밥
C65: 죽식 | D65: 쇠고기죽 | E65: 땅콩죽 | F65: 참깨죽 | G65: 쇠고기죽 | H65: 버섯야채죽 | I65: 새우살야채죽 | J65: 단호박죽
C66: 저녁 | D66: 순두부찌개 | E66: 고추장찌개 | F66: 동태찌개 | G66: 근대국 | H66: 물만두국 | I66: 홍합미역국 | J66: 어묵국
D67: 꽁치소금구이 | E67: 너바아니조림 | F67: 새우.송이케첩조림 | G67: 닭가슴살냉채 | H67: 삼치조림 | I67: 잔멸치볶음 | J67: 고등어조림
D68: 오이.미역무침 | E68: 쑥갓나물 | F68: 가지볶음 | G68: 시금치나물 | H68: 도토리묵무침 | I68: 호박나물 | J68: 느타리들깨볶음
D69: 연근흑임자소스 | E69: 느타리볶음 | F69: 무우생채 | G69: 감자볶음 | H69: 오이숙주나물 | I69: 쭈꾸미복음 | J69: 오이지무침
D70: 배추김치 | E70: 배추김치 | F70: 배추김치 | G70: 배추김치 | H70: 배추김치 | I70: 배추김치 | J70: 배추김치
D71: 잡곡밥 | E71: 잡곡밥 | F71: 잡곡밥 | G71: 잡곡밥 | H71: 잡곡밥 | I71: 잡곡밥 | J71: 잡곡밥
C72: 죽식 | D72: 야채죽 | E72: 아욱된장죽 | F72: 쇠고기죽 | G72: 들깨미역죽 | H72: 소라죽 | I72: 땅콩죽 | J72: 흑임자죽
B73: 구분 | D73: 43696 | E73: 43697 | F73: 43698 | G73: 43699 | H73: 43700 | I73: 43701 | J73: 43702
D74: 월 | E74: 화 | F74: 수 | G74: 목 | H74: 금 | I74: 토 | J74: 일
B75: 4주 | C75: 아침 | D75: 북어국 | E75: 어묵국 | F75: 순두부맑은국 | G75: 된장찌개 | H75: 황태미역국 | I75: 시금치국 | J75: 물만두국
D76: 조개젓무침 | E76: 야채계란찜 | F76: 감자,계란샐러드 | G76: 연두부.양념장 | H76: 느타리볶음 | I76: 마늘쫑조림 | J76: 계란장조림
D77: 팽이스크램블에그 | E77: 돈육송이장조림 | F77: 잔멸치조림 | G77: 김자반 | H77: 콩나물무침 | I77: 청포묵무침 | J77: 감자채볶음
D78: 호박나물 | E78: 무우들깨볶음 | F78: 호박나물 | G78: 오징어젓무침 | H78: 새우야채조림 | I78: 참나물숙주무침 | J78: 시금치나물
D79: 배추김치 | E79: 배추김치 | F79: 배추김치 | G79: 배추김치 | H79: 배추김치 | I79: 배추김치 | J79: 배추김치
D80: 잡곡밥 | E80: 잡곡밥 | F80: 잡곡밥 | G80: 잡곡밥 | H80: 잡곡밥 | I80: 잡곡밥 | J80: 잡곡밥
C81: 죽식 | D81: 흰죽 | E81: 흰죽 | F81: 흰죽 | G81: 흰죽 | H81: 흰죽 | I81: 흰죽 | J81: 흰죽
C82: 점심 | D82: 김치콩나물국 | E82: 얼갈이된장국 | F82: 홍합미역국 | G82: 아욱국 | H82: 팽이유부미소국 | I82: 설렁탕 | J82: 미역냉국
D83: 소불고기 | E83: 꽁치소금구이 | F83: 탕수육 | G83: 삼치데리야끼 | H83: 훈재오리야채볶음 | I83: 아몬드.멸치조림 | J83: 마파두부덮밥
D84: 천사채샐러드 | E84: 가지볶음 | F84: 우엉조림 | G84: 감자,야채카레볶음 | H84: 치커리사과무침 | I84: 단무지참깨무침 | J84: 야채고로케
D85: 오이.미역무침 | E85: 두부쑥갓무침 | F85: 콩나물무침 | G85: 아삭이무침 | H85: 가지볶음 | J85: 양배추샐러드
D86: 배추김치 | E86: 배추김치 | F86: 배추김치 | G86: 배추김치 | H86: 배추김치 | I86: 배추김치 | J86: 배추김치
D87: 잡곡밥 | E87: 잡곡밥 | F87: 잡곡밥 | G87: 잡곡밥 | H87: 잡곡밥 | I87: 잡곡밥 | J87: 잡곡밥
C88: 죽식 | D88: 쇠고기죽 | E88: 땅콩죽 | F88: 소라죽 | G88: 쇠고기죽 | H88: 버섯야채죽 | I88: 참깨죽 | J88: 흑임자죽
C89: 저녁 | D89: 고추장찌개 | E89: 육개장 | F89: 근대국 | G89: 동태탕 | H89: 순두부찌개 | I89: 감자들깨탕 | J89: 아욱국
D90: 새우살야채조림 | E90: 애호박,느타리볶음 | F90: 오징어.야채볶음 | G90: 미역줄기볶음 | H90: 생선까스,소스 | I90: 가오리찜 | J90: 고등어조림
D91: 브로커리어묵볶음 | E91: 도토리묵무침 | F91: 청경채겉절이 | G91: 비엔나케첩조림 | H91: 건파래무침 | I91: 고사리볶음 | J91: 얼갈이나물
D92: 숙주나물 | E92: 쑥갓나물 | F92: 단호박샐러드 | G92: 무우생채 | H92: 애호박볶음 | I92: 취나물무침 | J92: 연근흑임자소스
D93: 배추김치 | E93: 배추김치 | F93: 배추김치 | G93: 배추김치 | H93: 배추김치 | I93: 배추김치 | J93: 배추김치
D94: 잡곡밥 | E94: 잡곡밥 | F94: 잡곡밥 | G94: 잡곡밥 | H94: 잡곡밥 | I94: 잡곡밥 | J94: 잡곡밥
C95: 죽식 | D95: 시금치죽 | E95: 단호박죽 | F95: 아욱된장죽 | G95: 들깨미역죽 | H95: 땅콩죽 | I95: 단호박죽 | J95: 소라죽
B96: 구분 | D96: 43703 | E96: 43704 | F96: 43705 | G96: 43706 | H96: 43707 | I96: 43708 | J96: 43709
D97: 월 | E97: 화 | F97: 수 | G97: 목 | H97: 금 | I97: 토 | J97: 일
B98: 5주 | C98: 아침 | D98: 북어국 | E98: 어묵국 | F98: 홍합무국 | G98: 크림스프 | H98: 쇠고기무국 | I98: 순두부맑은국 | J98: 물만두국
D99: 오징어젓무침 | E99: 계란.야채찜 | F99: 새우야채케첩조림 | G99: 감자.계란샐러드 | H99: 연두부.양념장 | I99: 메추리알피망조림 | J99: 콩나물무침
D100: 청포묵무침 | E100: 돈육.버섯장조림 | F100: 오이무침 | G100: 마파두부 | H100: 마늘쫑조림 | I100: 도토리묵오이무침 | J100: 우엉조림
...
